Workbook

Sheet Rider List
A1: Rider Details | G1: Scratch Race Points | P1: Handicap Race Points
A2: No. | B2: Forename | C2: Name | D2: Club/Team Name | E2: Cat. | G2: Week 1 | H2: Week 2 | I2: Week 3 | J2: Week 4 | K2: Week 5 | L2: Week 6 | M2: Week 7 | N2: Total Points | P2: Week 1 | Q2: Week 2 | R2: Week 3 | S2: Week 4 | T2: Week 5 | U2: Week 6 | V2: Week 7 | W2: Total Points
A3: SENIOR
A4: 1 | B4: Harry | C4: Hunt | D4: Otley CC | E4: 3U23 | G4: =SUMIFS('Week 1 13th May'!I$2:I$150,'Week 1 13th May'!D$2:D$150,'Rider List'!A4) -> 11 | H4: =SUMIFS('Week 2 20th May'!I$2:I$150,'Week 2 20th May'!D$2:D$150,'Rider List'!A4) -> 8 | I4: =SUMIFS('Week 3 3rd June'!I$2:I$150,'Week 3 3rd June'!D$2:D$150,'Rider List'!A4) -> 5 | J4: =SUMIFS('Week 4 8th July'!I$2:I$150,'Week 4 8th July'!D$2:D$150,'Rider List'!A4) -> 6 | K4: =SUMIFS('Week 5 22nd July'!I$2:I$150,'Week 5 22nd July'!D$2:D$150,'Rider List'!A4) -> 11 | L4: =SUMIFS('Week 6 29th July'!I$2:I$150,'Week 6 29th July'!D$2:D$150,'Rider List'!A4) -> 6 | N4: =SUM(G4:M4) -> 47 | P4: =SUMIFS('Week 1 13th May'!J$2:J$150,'Week 1 13th May'!D$2:D$150,'Rider List'!A4) -> 2 | Q4: =SUMIFS('Week 2 20th May'!J$2:J$150,'Week 2 20th May'!D$2:D$150,'Rider List'!A4) -> 0 | R4: =SUMIFS('Week 3 3rd June'!J$2:J$150,'Week 3 3rd June'!D$2:D$150,'Rider List'!A4) -> 0 | S4: =SUMIFS('Week 4 8th July'!J$2:J$150,'Week 4 8th July'!D$2:D$150,'Rider List'!A4) -> 0 | T4: =SUMIFS('Week 5 22nd July'!J$2:J$150,'Week 5 22nd July'!D$2:D$150,'Rider List'!A4) -> 1 | U4: =SUMIFS('Week 6 29th July'!J$2:J$150,'Week 6 29th July'!D$2:D$150,'Rider List'!A4) -> 6 | W4: =SUM(P4:V4) -> 9
A5: 2 | B5: Jonathan | C5: Hunt | D5: Otley CC | E5: V | G5: =SUMIFS('Week 1 13th May'!I$2:I$150,'Week 1 13th May'!D$2:D$150,'Rider List'!A5) -> 0 | H5: =SUMIFS('Week 2 20th May'!I$2:I$150,'Week 2 20th May'!D$2:D$150,'Rider List'!A5) -> 0 | I5: =SUMIFS('Week 3 3rd June'!I$2:I$150,'Week 3 3rd June'!D$2:D$150,'Rider List'!A5) -> 0 | J5: =SUMIFS('Week 4 8th July'!I$2:I$150,'Week 4 8th July'!D$2:D$150,'Rider List'!A5) -> 0 | K5: =SUMIFS('Week 5 22nd July'!I$2:I$150,'Week 5 22nd July'!D$2:D$150,'Rider List'!A5) -> 0 | L5: =SUMIFS('Week 6 29th July'!I$2:I$150,'Week 6 29th July'!D$2:D$150,'Rider List'!A5) -> 0 | N5: =SUM(G5:M5) -> 0 | P5: =SUMIFS('Week 1 13th May'!J$2:J$150,'Week 1 13th May'!D$2:D$150,'Rider List'!A5) -> 0 | Q5: =SUMIFS('Week 2 20th May'!J$2:J$150,'Week 2 20th May'!D$2:D$150,'Rider List'!A5) -> 0 | R5: =SUMIFS('Week 3 3rd June'!J$2:J$150,'Week 3 3rd June'!D$2:D$150,'Rider List'!A5) -> 0 | S5: =SUMIFS('Week 4 8th July'!J$2:J$150,'Week 4 8th July'!D$2:D$150,'Rider List'!A5) -> 0 | T5: =SUMIFS('Week 5 22nd July'!J$2:J$150,'Week 5 22nd July'!D$2:D$150,'Rider List'!A5) -> 0 | U5: =SUMIFS('Week 6 29th July'!J$2:J$150,'Week 6 29th July'!D$2:D$150,'Rider List'!A5) -> 0 | W5: =SUM(P5:V5) -> 0
A6: 4 | B6: Nicholas | C6: Islip | D6: West Riding Track League | E6: V4 | G6: =SUMIFS('Week 1 13th May'!I$2:I$150,'Week 1 13th May'!D$2:D$150,'Rider List'!A6) -> 0 | H6: =SUMIFS('Week 2 20th May'!I$2:I$150,'Week 2 20th May'!D$2:D$150,'Rider List'!A6) -> 0 | I6: =SUMIFS('Week 3 3rd June'!I$2:I$150,'Week 3 3rd June'!D$2:D$150,'Rider List'!A6) -> 0 | J6: =SUMIFS('Week 4 8th July'!I$2:I$150,'Week 4 8th July'!D$2:D$150,'Rider List'!A6) -> 0 | K6: =SUMIFS('Week 5 22nd July'!I$2:I$150,'Week 5 22nd July'!D$2:D$150,'Rider List'!A6) -> 0 | L6: =SUMIFS('Week 6 29th July'!I$2:I$150,'Week 6 29th July'!D$2:D$150,'Rider List'!A6) -> 0 | N6: =SUM(G6:M6) -> 0 | P6: =SUMIFS('Week 1 13th May'!J$2:J$150,'Week 1 13th May'!D$2:D$150,'Rider List'!A6) -> 0 | Q6: =SUMIFS('Week 2 20th May'!J$2:J$150,'Week 2 20th May'!D$2:D$150,'Rider List'!A6) -> 0 | R6: =SUMIFS('Week 3 3rd June'!J$2:J$150,'Week 3 3rd June'!D$2:D$150,'Rider List'!A6) -> 0 | S6: =SUMIFS('Week 4 8th July'!J$2:J$150,'Week 4 8th July'!D$2:D$150,'Rider List'!A6) -> 0 | T6: =SUMIFS('Week 5 22nd July'!J$2:J$150,'Week 5 22nd July'!D$2:D$150,'Rider List'!A6) -> 0 | U6: =SUMIFS('Week 6 29th July'!J$2:J$150,'Week 6 29th July'!D$2:D$150,'Rider List'!A6) -> 0 | W6: =SUM(P6:V6) -> 0
A7: 5 | B7: Anthony | C7: Jones | D7: Knottingley Velo | E7: V3 | G7: =SUMIFS('Week 1 13th May'!I$2:I$150,'Week 1 13th May'!D$2:D$150,'Rider List'!A7) -> 2 | H7: =SUMIFS('Week 2 20th May'!I$2:I$150,'Week 2 20th May'!D$2:D$150,'Rider List'!A7) -> 1 | I7: =SUMIFS('Week 3 3rd June'!I$2:I$150,'Week 3 3rd June'!D$2:D$150,'Rider List'!A7) -> 3 | J7: =SUMIFS('Week 4 8th July'!I$2:I$150,'Week 4 8th July'!D$2:D$150,'Rider List'!A7) -> 2 | K7: =SUMIFS('Week 5 22nd July'!I$2:I$150,'Week 5 22nd July'!D$2:D$150,'Rider List'!A7) -> 0 | L7: =SUMIFS('Week 6 29th July'!I$2:I$150,'Week 6 29th July'!D$2:D$150,'Rider List'!A7) -> 2 | N7: =SUM(G7:M7) -> 10 | P7: =SUMIFS('Week 1 13th May'!J$2:J$150,'Week 1 13th May'!D$2:D$150,'Rider List'!A7) -> 1 | Q7: =SUMIFS('Week 2 20th May'!J$2:J$150,'Week 2 20th May'!D$2:D$150,'Rider List'!A7) -> 1 | R7: =SUMIFS('Week 3 3rd June'!J$2:J$150,'Week 3 3rd June'!D$2:D$150,'Rider List'!A7) -> 1 | S7: =SUMIFS('Week 4 8th July'!J$2:J$150,'Week 4 8th July'!D$2:D$150,'Rider List'!A7) -> 0 | T7: =SUMIFS('Week 5 22nd July'!J$2:J$150,'Week 5 22nd July'!D$2:D$150,'Rider List'!A7) -> 0 | U7: =SUMIFS('Week 6 29th July'!J$2:J$150,'Week 6 29th July'!D$2:D$150,'Rider List'!A7) -> 2 | W7: =SUM(P7:V7) -> 5
A8: 6 | B8: Anthony | C8: Kitching | D8: East Bradford CC | E8: V | G8: =SUMIFS('Week 1 13th May'!I$2:I$150,'Week 1 13th May'!D$2:D$150,'Rider List'!A8) -> 3 | H8: =SUMIFS('Week 2 20th May'!I$2:I$150,'Week 2 20th May'!D$2:D$150,'Rider List'!A8) -> 1 | I8: =SUMIFS('Week 3 3rd June'!I$2:I$150,'Week 3 3rd June'!D$2:D$150,'Rider List'!A8) -> 0 | J8: =SUMIFS('Week 4 8th July'!I$2:I$150,'Week 4 8th July'!D$2:D$150,'Rider List'!A8) -> 0 | K8: =SUMIFS('Week 5 22nd July'!I$2:I$150,'Week 5 22nd July'!D$2:D$150,'Rider List'!A8) -> 0 | L8: =SUMIFS('Week 6 29th July'!I$2:I$150,'Week 6 29th July'!D$2:D$150,'Rider List'!A8) -> 0 | N8: =SUM(G8:M8) -> 4 | P8: =SUMIFS('Week 1 13th May'!J$2:J$150,'Week 1 13th May'!D$2:D$150,'Rider List'!A8) -> 0 | Q8: =SUMIFS('Week 2 20th May'!J$2:J$150,'Week 2 20th May'!D$2:D$150,'Rider List'!A8) -> 0 | R8: =SUMIFS('Week 3 3rd June'!J$2:J$150,'Week 3 3rd June'!D$2:D$150,'Rider List'!A8) -> 0 | S8: =SUMIFS('Week 4 8th July'!J$2:J$150,'Week 4 8th July'!D$2:D$150,'Rider List'!A8) -> 0 | T8: =SUMIFS('Week 5 22nd July'!J$2:J$150,'Week 5 22nd July'!D$2:D$150,'Rider List'!A8) -> 0 | U8: =SUMIFS('Week 6 29th July'!J$2:J$150,'Week 6 29th July'!D$2:D$150,'Rider List'!A8) -> 0 | W8: =SUM(P8:V8) -> 0
A9: 7 | B9: Nigel | C9: Middlehurst | D9: Ellmore Factory Racing | E9: V4 | G9: =SUMIFS('Week 1 13th May'!I$2:I$150,'Week 1 13th May'!D$2:D$150,'Rider List'!A9) -> 0 | H9: =SUMIFS('Week 2 20th May'!I$2:I$150,'Week 2 20th May'!D$2:D$150,'Rider List'!A9) -> 0 | I9: =SUMIFS('Week 3 3rd June'!I$2:I$150,'Week 3 3rd June'!D$2:D$150,'Rider List'!A9) -> 0 | J9: =SUMIFS('Week 4 8th July'!I$2:I$150,'Week 4 8th July'!D$2:D$150,'Rider List'!A9) -> 0 | K9: =SUMIFS('Week 5 22nd July'!I$2:I$150,'Week 5 22nd July'!D$2:D$150,'Rider List'!A9) -> 0 | L9: =SUMIFS('Week 6 29th July'!I$2:I$150,'Week 6 29th July'!D$2:D$150,'Rider List'!A9) -> 0 | N9: =SUM(G9:M9) -> 0 | P9: =SUMIFS('Week 1 13th May'!J$2:J$150,'Week 1 13th May'!D$2:D$150,'Rider List'!A9) -> 0 | Q9: =SUMIFS('Week 2 20th May'!J$2:J$150,'Week 2 20th May'!D$2:D$150,'Rider List'!A9) -> 0 | R9: =SUMIFS('Week 3 3rd June'!J$2:J$150,'Week 3 3rd June'!D$2:D$150,'Rider List'!A9) -> 0 | S9: =SUMIFS('Week 4 8th July'!J$2:J$150,'Week 4 8th July'!D$2:D$150,'Rider List'!A9) -> 0 | T9: =SUMIFS('Week 5 22nd July'!J$2:J$150,'Week 5 22nd July'!D$2:D$150,'Rider List'!A9) -> 0 | U9: =SUMIFS('Week 6 29th July'!J$2:J$150,'Week 6 29th July'!D$2:D$150,'Rider List'!A9) -> 0 | W9: =SUM(P9:V9) -> 0
A10: 8 | B10: Chris | C10: Radcliffe | D10: Otley CC | E10: V | G10: =SUMIFS('Week 1 13th May'!I$2:I$150,'Week 1 13th May'!D$2:D$150,'Rider List'!A10) -> 2 | H10: =SUMIFS('Week 2 20th May'!I$2:I$150,'Week 2 20th May'!D$2:D$150,'Rider List'!A10) -> 1 | I10: =SUMIFS('Week 3 3rd June'!I$2:I$150,'Week 3 3rd June'!D$2:D$150,'Rider List'!A10) -> 3 | J10: =SUMIFS('Week 4 8th July'!I$2:I$150,'Week 4 8th July'!D$2:D$150,'Rider List'!A10) -> 0 | K10: =SUMIFS('Week 5 22nd July'!I$2:I$150,'Week 5 22nd July'!D$2:D$150,'Rider List'!A10) -> 0 | L10: =SUMIFS('Week 6 29th July'!I$2:I$150,'Week 6 29th July'!D$2:D$150,'Rider List'!A10) -> 0 | N10: =SUM(G10:M10) -> 6 | P10: =SUMIFS('Week 1 13th May'!J$2:J$150,'Week 1 13th May'!D$2:D$150,'Rider List'!A10) -> 0 | Q10: =SUMIFS('Week 2 20th May'!J$2:J$150,'Week 2 20th May'!D$2:D$150,'Rider List'!A10) -> 2 | R10: =SUMIFS('Week 3 3rd June'!J$2:J$150,'Week 3 3rd June'!D$2:D$150,'Rider List'!A10) -> 6 | S10: =SUMIFS('Week 4 8th July'!J$2:J$150,'Week 4 8th July'!D$2:D$150,'Rider List'!A10) -> 0 | T10: =SUMIFS('Week 5 22nd July'!J$2:J$150,'Week 5 22nd July'!D$2:D$150,'Rider List'!A10) -> 2 | U10: =SUMIFS('Week 6 29th July'!J$2:J$150,'Week 6 29th July'!D$2:D$150,'Rider List'!A10) -> 0 | W10: =SUM(P10:V10) -> 10
A11: 10 | B11: Darren | C11: Stringer | D11: Kirklees Cycling Academy | E11: V3 | G11: =SUMIFS('Week 1 13th May'!I$2:I$150,'Week 1 13th May'!D$2:D$150,'Rider List'!A11) -> 0 | H11: =SUMIFS('Week 2 20th May'!I$2:I$150,'Week 2 20th May'!D$2:D$150,'Rider List'!A11) -> 0 | I11: =SUMIFS('Week 3 3rd June'!I$2:I$150,'Week 3 3rd June'!D$2:D$150,'Rider List'!A11) -> 0 | J11: =SUMIFS('Week 4 8th July'!I$2:I$150,'Week 4 8th July'!D$2:D$150,'Rider List'!A11) -> 0 | K11: =SUMIFS('Week 5 22nd July'!I$2:I$150,'Week 5 22nd July'!D$2:D$150,'Rider List'!A11) -> 0 | L11: =SUMIFS('Week 6 29th July'!I$2:I$150,'Week 6 29th July'!D$2:D$150,'Rider List'!A11) -> 0 | N11: =SUM(G11:M11) -> 0 | P11: =SUMIFS('Week 1 13th May'!J$2:J$150,'Week 1 13th May'!D$2:D$150,'Rider List'!A11) -> 0 | Q11: =SUMIFS('Week 2 20th May'!J$2:J$150,'Week 2 20th May'!D$2:D$150,'Rider List'!A11) -> 0 | R11: =SUMIFS('Week 3 3rd June'!J$2:J$150,'Week 3 3rd June'!D$2:D$150,'Rider List'!A11) -> 0 | S11: =SUMIFS('Week 4 8th July'!J$2:J$150,'Week 4 8th July'!D$2:D$150,'Rider List'!A11) -> 0 | T11: =SUMIFS('Week 5 22nd July'!J$2:J$150,'Week 5 22nd July'!D$2:D$150,'Rider List'!A11) -> 0 | U11: =SUMIFS('Week 6 29th July'!J$2:J$150,'Week 6 29th July'!D$2:D$150,'Rider List'!A11) -> 0 | W11: =SUM(P11:V11) -> 0
A12: 11 | B12: Michael | C12: Tyas | D12: Hull Thursday RC | E12: Sen | G12: =SUMIFS('Week 1 13th May'!I$2:I$150,'Week 1 13th May'!D$2:D$150,'Rider List'!A12) -> 3 | H12: =SUMIFS('Week 2 20th May'!I$2:I$150,'Week 2 20th May'!D$2:D$150,'Rider List'!A12) -> 2 | I12: =SUMIFS('Week 3 3rd June'!I$2:I$150,'Week 3 3rd June'!D$2:D$150,'Rider List'!A12) -> 0 | J12: =SUMIFS('Week 4 8th July'!I$2:I$150,'Week 4 8th July'!D$2:D$150,'Rider List'!A12) -> 1 | K12: =SUMIFS('Week 5 22nd July'!I$2:I$150,'Week 5 22nd July'!D$2:D$150,'Rider List'!A12) -> 2 | L12: =SUMIFS('Week 6 29th July'!I$2:I$150,'Week 6 29th July'!D$2:D$150,'Rider List'!A12) -> 0 | N12: =SUM(G12:M12) -> 8 | P12: =SUMIFS('Week 1 13th May'!J$2:J$150,'Week 1 13th May'!D$2:D$150,'Rider List'!A12) -> 0 | Q12: =SUMIFS('Week 2 20th May'!J$2:J$150,'Week 2 20th May'!D$2:D$150,'Rider List'!A12) -> 0 | R12: =SUMIFS('Week 3 3rd June'!J$2:J$150,'Week 3 3rd June'!D$2:D$150,'Rider List'!A12) -> 6 | S12: =SUMIFS('Week 4 8th July'!J$2:J$150,'Week 4 8th July'!D$2:D$150,'Rider List'!A12) -> 0 | T12: =SUMIFS('Week 5 22nd July'!J$2:J$150,'Week 5 22nd July'!D$2:D$150,'Rider List'!A12) -> 1 | U12: =SUMIFS('Week 6 29th July'!J$2:J$150,'Week 6 29th July'!D$2:D$150,'Rider List'!A12) -> 0 | W12: =SUM(P12:V12) -> 7
A13: 12 | B13: Martin | C13: Watson | D13: Knottingley Velo | E13: V | G13: =SUMIFS('Week 1 13th May'!I$2:I$150,'Week 1 13th May'!D$2:D$150,'Rider List'!A13) -> 0 | H13: =SUMIFS('Week 2 20th May'!I$2:I$150,'Week 2 20th May'!D$2:D$150,'Rider List'!A13) -> 0 | I13: =SUMIFS('Week 3 3rd June'!I$2:I$150,'Week 3 3rd June'!D$2:D$150,'Rider List'!A13) -> 0 | J13: =SUMIFS('Week 4 8th July'!I$2:I$150,'Week 4 8th July'!D$2:D$150,'Rider List'!A13) -> 0 | K13: =SUMIFS('Week 5 22nd July'!I$2:I$150,'Week 5 22nd July'!D$2:D$150,'Rider List'!A13) -> 0 | L13: =SUMIFS('Week 6 29th July'!I$2:I$150,'Week 6 29th July'!D$2:D$150,'Rider List'!A13) -> 0 | N13: =SUM(G13:M13) -> 0 | P13: =SUMIFS('Week 1 13th May'!J$2:J$150,'Week 1 13th May'!D$2:D$150,'Rider List'!A13) -> 0 | Q13: =SUMIFS('Week 2 20th May'!J$2:J$150,'Week 2 20th May'!D$2:D$150,'Rider List'!A13) -> 0 | R13: =SUMIFS('Week 3 3rd June'!J$2:J$150,'Week 3 3rd June'!D$2:D$150,'Rider List'!A13) -> 0 | S13: =SUMIFS('Week 4 8th July'!J$2:J$150,'Week 4 8th July'!D$2:D$150,'Rider List'!A13) -> 0 | T13: =SUMIFS('Week 5 22nd July'!J$2:J$150,'Week 5 22nd July'!D$2:D$150,'Rider List'!A13) -> 5 | U13: =SUMIFS('Week 6 29th July'!J$2:J$150,'Week 6 29th July'!D$2:D$150,'Rider List'!A13) -> 1 | W13: =SUM(P13:V13) -> 6
A14: 13 | B14: Thomas | C14: Goodall | D14: Knottingley Velo | E14: U23 | G14: =SUMIFS('Week 1 13th May'!I$2:I$150,'Week 1 13th May'!D$2:D$150,'Rider List'!A14) -> 0 | H14: =SUMIFS('Week 2 20th May'!I$2:I$150,'Week 2 20th May'!D$2:D$150,'Rider List'!A14) -> 0 | I14: =SUMIFS('Week 3 3rd June'!I$2:I$150,'Week 3 3rd June'!D$2:D$150,'Rider List'!A14) -> 0 | J14: =SUMIFS('Week 4 8th July'!I$2:I$150,'Week 4 8th July'!D$2:D$150,'Rider List'!A14) -> 0 | K14: =SUMIFS('Week 5 22nd July'!I$2:I$150,'Week 5 22nd July'!D$2:D$150,'Rider List'!A14) -> 2 | L14: =SUMIFS('Week 6 29th July'!I$2:I$150,'Week 6 29th July'!D$2:D$150,'Rider List'!A14) -> 0 | N14: =SUM(G14:M14) -> 2 | P14: =SUMIFS('Week 1 13th May'!J$2:J$150,'Week 1 13th May'!D$2:D$150,'Rider List'!A14) -> 0 | Q14: =SUMIFS('Week 2 20th May'!J$2:J$150,'Week 2 20th May'!D$2:D$150,'Rider List'!A14) -> 0 | R14: =SUMIFS('Week 3 3rd June'!J$2:J$150,'Week 3 3rd June'!D$2:D$150,'Rider List'!A14) -> 2 | S14: =SUMIFS('Week 4 8th July'!J$2:J$150,'Week 4 8th July'!D$2:D$150,'Rider List'!A14) -> 1 | T14: =SUMIFS('Week 5 22nd July'!J$2:J$150,'Week 5 22nd July'!D$2:D$150,'Rider List'!A14) -> 2 | U14: =SUMIFS('Week 6 29th July'!J$2:J$150,'Week 6 29th July'!D$2:D$150,'Rider List'!A14) -> 0 | W14: =SUM(P14:V14) -> 5
A15: 14 | B15: Sean | C15: Jackson | D15: Seacroft Wheelers | E15: V4 | G15: =SUMIFS('Week 1 13th May'!I$2:I$150,'Week 1 13th May'!D$2:D$150,'Rider List'!A15) -> 0 | H15: =SUMIFS('Week 2 20th May'!I$2:I$150,'Week 2 20th May'!D$2:D$150,'Rider List'!A15) -> 0 | I15: =SUMIFS('Week 3 3rd June'!I$2:I$150,'Week 3 3rd June'!D$2:D$150,'Rider List'!A15) -> 0 | J15: =SUMIFS('Week 4 8th July'!I$2:I$150,'Week 4 8th July'!D$2:D$150,'Rider List'!A15) -> 0 | K15: =SUMIFS('Week 5 22nd July'!I$2:I$150,'Week 5 22nd July'!D$2:D$150,'Rider List'!A15) -> 0 | L15: =SUMIFS('Week 6 29th July'!I$2:I$150,'Week 6 29th July'!D$2:D$150,'Rider List'!A15) -> 0 | N15: =SUM(G15:M15) -> 0 | P15: =SUMIFS('Week 1 13th May'!J$2:J$150,'Week 1 13th May'!D$2:D$150,'Rider List'!A15) -> 0 | Q15: =SUMIFS('Week 2 20th May'!J$2:J$150,'Week 2 20th May'!D$2:D$150,'Rider List'!A15) -> 0 | R15: =SUMIFS('Week 3 3rd June'!J$2:J$150,'Week 3 3rd June'!D$2:D$150,'Rider List'!A15) -> 0 | S15: =SUMIFS('Week 4 8th July'!J$2:J$150,'Week 4 8th July'!D$2:D$150,'Rider List'!A15) -> 0 | T15: =SUMIFS('Week 5 22nd July'!J$2:J$150,'Week 5 22nd July'!D$2:D$150,'Rider List'!A15) -> 0 | U15: =SUMIFS('Week 6 29th July'!J$2:J$150,'Week 6 29th July'!D$2:D$150,'Rider List'!A15) -> 0 | W15: =SUM(P15:V15) -> 0
A16: 15 | B16: Nick | C16: Islip | E16: V4 | G16: =SUMIFS('Week 1 13th May'!I$2:I$150,'Week 1 13th May'!D$2:D$150,'Rider List'!A16) -> 0 | H16: =SUMIFS('Week 2 20th May'!I$2:I$150,'Week 2 20th May'!D$2:D$150,'Rider List'!A16) -> 0 | I16: =SUMIFS('Week 3 3rd June'!I$2:I$150,'Week 3 3rd June'!D$2:D$150,'Rider List'!A16) -> 0 | J16: =SUMIFS('Week 4 8th July'!I$2:I$150,'Week 4 8th July'!D$2:D$150,'Rider List'!A16) -> 0 | K16: =SUMIFS('Week 5 22nd July'!I$2:I$150,'Week 5 22nd July'!D$2:D$150,'Rider List'!A16) -> 0 | L16: =SUMIFS('Week 6 29th July'!I$2:I$150,'Week 6 29th July'!D$2:D$150,'Rider List'!A16) -> 0 | N16: =SUM(G16:M16) -> 0 | P16: =SUMIFS('Week 1 13th May'!J$2:J$150,'Week 1 13th May'!D$2:D$150,'Rider List'!A16) -> 0 | Q16: =SUMIFS('Week 2 20th May'!J$2:J$150,'Week 2 20th May'!D$2:D$150,'Rider List'!A16) -> 0 | R16: =SUMIFS('Week 3 3rd June'!J$2:J$150,'Week 3 3rd June'!D$2:D$150,'Rider List'!A16) -> 0 | S16: =SUMIFS('Week 4 8th July'!J$2:J$150,'Week 4 8th July'!D$2:D$150,'Rider List'!A16) -> 0 | T16: =SUMIFS('Week 5 22nd July'!J$2:J$150,'Week 5 22nd July'!D$2:D$150,'Rider List'!A16) -> 0 | U16: =SUMIFS('Week 6 29th July'!J$2:J$150,'Week 6 29th July'!D$2:D$150,'Rider List'!A16) -> 0 | W16: =SUM(P16:V16) -> 0
A17: 16 | B17: Jake | C17: Field | D17: Bramley Wheelers | E17: V3 | G17: =SUMIFS('Week 1 13th May'!I$2:I$150,'Week 1 13th May'!D$2:D$150,'Rider List'!A17) -> 1 | H17: =SUMIFS('Week 2 20th May'!I$2:I$150,'Week 2 20th May'!D$2:D$150,'Rider List'!A17) -> 0 | I17: =SUMIFS('Week 3 3rd June'!I$2:I$150,'Week 3 3rd June'!D$2:D$150,'Rider List'!A17) -> 3 | J17: =SUMIFS('Week 4 8th July'!I$2:I$150,'Week 4 8th July'!D$2:D$150,'Rider List'!A17) -> 5 | K17: =SUMIFS('Week 5 22nd July'!I$2:I$150,'Week 5 22nd July'!D$2:D$150,'Rider List'!A17) -> 4 | L17: =SUMIFS('Week 6 29th July'!I$2:I$150,'Week 6 29th July'!D$2:D$150,'Rider List'!A17) -> 1 | N17: =SUM(G17:M17) -> 14 | P17: =SUMIFS('Week 1 13th May'!J$2:J$150,'Week 1 13th May'!D$2:D$150,'Rider List'!A17) -> 0 | Q17: =SUMIFS('Week 2 20th May'!J$2:J$150,'Week 2 20th May'!D$2:D$150,'Rider List'!A17) -> 2 | R17: =SUMIFS('Week 3 3rd June'!J$2:J$150,'Week 3 3rd June'!D$2:D$150,'Rider List'!A17) -> 4 | S17: =SUMIFS('Week 4 8th July'!J$2:J$150,'Week 4 8th July'!D$2:D$150,'Rider List'!A17) -> 3 | T17: =SUMIFS('Week 5 22nd July'!J$2:J$150,'Week 5 22nd July'!D$2:D$150,'Rider List'!A17) -> 0 | U17: =SUMIFS('Week 6 29th July'!J$2:J$150,'Week 6 29th July'!D$2:D$150,'Rider List'!A17) -> 0 | W17: =SUM(P17:V17) -> 9
A18: 17 | B18: Matt | C18: Rotherham | E18: 3 | G18: =SUMIFS('Week 1 13th May'!I$2:I$150,'Week 1 13th May'!D$2:D$150,'Rider List'!A18) -> 11 | H18: =SUMIFS('Week 2 20th May'!I$2:I$150,'Week 2 20th May'!D$2:D$150,'Rider List'!A18) -> 4 | I18: =SUMIFS('Week 3 3rd June'!I$2:I$150,'Week 3 3rd June'!D$2:D$150,'Rider List'!A18) -> 8 | J18: =SUMIFS('Week 4 8th July'!I$2:I$150,'Week 4 8th July'!D$2:D$150,'Rider List'!A18) -> 0 | K18: =SUMIFS('Week 5 22nd July'!I$2:I$150,'Week 5 22nd July'!D$2:D$150,'Rider List'!A18) -> 0 | L18: =SUMIFS('Week 6 29th July'!I$2:I$150,'Week 6 29th July'!D$2:D$150,'Rider List'!A18) -> 0 | N18: =SUM(G18:M18) -> 23 | P18: =SUMIFS('Week 1 13th May'!J$2:J$150,'Week 1 13th May'!D$2:D$150,'Rider List'!A18) -> 5 | Q18: =SUMIFS('Week 2 20th May'!J$2:J$150,'Week 2 20th May'!D$2:D$150,'Rider List'!A18) -> 10 | R18: =SUMIFS('Week 3 3rd June'!J$2:J$150,'Week 3 3rd June'!D$2:D$150,'Rider List'!A18) -> 0 | S18: =SUMIFS('Week 4 8th July'!J$2:J$150,'Week 4 8th July'!D$2:D$150,'Rider List'!A18) -> 0 | T18: =SUMIFS('Week 5 22nd July'!J$2:J$150,'Week 5 22nd July'!D$2:D$150,'Rider List'!A18) -> 0 | U18: =SUMIFS('Week 6 29th July'!J$2:J$150,'Week 6 29th July'!D$2:D$150,'Rider List'!A18) -> 0 | W18: =SUM(P18:V18) -> 15
A19: 18 | B19: Yousef | C19: Habeeb | D19: Bramley Wheelers | E19: J | G19: =SUMIFS('Week 1 13th May'!I$2:I$150,'Week 1 13th May'!D$2:D$150,'Rider List'!A19) -> 0 | H19: =SUMIFS('Week 2 20th May'!I$2:I$150,'Week 2 20th May'!D$2:D$150,'Rider List'!A19) -> 0 | I19: =SUMIFS('Week 3 3rd June'!I$2:I$150,'Week 3 3rd June'!D$2:D$150,'Rider List'!A19) -> 0 | J19: =SUMIFS('Week 4 8th July'!I$2:I$150,'Week 4 8th July'!D$2:D$150,'Rider List'!A19) -> 0 | K19: =SUMIFS('Week 5 22nd July'!I$2:I$150,'Week 5 22nd July'!D$2:D$150,'Rider List'!A19) -> 0 | L19: =SUMIFS('Week 6 29th July'!I$2:I$150,'Week 6 29th July'!D$2:D$150,'Rider List'!A19) -> 0 | N19: =SUM(G19:M19) -> 0 | P19: =SUMIFS('Week 1 13th May'!J$2:J$150,'Week 1 13th May'!D$2:D$150,'Rider List'!A19) -> 0 | Q19: =SUMIFS('Week 2 20th May'!J$2:J$150,'Week 2 20th May'!D$2:D$150,'Rider List'!A19) -> 0 | R19: =SUMIFS('Week 3 3rd June'!J$2:J$150,'Week 3 3rd June'!D$2:D$150,'Rider List'!A19) -> 0 | S19: =SUMIFS('Week 4 8th July'!J$2:J$150,'Week 4 8th July'!D$2:D$150,'Rider List'!A19) -> 0 | T19: =SUMIFS('Week 5 22nd July'!J$2:J$150,'Week 5 22nd July'!D$2:D$150,'Rider List'!A19) -> 0 | U19: =SUMIFS('Week 6 29th July'!J$2:J$150,'Week 6 29th July'!D$2:D$150,'Rider List'!A19) -> 0 | W19: =SUM(P19:V19) -> 0
A20: 19 | B20: Alex | C20: Foley | D20: Leeds Mercury | E20: U23 | G20: =SUMIFS('Week 1 13th May'!I$2:I$150,'Week 1 13th May'!D$2:D$150,'Rider List'!A20) -> 0 | H20: =SUMIFS('Week 2 20th May'!I$2:I$150,'Week 2 20th May'!D$2:D$150,'Rider List'!A20) -> 8 | I20: =SUMIFS('Week 3 3rd June'!I$2:I$150,'Week 3 3rd June'!D$2:D$150,'Rider List'!A20) -> 6 | J20: =SUMIFS('Week 4 8th July'!I$2:I$150,'Week 4 8th July'!D$2:D$150,'Rider List'!A20) -> 3 | K20: =SUMIFS('Week 5 22nd July'!I$2:I$150,'Week 5 22nd July'!D$2:D$150,'Rider List'!A20) -> 7 | L20: =SUMIFS('Week 6 29th July'!I$2:I$150,'Week 6 29th July'!D$2:D$150,'Rider List'!A20) -> 7 | N20: =SUM(G20:M20) -> 31 | P20: =SUMIFS('Week 1 13th May'!J$2:J$150,'Week 1 13th May'!D$2:D$150,'Rider List'!A20) -> 0 | Q20: =SUMIFS('Week 2 20th May'!J$2:J$150,'Week 2 20th May'!D$2:D$150,'Rider List'!A20) -> 1 | R20: =SUMIFS('Week 3 3rd June'!J$2:J$150,'Week 3 3rd June'!D$2:D$150,'Rider List'!A20) -> 0 | S20: =SUMIFS('Week 4 8th July'!J$2:J$150,'Week 4 8th July'!D$2:D$150,'Rider List'!A20) -> 0 | T20: =SUMIFS('Week 5 22nd July'!J$2:J$150,'Week 5 22nd July'!D$2:D$150,'Rider List'!A20) -> 0 | U20: =SUMIFS('Week 6 29th July'!J$2:J$150,'Week 6 29th July'!D$2:D$150,'Rider List'!A20) -> 5 | W20: =SUM(P20:V20) -> 6
A21: 20 | B21: Russell | C21: Brown | D21: VSCC | E21: V40 | G21: =SUMIFS('Week 1 13th May'!I$2:I$150,'Week 1 13th May'!D$2:D$150,'Rider List'!A21) -> 0 | H21: =SUMIFS('Week 2 20th May'!I$2:I$150,'Week 2 20th May'!D$2:D$150,'Rider List'!A21) -> 2 | I21: =SUMIFS('Week 3 3rd June'!I$2:I$150,'Week 3 3rd June'!D$2:D$150,'Rider List'!A21) -> 0 | J21: =SUMIFS('Week 4 8th July'!I$2:I$150,'Week 4 8th July'!D$2:D$150,'Rider List'!A21) -> 0 | K21: =SUMIFS('Week 5 22nd July'!I$2:I$150,'Week 5 22nd July'!D$2:D$150,'Rider List'!A21) -> 0 | L21: =SUMIFS('Week 6 29th July'!I$2:I$150,'Week 6 29th July'!D$2:D$150,'Rider List'!A21) -> 0 | N21: =SUM(G21:M21) -> 2 | P21: =SUMIFS('Week 1 13th May'!J$2:J$150,'Week 1 13th May'!D$2:D$150,'Rider List'!A21) -> 0 | Q21: =SUMIFS('Week 2 20th May'!J$2:J$150,'Week 2 20th May'!D$2:D$150,'Rider List'!A21) -> 0 | R21: =SUMIFS('Week 3 3rd June'!J$2:J$150,'Week 3 3rd June'!D$2:D$150,'Rider List'!A21) -> 0 | S21: =SUMIFS('Week 4 8th July'!J$2:J$150,'Week 4 8th July'!D$2:D$150,'Rider List'!A21) -> 0 | T21: =SUMIFS('Week 5 22nd July'!J$2:J$150,'Week 5 22nd July'!D$2:D$150,'Rider List'!A21) -> 0 | U21: =SUMIFS('Week 6 29th July'!J$2:J$150,'Week 6 29th July'!D$2:D$150,'Rider List'!A21) -> 0 | W21: =SUM(P21:V21) -> 0
A22: 21 | B22: Daniell | C22: Jay-Webster | D22: ICC | E22: 3 | G22: =SUMIFS('Week 1 13th May'!I$2:I$150,'Week 1 13th May'!D$2:D$150,'Rider List'!A22) -> 0 | H22: =SUMIFS('Week 2 20th May'!I$2:I$150,'Week 2 20th May'!D$2:D$150,'Rider List'!A22) -> 0 | I22: =SUMIFS('Week 3 3rd June'!I$2:I$150,'Week 3 3rd June'!D$2:D$150,'Rider List'!A22) -> 0 | J22: =SUMIFS('Week 4 8th July'!I$2:I$150,'Week 4 8th July'!D$2:D$150,'Rider List'!A22) -> 0 | K22: =SUMIFS('Week 5 22nd July'!I$2:I$150,'Week 5 22nd July'!D$2:D$150,'Rider List'!A22) -> 0 | L22: =SUMIFS('Week 6 29th July'!I$2:I$150,'Week 6 29th July'!D$2:D$150,'Rider List'!A22) -> 7 | N22: =SUM(G22:M22) -> 7 | P22: =SUMIFS('Week 1 13th May'!J$2:J$150,'Week 1 13th May'!D$2:D$150,'Rider List'!A22) -> 0 | Q22: =SUMIFS('Week 2 20th May'!J$2:J$150,'Week 2 20th May'!D$2:D$150,'Rider List'!A22) -> 0 | R22: =SUMIFS('Week 3 3rd June'!J$2:J$150,'Week 3 3rd June'!D$2:D$150,'Rider List'!A22) -> 0 | S22: =SUMIFS('Week 4 8th July'!J$2:J$150,'Week 4 8th July'!D$2:D$150,'Rider List'!A22) -> 0 | T22: =SUMIFS('Week 5 22nd July'!J$2:J$150,'Week 5 22nd July'!D$2:D$150,'Rider List'!A22) -> 0 | U22: =SUMIFS('Week 6 29th July'!J$2:J$150,'Week 6 29th July'!D$2:D$150,'Rider List'!A22) -> 3 | W22: =SUM(P22:V22) -> 3
A23: YOUTH MALE | U23: =SUMIFS('Week 6 29th July'!J$2:J$150,'Week 6 29th July'!D$2:D$150,'Rider List'!A23) -> 0
A24: 70 | B24: Archie | C24: Fletcher | D24: Sportcity Velo | E24: U14 | G24: =SUMIFS('Week 1 13th May'!I$2:I$150,'Week 1 13th May'!D$2:D$150,'Rider List'!A24) -> 0 | H24: =SUMIFS('Week 2 20th May'!I$2:I$150,'Week 2 20th May'!D$2:D$150,'Rider List'!A24) -> 0 | I24: =SUMIFS('Week 3 3rd June'!I$2:I$150,'Week 3 3rd June'!D$2:D$150,'Rider List'!A24) -> 0 | J24: =SUMIFS('Week 4 8th July'!I$2:I$150,'Week 4 8th July'!D$2:D$150,'Rider List'!A24) -> 0 | K24: =SUMIFS('Week 5 22nd July'!I$2:I$150,'Week 5 22nd July'!D$2:D$150,'Rider List'!A24) -> 0 | L24: =SUMIFS('Week 6 29th July'!I$2:I$150,'Week 6 29th July'!D$2:D$150,'Rider List'!A24) -> 0 | N24: =SUM(G24:M24) -> 0 | P24: =SUMIFS('Week 1 13th May'!J$2:J$150,'Week 1 13th May'!D$2:D$150,'Rider List'!A24) -> 0 | Q24: =SUMIFS('Week 2 20th May'!J$2:J$150,'Week 2 20th May'!D$2:D$150,'Rider List'!A24) -> 0 | R24: =SUMIFS('Week 3 3rd June'!J$2:J$150,'Week 3 3rd June'!D$2:D$150,'Rider List'!A24) -> 0 | S24: =SUMIFS('Week 4 8th July'!J$2:J$150,'Week 4 8th July'!D$2:D$150,'Rider List'!A24) -> 0 | T24: =SUMIFS('Week 5 22nd July'!J$2:J$150,'Week 5 22nd July'!D$2:D$150,'Rider List'!A24) -> 0 | U24: =SUMIFS('Week 6 29th July'!J$2:J$150,'Week 6 29th July'!D$2:D$150,'Rider List'!A24) -> 0 | W24: =SUM(P24:V24) -> 0
A25: 71 | B25: Sam | C25: Hollis | D25: Albarosa Cycling Club | E25: U16 | G25: =SUMIFS('Week 1 13th May'!I$2:I$150,'Week 1 13th May'!D$2:D$150,'Rider List'!A25) -> 0 | H25: =SUMIFS('Week 2 20th May'!I$2:I$150,'Week 2 20th May'!D$2:D$150,'Rider List'!A25) -> 0 | I25: =SUMIFS('Week 3 3rd June'!I$2:I$150,'Week 3 3rd June'!D$2:D$150,'Rider List'!A25) -> 0 | J25: =SUMIFS('Week 4 8th July'!I$2:I$150,'Week 4 8th July'!D$2:D$150,'Rider List'!A25) -> 0 | K25: =SUMIFS('Week 5 22nd July'!I$2:I$150,'Week 5 22nd July'!D$2:D$150,'Rider List'!A25) -> 7 | L25: =SUMIFS('Week 6 29th July'!I$2:I$150,'Week 6 29th July'!D$2:D$150,'Rider List'!A25) -> 0 | N25: =SUM(G25:M25) -> 7 | P25: =SUMIFS('Week 1 13th May'!J$2:J$150,'Week 1 13th May'!D$2:D$150,'Rider List'!A25) -> 0 | Q25: =SUMIFS('Week 2 20th May'!J$2:J$150,'Week 2 20th May'!D$2:D$150,'Rider List'!A25) -> 0 | R25: =SUMIFS('Week 3 3rd June'!J$2:J$150,'Week 3 3rd June'!D$2:D$150,'Rider List'!A25) -> 0 | S25: =SUMIFS('Week 4 8th July'!J$2:J$150,'Week 4 8th July'!D$2:D$150,'Rider List'!A25) -> 0 | T25: =SUMIFS('Week 5 22nd July'!J$2:J$150,'Week 5 22nd July'!D$2:D$150,'Rider List'!A25) -> 5 | U25: =SUMIFS('Week 6 29th July'!J$2:J$150,'Week 6 29th July'!D$2:D$150,'Rider List'!A25) -> 0 | W25: =SUM(P25:V25) -> 5
A26: 72 | B26: James | C26: Luxton | D26: Otley CC | E26: U14 | G26: =SUMIFS('Week 1 13th May'!I$2:I$150,'Week 1 13th May'!D$2:D$150,'Rider List'!A26) -> 1 | H26: =SUMIFS('Week 2 20th May'!I$2:I$150,'Week 2 20th May'!D$2:D$150,'Rider List'!A26) -> 1 | I26: =SUMIFS('Week 3 3rd June'!I$2:I$150,'Week 3 3rd June'!D$2:D$150,'Rider List'!A26) -> 1 | J26: =SUMIFS('Week 4 8th July'!I$2:I$150,'Week 4 8th July'!D$2:D$150,'Rider List'!A26) -> 0 | K26: =SUMIFS('Week 5 22nd July'!I$2:I$150,'Week 5 22nd July'!D$2:D$150,'Rider List'!A26) -> 1 | L26: =SUMIFS('Week 6 29th July'!I$2:I$150,'Week 6 29th July'!D$2:D$150,'Rider List'!A26) -> 3 | N26: =SUM(G26:M26) -> 7 | P26: =SUMIFS('Week 1 13th May'!J$2:J$150,'Week 1 13th May'!D$2:D$150,'Rider List'!A26) -> 0 | Q26: =SUMIFS('Week 2 20th May'!J$2:J$150,'Week 2 20th May'!D$2:D$150,'Rider List'!A26) -> 0 | R26: =SUMIFS('Week 3 3rd June'!J$2:J$150,'Week 3 3rd June'!D$2:D$150,'Rider List'!A26) -> 1 | S26: =SUMIFS('Week 4 8th July'!J$2:J$150,'Week 4 8th July'!D$2:D$150,'Rider List'!A26) -> 0 | T26: =SUMIFS('Week 5 22nd July'!J$2:J$150,'Week 5 22nd July'!D$2:D$150,'Rider List'!A26) -> 0 | U26: =SUMIFS('Week 6 29th July'!J$2:J$150,'Week 6 29th July'!D$2:D$150,'Rider List'!A26) -> 0 | W26: =SUM(P26:V26) -> 1
A27: 73 | B27: Thomas | C27: Miller | D27: Clifton CC | E27: U14 | G27: =SUMIFS('Week 1 13th May'!I$2:I$150,'Week 1 13th May'!D$2:D$150,'Rider List'!A27) -> 5 | H27: =SUMIFS('Week 2 20th May'!I$2:I$150,'Week 2 20th May'!D$2:D$150,'Rider List'!A27) -> 4 | I27: =SUMIFS('Week 3 3rd June'!I$2:I$150,'Week 3 3rd June'!D$2:D$150,'Rider List'!A27) -> 2 | J27: =SUMIFS('Week 4 8th July'!I$2:I$150,'Week 4 8th July'!D$2:D$150,'Rider List'!A27) -> 0 | K27: =SUMIFS('Week 5 22nd July'!I$2:I$150,'Week 5 22nd July'!D$2:D$150,'Rider List'!A27) -> 3 | L27: =SUMIFS('Week 6 29th July'!I$2:I$150,'Week 6 29th July'!D$2:D$150,'Rider List'!A27) -> 0 | N27: =SUM(G27:M27) -> 14 | P27: =SUMIFS('Week 1 13th May'!J$2:J$150,'Week 1 13th May'!D$2:D$150,'Rider List'!A27) -> 0 | Q27: =SUMIFS('Week 2 20th May'!J$2:J$150,'Week 2 20th May'!D$2:D$150,'Rider List'!A27) -> 3 | R27: =SUMIFS('Week 3 3rd June'!J$2:J$150,'Week 3 3rd June'!D$2:D$150,'Rider List'!A27) -> 6 | S27: =SUMIFS('Week 4 8th July'!J$2:J$150,'Week 4 8th July'!D$2:D$150,'Rider List'!A27) -> 0 | T27: =SUMIFS('Week 5 22nd July'!J$2:J$150,'Week 5 22nd July'!D$2:D$150,'Rider List'!A27) -> 3 | U27: =SUMIFS('Week 6 29th July'!J$2:J$150,'Week 6 29th July'!D$2:D$150,'Rider List'!A27) -> 0 | W27: =SUM(P27:V27) -> 12
A28: 74 | B28: George | C28: Radcliffe | D28: Otley CC | E28: U16 | G28: =SUMIFS('Week 1 13th May'!I$2:I$150,'Week 1 13th May'!D$2:D$150,'Rider List'!A28) -> 15 | H28: =SUMIFS('Week 2 20th May'!I$2:I$150,'Week 2 20th May'!D$2:D$150,'Rider List'!A28) -> 11 | I28: =SUMIFS('Week 3 3rd June'!I$2:I$150,'Week 3 3rd June'!D$2:D$150,'Rider List'!A28) -> 10 | J28: =SUMIFS('Week 4 8th July'!I$2:I$150,'Week 4 8th July'!D$2:D$150,'Rider List'!A28) -> 4 | K28: =SUMIFS('Week 5 22nd July'!I$2:I$150,'Week 5 22nd July'!D$2:D$150,'Rider List'!A28) -> 11 | L28: =SUMIFS('Week 6 29th July'!I$2:I$150,'Week 6 29th July'!D$2:D$150,'Rider List'!A28) -> 11 | N28: =SUM(G28:M28) -> 62 | P28: =SUMIFS('Week 1 13th May'!J$2:J$150,'Week 1 13th May'!D$2:D$150,'Rider List'!A28) -> 3 | Q28: =SUMIFS('Week 2 20th May'!J$2:J$150,'Week 2 20th May'!D$2:D$150,'Rider List'!A28) -> 3 | R28: =SUMIFS('Week 3 3rd June'!J$2:J$150,'Week 3 3rd June'!D$2:D$150,'Rider List'!A28) -> 3 | S28: =SUMIFS('Week 4 8th July'!J$2:J$150,'Week 4 8th July'!D$2:D$150,'Rider List'!A28) -> 5 | T28: =SUMIFS('Week 5 22nd July'!J$2:J$150,'Week 5 22nd July'!D$2:D$150,'Rider List'!A28) -> 3 | U28: =SUMIFS('Week 6 29th July'!J$2:J$150,'Week 6 29th July'!D$2:D$150,'Rider List'!A28) -> 5 | W28: =SUM(P28:V28) -> 22
A29: 76 | B29: Esben | C29: Rost | D29: Leeds Mercury CC | E29: U16 | G29: =SUMIFS('Week 1 13th May'!I$2:I$150,'Week 1 13th May'!D$2:D$150,'Rider List'!A29) -> 3 | H29: =SUMIFS('Week 2 20th May'!I$2:I$150,'Week 2 20th May'!D$2:D$150,'Rider List'!A29) -> 0 | I29: =SUMIFS('Week 3 3rd June'!I$2:I$150,'Week 3 3rd June'!D$2:D$150,'Rider List'!A29) -> 0 | J29: =SUMIFS('Week 4 8th July'!I$2:I$150,'Week 4 8th July'!D$2:D$150,'Rider List'!A29) -> 2 | K29: =SUMIFS('Week 5 22nd July'!I$2:I$150,'Week 5 22nd July'!D$2:D$150,'Rider List'!A29) -> 2 | L29: =SUMIFS('Week 6 29th July'!I$2:I$150,'Week 6 29th July'!D$2:D$150,'Rider List'!A29) -> 0 | N29: =SUM(G29:M29) -> 7 | P29: =SUMIFS('Week 1 13th May'!J$2:J$150,'Week 1 13th May'!D$2:D$150,'Rider List'!A29) -> 0 | Q29: =SUMIFS('Week 2 20th May'!J$2:J$150,'Week 2 20th May'!D$2:D$150,'Rider List'!A29) -> 0 | R29: =SUMIFS('Week 3 3rd June'!J$2:J$150,'Week 3 3rd June'!D$2:D$150,'Rider List'!A29) -> 0 | S29: =SUMIFS('Week 4 8th July'!J$2:J$150,'Week 4 8th July'!D$2:D$150,'Rider List'!A29) -> 2 | T29: =SUMIFS('Week 5 22nd July'!J$2:J$150,'Week 5 22nd July'!D$2:D$150,'Rider List'!A29) -> 0 | U29: =SUMIFS('Week 6 29th July'!J$2:J$150,'Week 6 29th July'!D$2:D$150,'Rider List'!A29) -> 0 | W29: =SUM(P29:V29) -> 2
A30: 77 | B30: Ryan | C30: Thomas | D30: East Bradford Race Team | E30: U14 | G30: =SUMIFS('Week 1 13th May'!I$2:I$150,'Week 1 13th May'!D$2:D$150,'Rider List'!A30) -> 0 | H30: =SUMIFS('Week 2 20th May'!I$2:I$150,'Week 2 20th May'!D$2:D$150,'Rider List'!A30) -> 6 | I30: =SUMIFS('Week 3 3rd June'!I$2:I$150,'Week 3 3rd June'!D$2:D$150,'Rider List'!A30) -> 6 | J30: =SUMIFS('Week 4 8th July'!I$2:I$150,'Week 4 8th July'!D$2:D$150,'Rider List'!A30) -> 6 | K30: =SUMIFS('Week 5 22nd July'!I$2:I$150,'Week 5 22nd July'!D$2:D$150,'Rider List'!A30) -> 0 | L30: =SUMIFS('Week 6 29th July'!I$2:I$150,'Week 6 29th July'!D$2:D$150,'Rider List'!A30) -> 0 | N30: =SUM(G30:M30) -> 18 | P30: =SUMIFS('Week 1 13th May'!J$2:J$150,'Week 1 13th May'!D$2:D$150,'Rider List'!A30) -> 0 | Q30: =SUMIFS('Week 2 20th May'!J$2:J$150,'Week 2 20th May'!D$2:D$150,'Rider List'!A30) -> 0 | R30: =SUMIFS('Week 3 3rd June'!J$2:J$150,'Week 3 3rd June'!D$2:D$150,'Rider List'!A30) -> 2 | S30: =SUMIFS('Week 4 8th July'!J$2:J$150,'Week 4 8th July'!D$2:D$150,'Rider List'!A30) -> 0 | T30: =SUMIFS('Week 5 22nd July'!J$2:J$150,'Week 5 22nd July'!D$2:D$150,'Rider List'!A30) -> 0 | U30: =SUMIFS('Week 6 29th July'!J$2:J$150,'Week 6 29th July'!D$2:D$150,'Rider List'!A30) -> 0 | W30: =SUM(P30:V30) -> 2
A31: WOMEN & GIRLS | U31: =SUMIFS('Week 6 29th July'!J$2:J$150,'Week 6 29th July'!D$2:D$150,'Rider List'!A31) -> 0
A32: 40 | B32: Anna | C32: Kippen | D32: Leeds Mercury Cycling Club | E32: U14 | G32: =SUMIFS('Week 1 13th May'!I$2:I$150,'Week 1 13th May'!D$2:D$150,'Rider List'!A32) -> 1 | H32: =SUMIFS('Week 2 20th May'!I$2:I$150,'Week 2 20th May'!D$2:D$150,'Rider List'!A32) -> 5 | I32: =SUMIFS('Week 3 3rd June'!I$2:I$150,'Week 3 3rd June'!D$2:D$150,'Rider List'!A32) -> 3 | J32: =SUMIFS('Week 4 8th July'!I$2:I$150,'Week 4 8th July'!D$2:D$150,'Rider List'!A32) -> 3 | K32: =SUMIFS('Week 5 22nd July'!I$2:I$150,'Week 5 22nd July'!D$2:D$150,'Rider List'!A32) -> 0 | L32: =SUMIFS('Week 6 29th July'!I$2:I$150,'Week 6 29th July'!D$2:D$150,'Rider List'!A32) -> 1 | N32: =SUM(G32:M32) -> 13 | P32: =SUMIFS('Week 1 13th May'!J$2:J$150,'Week 1 13th May'!D$2:D$150,'Rider List'!A32) -> 0 | Q32: =SUMIFS('Week 2 20th May'!J$2:J$150,'Week 2 20th May'!D$2:D$150,'Rider List'!A32) -> 1 | R32: =SUMIFS('Week 3 3rd June'!J$2:J$150,'Week 3 3rd June'!D$2:D$150,'Rider List'!A32) -> 10 | S32: =SUMIFS('Week 4 8th July'!J$2:J$150,'Week 4 8th July'!D$2:D$150,'Rider List'!A32) -> 0 | T32: =SUMIFS('Week 5 22nd July'!J$2:J$150,'Week 5 22nd July'!D$2:D$150,'Rider List'!A32) -> 0 | U32: =SUMIFS('Week 6 29th July'!J$2:J$150,'Week 6 29th July'!D$2:D$150,'Rider List'!A32) -> 1 | W32: =SUM(P32:V32) -> 12
A33: 41 | B33: Emily | C33: Middlebrooke | D33: Otley CC | E33: U14 | G33: =SUMIFS('Week 1 13th May'!I$2:I$150,'Week 1 13th May'!D$2:D$150,'Rider List'!A33) -> 8 | H33: =SUMIFS('Week 2 20th May'!I$2:I$150,'Week 2 20th May'!D$2:D$150,'Rider List'!A33) -> 12 | I33: =SUMIFS('Week 3 3rd June'!I$2:I$150,'Week 3 3rd June'!D$2:D$150,'Rider List'!A33) -> 13 | J33: =SUMIFS('Week 4 8th July'!I$2:I$150,'Week 4 8th July'!D$2:D$150,'Rider List'!A33) -> 11 | K33: =SUMIFS('Week 5 22nd July'!I$2:I$150,'Week 5 22nd July'!D$2:D$150,'Rider List'!A33) -> 13 | L33: =SUMIFS('Week 6 29th July'!I$2:I$150,'Week 6 29th July'!D$2:D$150,'Rider List'!A33) -> 11 | N33: =SUM(G33:M33) -> 68 | P33: =SUMIFS('Week 1 13th May'!J$2:J$150,'Week 1 13th May'!D$2:D$150,'Rider List'!A33) -> 0 | Q33: =SUMIFS('Week 2 20th May'!J$2:J$150,'Week 2 20th May'!D$2:D$150,'Rider List'!A33) -> 6 | R33: =SUMIFS('Week 3 3rd June'!J$2:J$150,'Week 3 3rd June'!D$2:D$150,'Rider List'!A33) -> 6 | S33: =SUMIFS('Week 4 8th July'!J$2:J$150,'Week 4 8th July'!D$2:D$150,'Rider List'!A33) -> 0 | T33: =SUMIFS('Week 5 22nd July'!J$2:J$150,'Week 5 22nd July'!D$2:D$150,'Rider List'!A33) -> 2 | U33: =SUMIFS('Week 6 29th July'!J$2:J$150,'Week 6 29th July'!D$2:D$150,'Rider List'!A33) -> 1 | W33: =SUM(P33:V33) -> 15
A34: 42 | B34: Isobel | C34: Wilks | D34: Otley CC | E34: U14 | G34: =SUMIFS('Week 1 13th May'!I$2:I$150,'Week 1 13th May'!D$2:D$150,'Rider List'!A34) -> 7 | H34: =SUMIFS('Week 2 20th May'!I$2:I$150,'Week 2 20th May'!D$2:D$150,'Rider List'!A34) -> 0 | I34: =SUMIFS('Week 3 3rd June'!I$2:I$150,'Week 3 3rd June'!D$2:D$150,'Rider List'!A34) -> 10 | J34: =SUMIFS('Week 4 8th July'!I$2:I$150,'Week 4 8th July'!D$2:D$150,'Rider List'!A34) -> 3 | K34: =SUMIFS('Week 5 22nd July'!I$2:I$150,'Week 5 22nd July'!D$2:D$150,'Rider List'!A34) -> 2 | L34: =SUMIFS('Week 6 29th July'!I$2:I$150,'Week 6 29th July'!D$2:D$150,'Rider List'!A34) -> 3 | N34: =SUM(G34:M34) -> 25 | P34: =SUMIFS('Week 1 13th May'!J$2:J$150,'Week 1 13th May'!D$2:D$150,'Rider List'!A34) -> 0 | Q34: =SUMIFS('Week 2 20th May'!J$2:J$150,'Week 2 20th May'!D$2:D$150,'Rider List'!A34) -> 0 | R34: =SUMIFS('Week 3 3rd June'!J$2:J$150,'Week 3 3rd June'!D$2:D$150,'Rider List'!A34) -> 2 | S34: =SUMIFS('Week 4 8th July'!J$2:J$150,'Week 4 8th July'!D$2:D$150,'Rider List'!A34) -> 0 | T34: =SUMIFS('Week 5 22nd July'!J$2:J$150,'Week 5 22nd July'!D$2:D$150,'Rider List'!A34) -> 1 | U34: =SUMIFS('Week 6 29th July'!J$2:J$150,'Week 6 29th July'!D$2:D$150,'Rider List'!A34) -> 10 | W34: =SUM(P34:V34) -> 13
A35: 46 | B35: Poppy | C35: Peacock | D35: Otley CC | E35: U14 | G35: =SUMIFS('Week 1 13th May'!I$2:I$150,'Week 1 13th May'!D$2:D$150,'Rider List'!A35) -> 13 | H35: =SUMIFS('Week 2 20th May'!I$2:I$150,'Week 2 20th May'!D$2:D$150,'Rider List'!A35) -> 8 | I35: =SUMIFS('Week 3 3rd June'!I$2:I$150,'Week 3 3rd June'!D$2:D$150,'Rider List'!A35) -> 12 | J35: =SUMIFS('Week 4 8th July'!I$2:I$150,'Week 4 8th July'!D$2:D$150,'Rider List'!A35) -> 10 | K35: =SUMIFS('Week 5 22nd July'!I$2:I$150,'Week 5 22nd July'!D$2:D$150,'Rider List'!A35) -> 10 | L35: =SUMIFS('Week 6 29th July'!I$2:I$150,'Week 6 29th July'!D$2:D$150,'Rider List'!A35) -> 12 | N35: =SUM(G35:M35) -> 65 | P35: =SUMIFS('Week 1 13th May'!J$2:J$150,'Week 1 13th May'!D$2:D$150,'Rider List'!A35) -> 0 | Q35: =SUMIFS('Week 2 20th May'!J$2:J$150,'Week 2 20th May'!D$2:D$150,'Rider List'!A35) -> 7 | R35: =SUMIFS('Week 3 3rd June'!J$2:J$150,'Week 3 3rd June'!D$2:D$150,'Rider List'!A35) -> 1 | S35: =SUMIFS('Week 4 8th July'!J$2:J$150,'Week 4 8th July'!D$2:D$150,'Rider List'!A35) -> 0 | T35: =SUMIFS('Week 5 22nd July'!J$2:J$150,'Week 5 22nd July'!D$2:D$150,'Rider List'!A35) -> 0 | U35: =SUMIFS('Week 6 29th July'!J$2:J$150,'Week 6 29th July'!D$2:D$150,'Rider List'!A35) -> 6 | W35: =SUM(P35:V35) -> 14
A36: 47 | B36: Elora | C36: Foley | D36: Leeds Mercury Cycling Club | E36: U16 | G36: =SUMIFS('Week 1 13th May'!I$2:I$150,'Week 1 13th May'!D$2:D$150,'Rider List'!A36) -> 0 | H36: =SUMIFS('Week 2 20th May'!I$2:I$150,'Week 2 20th May'!D$2:D$150,'Rider List'!A36) -> 0 | I36: =SUMIFS('Week 3 3rd June'!I$2:I$150,'Week 3 3rd June'!D$2:D$150,'Rider List'!A36) -> 0 | J36: =SUMIFS('Week 4 8th July'!I$2:I$150,'Week 4 8th July'!D$2:D$150,'Rider List'!A36) -> 0 | K36: =SUMIFS('Week 5 22nd July'!I$2:I$150,'Week 5 22nd July'!D$2:D$150,'Rider List'!A36) -> 0 | L36: =SUMIFS('Week 6 29th July'!I$2:I$150,'Week 6 29th July'!D$2:D$150,'Rider List'!A36) -> 0 | N36: =SUM(G36:M36) -> 0 | P36: =SUMIFS('Week 1 13th May'!J$2:J$150,'Week 1 13th May'!D$2:D$150,'Rider List'!A36) -> 0 | Q36: =SUMIFS('Week 2 20th May'!J$2:J$150,'Week 2 20th May'!D$2:D$150,'Rider List'!A36) -> 0 | R36: =SUMIFS('Week 3 3rd June'!J$2:J$150,'Week 3 3rd June'!D$2:D$150,'Rider List'!A36) -> 0 | S36: =SUMIFS('Week 4 8th July'!J$2:J$150,'Week 4 8th July'!D$2:D$150,'Rider List'!A36) -> 0 | T36: =SUMIFS('Week 5 22nd July'!J$2:J$150,'Week 5 22nd July'!D$2:D$150,'Rider List'!A36) -> 0 | U36: =SUMIFS('Week 6 29th July'!J$2:J$150,'Week 6 29th July'!D$2:D$150,'Rider List'!A36) -> 0 | W36: =SUM(P36:V36) -> 0
A37: 48 | B37: Anna | C37: Hobbs | D37: Valley Striders CC | E37: VW | G37: =SUMIFS('Week 1 13th May'!I$2:I$150,'Week 1 13th May'!D$2:D$150,'Rider List'!A37) -> 0 | H37: =SUMIFS('Week 2 20th May'!I$2:I$150,'Week 2 20th May'!D$2:D$150,'Rider List'!A37) -> 0 | I37: =SUMIFS('Week 3 3rd June'!I$2:I$150,'Week 3 3rd June'!D$2:D$150,'Rider List'!A37) -> 0 | J37: =SUMIFS('Week 4 8th July'!I$2:I$150,'Week 4 8th July'!D$2:D$150,'Rider List'!A37) -> 0 | K37: =SUMIFS('Week 5 22nd July'!I$2:I$150,'Week 5 22nd July'!D$2:D$150,'Rider List'!A37) -> 7 | L37: =SUMIFS('Week 6 29th July'!I$2:I$150,'Week 6 29th July'!D$2:D$150,'Rider List'!A37) -> 10 | N37: =SUM(G37:M37) -> 17 | P37: =SUMIFS('Week 1 13th May'!J$2:J$150,'Week 1 13th May'!D$2:D$150,'Rider List'!A37) -> 0 | Q37: =SUMIFS('Week 2 20th May'!J$2:J$150,'Week 2 20th May'!D$2:D$150,'Rider List'!A37) -> 0 | R37: =SUMIFS('Week 3 3rd June'!J$2:J$150,'Week 3 3rd June'!D$2:D$150,'Rider List'!A37) -> 0 | S37: =SUMIFS('Week 4 8th July'!J$2:J$150,'Week 4 8th July'!D$2:D$150,'Rider List'!A37) -> 0 | T37: =SUMIFS('Week 5 22nd July'!J$2:J$150,'Week 5 22nd July'!D$2:D$150,'Rider List'!A37) -> 5 | U37: =SUMIFS('Week 6 29th July'!J$2:J$150,'Week 6 29th July'!D$2:D$150,'Rider List'!A37) -> 4 | W37: =SUM(P37:V37) -> 9
A38: 49 | B38: Evie | C38: Carrington-Hobson | D38: Leeds Mercury Cycling Club | E38: U14 | G38: =SUMIFS('Week 1 13th May'!I$2:I$150,'Week 1 13th May'!D$2:D$150,'Rider List'!A38) -> 1 | H38: =SUMIFS('Week 2 20th May'!I$2:I$150,'Week 2 20th May'!D$2:D$150,'Rider List'!A38) -> 0 | I38: =SUMIFS('Week 3 3rd June'!I$2:I$150,'Week 3 3rd June'!D$2:D$150,'Rider List'!A38) -> 0 | J38: =SUMIFS('Week 4 8th July'!I$2:I$150,'Week 4 8th July'!D$2:D$150,'Rider List'!A38) -> 0 | K38: =SUMIFS('Week 5 22nd July'!I$2:I$150,'Week 5 22nd July'!D$2:D$150,'Rider List'!A38) -> 0 | L38: =SUMIFS('Week 6 29th July'!I$2:I$150,'Week 6 29th July'!D$2:D$150,'Rider List'!A38) -> 0 | N38: =SUM(G38:M38) -> 1 | P38: =SUMIFS('Week 1 13th May'!J$2:J$150,'Week 1 13th May'!D$2:D$150,'Rider List'!A38) -> 0 | Q38: =SUMIFS('Week 2 20th May'!J$2:J$150,'Week 2 20th May'!D$2:D$150,'Rider List'!A38) -> 0 | R38: =SUMIFS('Week 3 3rd June'!J$2:J$150,'Week 3 3rd June'!D$2:D$150,'Rider List'!A38) -> 0 | S38: =SUMIFS('Week 4 8th July'!J$2:J$150,'Week 4 8th July'!D$2:D$150,'Rider List'!A38) -> 0 | T38: =SUMIFS('Week 5 22nd July'!J$2:J$150,'Week 5 22nd July'!D$2:D$150,'Rider List'!A38) -> 0 | U38: =SUMIFS('Week 6 29th July'!J$2:J$150,'Week 6 29th July'!D$2:D$150,'Rider List'!A38) -> 0 | W38: =SUM(P38:V38) -> 0
A39: 43 | B39: Ellie | C39: Horrocks | D39: East Bradford CC | E39: U16 | G39: =SUMIFS('Week 1 13th May'!I$2:I$150,'Week 1 13th May'!D$2:D$150,'Rider List'!A39) -> 10 | H39: =SUMIFS('Week 2 20th May'!I$2:I$150,'Week 2 20th May'!D$2:D$150,'Rider List'!A39) -> 12 | I39: =SUMIFS('Week 3 3rd June'!I$2:I$150,'Week 3 3rd June'!D$2:D$150,'Rider List'!A39) -> 0 | J39: =SUMIFS('Week 4 8th July'!I$2:I$150,'Week 4 8th July'!D$2:D$150,'Rider List'!A39) -> 0 | K39: =SUMIFS('Week 5 22nd July'!I$2:I$150,'Week 5 22nd July'!D$2:D$150,'Rider List'!A39) -> 0 | L39: =SUMIFS('Week 6 29th July'!I$2:I$150,'Week 6 29th July'!D$2:D$150,'Rider List'!A39) -> 0 | N39: =SUM(G39:M39) -> 22 | P39: =SUMIFS('Week 1 13th May'!J$2:J$150,'Week 1 13th May'!D$2:D$150,'Rider List'!A39) -> 0 | Q39: =SUMIFS('Week 2 20th May'!J$2:J$150,'Week 2 20th May'!D$2:D$150,'Rider List'!A39) -> 7 | R39: =SUMIFS('Week 3 3rd June'!J$2:J$150,'Week 3 3rd June'!D$2:D$150,'Rider List'!A39) -> 0 | S39: =SUMIFS('Week 4 8th July'!J$2:J$150,'Week 4 8th July'!D$2:D$150,'Rider List'!A39) -> 0 | T39: =SUMIFS('Week 5 22nd July'!J$2:J$150,'Week 5 22nd July'!D$2:D$150,'Rider List'!A39) -> 0 | U39: =SUMIFS('Week 6 29th July'!J$2:J$150,'Week 6 29th July'!D$2:D$150,'Rider List'!A39) -> 0 | W39: =SUM(P39:V39) -> 7
A40: 50 | B40: Helen | C40: Goldthorpe | D40: Otley CC | E40: VW | G40: =SUMIFS('Week 1 13th May'!I$2:I$150,'Week 1 13th May'!D$2:D$150,'Rider List'!A40) -> 0 | H40: =SUMIFS('Week 2 20th May'!I$2:I$150,'Week 2 20th May'!D$2:D$150,'Rider List'!A40) -> 2 | I40: =SUMIFS('Week 3 3rd June'!I$2:I$150,'Week 3 3rd June'!D$2:D$150,'Rider List'!A40) -> 1 | J40: =SUMIFS('Week 4 8th July'!I$2:I$150,'Week 4 8th July'!D$2:D$150,'Rider List'!A40) -> 0 | K40: =SUMIFS('Week 5 22nd July'!I$2:I$150,'Week 5 22nd July'!D$2:D$150,'Rider List'!A40) -> 0 | L40: =SUMIFS('Week 6 29th July'!I$2:I$150,'Week 6 29th July'!D$2:D$150,'Rider List'!A40) -> 3 | N40: =SUM(G40:M40) -> 6 | P40: =SUMIFS('Week 1 13th May'!J$2:J$150,'Week 1 13th May'!D$2:D$150,'Rider List'!A40) -> 0 | Q40: =SUMIFS('Week 2 20th May'!J$2:J$150,'Week 2 20th May'!D$2:D$150,'Rider List'!A40) -> 1 | R40: =SUMIFS('Week 3 3rd June'!J$2:J$150,'Week 3 3rd June'!D$2:D$150,'Rider List'!A40) -> 3 | S40: =SUMIFS('Week 4 8th July'!J$2:J$150,'Week 4 8th July'!D$2:D$150,'Rider List'!A40) -> 0 | T40: =SUMIFS('Week 5 22nd July'!J$2:J$150,'Week 5 22nd July'!D$2:D$150,'Rider List'!A40) -> 0 | U40: =SUMIFS('Week 6 29th July'!J$2:J$150,'Week 6 29th July'!D$2:D$150,'Rider List'!A40) -> 0 | W40: =SUM(P40:V40) -> 4
...

Sheet Week 1 13th May
A1: Race No. | B1: Event Name | C1: Position | D1: Rider No | E1: Name | F1: Surname | G1: Club | H1: Cat | I1: Points | J1: Handicap Points
A2: 10 | B2: Fixed Wheel Women & Girls 3 Lap Scratch | C2: 1 | D2: 46 | E2: Poppy | F2: Peacock | G2: Otley CC | H2: U14 | I2: 4
C3: 2 | D3: 43 | E3: Ellie | F3: Horrocks | G3: East Bradford CC | H3: U16 | I3: 3
C4: 3 | D4: 42 | E4: Isobel | F4: Wilks | G4: Otley CC | H4: U14 | I4: 2
C5: 4 | D5: 41 | E5: Emily | F5: Middlebrooke | G5: Otley CC | H5: U14 | I5: 1
C6: 5 | D6: 40 | E6: Anna | F6: Kippen | G6: Leeds Mercury Cycling Club | H6: U14
C7: 6 | D7: 49 | E7: Evie | F7: Carrington-Hobson | G7: Leeds Mercury Cycling Club | H7: U14
A9: 11 | B9: Fixed Wheel 6 Lap Block Handicap Group A-C | C9: 1 | D9: 17 | E9: Matt | F9: Rotherham | H9: 3 | J9: 5
C10: 2 | D10: 74 | E10: George | F10: Radcliffe | G10: Otley CC | H10: U16 | J10: 3
C11: 3 | D11: 1 | E11: Harry | F11: Hunt | G11: Otley CC | H11: 3U23 | J11: 2
C12: 4 | D12: 5 | E12: Anthony | F12: Jones | G12: Knottingley Velo | H12: V3 | J12: 1
C13: 5 | D13: 6 | E13: Anthony | F13: Kitching | G13: East Bradford CC | H13: V
C14: 6 | D14: 73 | E14: Thomas | F14: Miller | G14: Clifton CC | H14: U14
C15: 7 | D15: 11 | E15: Michael | F15: Tyas | G15: Hull Thursday RC | H15: Sen
C16: 8 | D16: 8 | E16: Chris | F16: Radcliffe | G16: Otley CC | H16: V
C17: 9 | D17: 76 | E17: Esben | F17: Rost | G17: Leeds Mercury CC | H17: U16
C18: 10 | D18: 13 | E18: Thomas | F18: Goodall | G18: Knottingley Velo | H18: U23
C19: 11 | D19: 16 | E19: Jake | F19: Field | G19: Bramley Wheelers | H19: V3
C20: 12 | D20: 18 | E20: Yousef | F20: Habeeb | G20: Bramley Wheelers | H20: J
C21: 13 | D21: 72 | E21: James | F21: Luxton | G21: Otley CC | H21: U14
C22: 14 | D22: 12 | E22: Martin | F22: Watson | G22: Knottingley Velo | H22: V
A24: 16 | B24: Fixed Wheel 1 lap Sprint Heat 1 | C24: 1 | D24: 1 | E24: Harry | F24: Hunt | G24: Otley CC | H24: 3U23
C25: 2 | D25: 74 | E25: George | F25: Radcliffe | G25: Otley CC | H25: U16
C26: 3 | D26: 5 | E26: Anthony | F26: Jones | G26: Knottingley Velo | H26: V3
C27: 4 | D27: 8 | E27: Chris | F27: Radcliffe | G27: Otley CC | H27: V
C28: 5 | D28: 6 | E28: Anthony | F28: Kitching | G28: East Bradford CC | H28: V
C29: 6 | D29: 73 | E29: Thomas | F29: Miller | G29: Clifton CC | H29: U14
B31: Fixed Wheel 1 lap Sprint Heat 2 | C31: 1 | D31: 13 | E31: Thomas | F31: Goodall | G31: Knottingley Velo | H31: U23
C32: 2 | D32: 2 | E32: Jonathan | F32: Hunt | G32: Otley CC | H32: V
C33: 3 | D33: 14 | E33: Sean | F33: Jackson | G33: Seacroft Wheelers | H33: V4
C34: 4 | D34: 12 | E34: Martin | F34: Watson | G34: Knottingley Velo | H34: V
C35: 5 | D35: 11 | E35: Michael | F35: Tyas | G35: Hull Thursday RC | H35: Sen
B37: Fixed Wheel 1 lap Sprint Heat 3 | C37: 1 | D37: 16 | E37: Jake | F37: Field | G37: Bramley Wheelers | H37: V3
C38: 2 | D38: 17 | E38: Matt | F38: Rotherham | H38: 3
C39: 3 | D39: 15 | E39: Nick | F39: Islip | H39: V4
C40: 4 | D40: 76 | E40: Esben | F40: Rost | G40: Leeds Mercury CC | H40: U16
C41: 5 | D41: 72 | E41: James | F41: Luxton | G41: Otley CC | H41: U14
C42: 6 | D42: 18 | E42: Yousef | F42: Habeeb | G42: Bramley Wheelers | H42: J
A44: 17 | B44: Fixed Wheel Women & Girls 1 Lap Sprint | C44: 1 | D44: 42 | E44: Isobel | F44: Wilks | G44: Otley CC | H44: U14 | I44: 4
C45: 2 | D45: 41 | E45: Emily | F45: Middlebrooke | G45: Otley CC | H45: U14 | I45: 3
...

Sheet Week 2 20th May
A1: Race No. | B1: Event Name | C1: Position | D1: Rider No | E1: Name | F1: Surname | G1: Club | H1: Cat | I1: Points | J1: Handicap Points
A2: 14 | B2: Fixed Wheel Women & Girls 3 Lap Scratch | C2: 1 | D2: 46 | E2: Poppy | F2: Peacock | G2: Otley CC | H2: U14 | I2: 4
C3: 2 | D3: 43 | E3: Ellie | F3: Horrocks | G3: East Bradford CC | H3: U16 | I3: 3
C4: 3 | D4: 41 | E4: Emily | F4: Middlebrooke | G4: Otley CC | H4: U14 | I4: 2
C5: 4 | D5: 40 | E5: Anna | F5: Kippen | G5: Leeds Mercury Cycling Club | H5: U14 | I5: 1
C6: 5 | D6: 50 | E6: Helen | F6: Goldthorpe | G6: Otley CC | H6: VW
A8: 15 | B8: Fixed Wheel 6 Lap Block Handicap Group A-C | C8: 1 | D8: 17 | E8: Matt | F8: Rotherham | H8: 3 | J8: 5
C9: 2 | D9: 74 | E9: George | F9: Radcliffe | G9: Otley CC | H9: U16 | J9: 3
C10: 3 | D10: 16 | E10: Jake | F10: Field | G10: Bramley Wheelers | H10: V3 | J10: 2
C11: 4 | D11: 19 | E11: Alex | F11: Foley | G11: Leeds Mercury | H11: U23 | J11: 1
C12: 5 | D12: 1 | E12: Harry | F12: Hunt | G12: Otley CC | H12: 3U23
C13: 6 | D13: 8 | E13: Chris | F13: Radcliffe | G13: Otley CC | H13: V
C14: 7 | D14: 73 | E14: Thomas | F14: Miller | G14: Clifton CC | H14: U14
C15: 8 | D15: 12 | E15: Martin | F15: Watson | G15: Knottingley Velo | H15: V
C16: 9 | D16: 13 | E16: Thomas | F16: Goodall | G16: Knottingley Velo | H16: U23
C17: 10 | D17: 15 | E17: Nick | F17: Islip | H17: V4
C18: 11 | D18: 77 | E18: Ryan | F18: Thomas | G18: East Bradford Race Team | H18: U14
C19: 12 | D19: 20 | E19: Russell | F19: Brown | G19: VSCC | H19: V40
C20: 13 | D20: 18 | E20: Yousef | F20: Habeeb | G20: Bramley Wheelers | H20: J
C21: 14 | D21: 11 | E21: Michael | F21: Tyas | G21: Hull Thursday RC | H21: Sen
C22: 15 | D22: 72 | E22: James | F22: Luxton | G22: Otley CC | H22: U14
C23: 16 | D23: 6 | E23: Anthony | F23: Kitching | G23: East Bradford CC | H23: V
C24: 17 | D24: 14 | E24: Sean | F24: Jackson | G24: Seacroft Wheelers | H24: V4
C25: 18 | D25: 5 | E25: Anthony | F25: Jones | G25: Knottingley Velo | H25: V3
A27: 19 | B27: Fixed Wheel Women & Girls 1 Lap Sprint | C27: 1 | D27: 41 | E27: Emily | F27: Middlebrooke | G27: Otley CC | H27: U14 | I27: 4
C28: 2 | D28: 46 | E28: Poppy | F28: Peacock | G28: Otley CC | H28: U14 | I28: 3
C29: 3 | D29: 40 | E29: Anna | F29: Kippen | G29: Leeds Mercury Cycling Club | H29: U14 | I29: 2
C30: 4 | D30: 43 | E30: Ellie | F30: Horrocks | G30: East Bradford CC | H30: U16 | I30: 1
C31: 5 | D31: 50 | E31: Helen | F31: Goldthorpe | G31: Otley CC | H31: VW
A33: 20 | B33: Fixed Wheel 1 lap Sprint Heat 1 | C33: 1 | D33: 1 | E33: Harry | F33: Hunt | G33: Otley CC | H33: 3U23
C34: 2 | D34: 5 | E34: Anthony | F34: Jones | G34: Knottingley Velo | H34: V3
C35: 3 | D35: 19 | E35: Alex | F35: Foley | G35: Leeds Mercury | H35: U23
C36: 4 | D36: 13 | E36: Thomas | F36: Goodall | G36: Knottingley Velo | H36: U23
C37: 5 | D37: 18 | E37: Yousef | F37: Habeeb | G37: Bramley Wheelers | H37: J
B39: Fixed Wheel 1 lap Sprint Heat 2 | C39: 1 | D39: 17 | E39: Matt | F39: Rotherham | H39: 3
C40: 2 | D40: 16 | E40: Jake | F40: Field | G40: Bramley Wheelers | H40: V3
C41: 3 | D41: 15 | E41: Nick | F41: Islip | H41: V4
C42: 4 | D42: 6 | E42: Anthony | F42: Kitching | G42: East Bradford CC | H42: V
C43: 5 | D43: 72 | E43: James | F43: Luxton | G43: Otley CC | H43: U14
B45: Fixed Wheel 1 lap Sprint Heat 3 | C45: 1 | D45: 74 | E45: George | F45: Radcliffe | G45: Otley CC | H45: U16
...

Sheet Week 3 3rd June
A1: Race No. | B1: Event Name | C1: Position | D1: Rider No | E1: Name | F1: Surname | G1: Club | H1: Cat | I1: Points | J1: Handicap Points
A2: 14 | B2: Fixed Wheel Women & Girls 3 Lap Scratch | C2: 1 | D2: 46 | E2: Poppy | F2: Peacock | G2: Otley CC | H2: U14 | I2: 4
C3: 2 | D3: 42 | E3: Isobel | F3: Wilks | G3: Otley CC | H3: U14 | I3: 3
C4: 3 | D4: 41 | E4: Emily | F4: Middlebrooke | G4: Otley CC | H4: U14 | I4: 2
C5: 4 | D5: 40 | E5: Anna | F5: Kippen | G5: Leeds Mercury Cycling Club | H5: U14 | I5: 1
C6: 5 | D6: 50 | E6: Helen | F6: Goldthorpe | G6: Otley CC | H6: VW
A8: 15 | B8: Fixed Wheel 6 Lap Block Handicap Group A-C | C8: 1 | D8: 16 | E8: Jake | F8: Field | G8: Bramley Wheelers | H8: V3 | J8: 4
C9: 2 | D9: 8 | E9: Chris | F9: Radcliffe | G9: Otley CC | H9: V | J9: 3
C10: 3 | D10: 73 | E10: Thomas | F10: Miller | G10: Clifton CC | H10: U14 | J10: 4
C11: 4 | D11: 74 | E11: George | F11: Radcliffe | G11: Otley CC | H11: U16 | J11: 3
C12: 5 | D12: 13 | E12: Thomas | F12: Goodall | G12: Knottingley Velo | H12: U23 | J12: 2
C13: 6 | D13: 11 | E13: Michael | F13: Tyas | G13: Hull Thursday RC | H13: Sen | J13: 1
C14: 7 | D14: 5 | E14: Anthony | F14: Jones | G14: Knottingley Velo | H14: V3
C15: 8 | D15: 77 | E15: Ryan | F15: Thomas | G15: East Bradford Race Team | H15: U14 | J15: 2
C16: 9 | D16: 17 | E16: Matt | F16: Rotherham | H16: 3
C17: 10 | D17: 14 | E17: Sean | F17: Jackson | G17: Seacroft Wheelers | H17: V4
C18: 11 | D18: 18 | E18: Yousef | F18: Habeeb | G18: Bramley Wheelers | H18: J
C19: 12 | D19: 19 | E19: Alex | F19: Foley | G19: Leeds Mercury | H19: U23
C20: 13 | D20: 72 | E20: James | F20: Luxton | G20: Otley CC | H20: U14 | J20: 1
C21: 14 | D21: 1 | E21: Harry | F21: Hunt | G21: Otley CC | H21: 3U23
C22: 15 | D22: 12 | E22: Martin | F22: Watson | G22: Knottingley Velo | H22: V
A24: 22 | B24: Fixed Wheel Women & Girls 1 Lap Sprint | C24: 1 | D24: 41 | E24: Emily | F24: Middlebrooke | G24: Otley CC | H24: U14 | I24: 4
C25: 2 | D25: 42 | E25: Isobel | F25: Wilks | G25: Otley CC | H25: U14 | I25: 3
C26: 3 | D26: 40 | E26: Anna | F26: Kippen | G26: Leeds Mercury Cycling Club | H26: U14 | I26: 2
C27: 4 | D27: 46 | E27: Poppy | F27: Peacock | G27: Otley CC | H27: U14 | I27: 1
C28: 5 | D28: 50 | E28: Helen | F28: Goldthorpe | G28: Otley CC | H28: VW
A30: 23 | B30: Fixed Wheel 1 lap Sprint Heat 1 | C30: 1 | D30: 16 | E30: Jake | F30: Field | G30: Bramley Wheelers | H30: V3
C31: 2 | D31: 1 | E31: Harry | F31: Hunt | G31: Otley CC | H31: 3U23
C32: 3 | D32: 77 | E32: Ryan | F32: Thomas | G32: East Bradford Race Team | H32: U14
C33: 4 | D33: 8 | E33: Chris | F33: Radcliffe | G33: Otley CC | H33: V
C34: 5 | D34: 14 | E34: Sean | F34: Jackson | G34: Seacroft Wheelers | H34: V4
B36: Fixed Wheel 1 lap Sprint Heat 2 | C36: 1 | D36: 17 | E36: Matt | F36: Rotherham | H36: 3
C37: 2 | D37: 19 | E37: Alex | F37: Foley | G37: Leeds Mercury | H37: U23
C38: 3 | D38: 73 | E38: Thomas | F38: Miller | G38: Clifton CC | H38: U14
C39: 4 | D39: 18 | E39: Yousef | F39: Habeeb | G39: Bramley Wheelers | H39: J
C40: 5 | D40: 11 | E40: Michael | F40: Tyas | G40: Hull Thursday RC | H40: Sen
B42: Fixed Wheel 1 lap Sprint Heat 3 | C42: 1 | D42: 74 | E42: George | F42: Radcliffe | G42: Otley CC | H42: U16
C43: 2 | D43: 5 | E43: Anthony | F43: Jones | G43: Knottingley Velo | H43: V3
C44: 3 | D44: 13 | E44: Thomas | F44: Goodall | G44: Knottingley Velo | H44: U23
C45: 4 | D45: 72 | E45: James | F45: Luxton | G45: Otley CC | H45: U14
...

Sheet Standings after 3 weeks
A1: West Riding Track League 2019 Fixed Wheel
A2: Rider Details | H2: Scratch Race Points | Q2: Handicap Race Points
A3: Position | B3: No. | C3: Forename | D3: Name | E3: Club/Team Name | F3: Cat. | H3: Week 1 | I3: Week 2 | J3: Week 3 | K3: Week 4 | L3: Week 5 | M3: Week 6 | N3: Week 7 | O3: Total | Q3: Week 1 | R3: Week 2 | S3: Week 3 | T3: Week 4 | U3: Week 5 | V3: Week 6 | W3: Week 7 | X3: Total
A4: SENIOR
A5: 1 | B5: 1 | C5: Harry | D5: Hunt | E5: Otley CC | F5: 3U23 | H5: 11 | I5: 8 | J5: 5 | O5: 24 | Q5: 2 | R5: 0 | S5: 0 | X5: 2
A6: 2 | B6: 17 | C6: Matt | D6: Rotherham | F6: 3 | H6: 11 | I6: 4 | J6: 8 | O6: 23 | Q6: 5 | R6: 10 | S6: 0 | X6: 15 | AA6: Scratch Race Points
A7: 3 | B7: 19 | C7: Alex | D7: Foley | E7: Leeds Mercury | F7: U23 | H7: 0 | I7: 8 | J7: 6 | O7: 14 | Q7: 0 | R7: 1 | S7: 0 | X7: 1 | AB7: 1st | AC7: 2nd | AD7: 3rd | AE7: 4th | AF7: 5th | AG7: 6th
A8: 4 | B8: 5 | C8: Anthony | D8: Jones | E8: Knottingley Velo | F8: V3 | H8: 2 | I8: 1 | J8: 3 | O8: 6 | Q8: 1 | R8: 1 | S8: 1 | X8: 3 | AA8: Group 1 | AB8: 24 | AC8: 23 | AD8: 22 | AE8: 21 | AF8: 20 | AG8: 19
A9: 5 | B9: 8 | C9: Chris | D9: Radcliffe | E9: Otley CC | F9: V | H9: 2 | I9: 1 | J9: 3 | O9: 6 | Q9: 0 | R9: 2 | S9: 6 | X9: 8 | AA9: Group 2 | AB9: 18 | AC9: 17 | AD9: 16 | AE9: 15 | AF9: 14 | AG9: 13
A10: 6 | B10: 11 | C10: Michael | D10: Tyas | E10: Hull Thursday RC | F10: Sen | H10: 3 | I10: 2 | J10: 0 | O10: 5 | Q10: 0 | R10: 0 | S10: 6 | X10: 6 | AA10: Group 3 | AB10: 12 | AC10: 11 | AD10: 10 | AE10: 9 | AF10: 8 | AG10: 7
A11: 7 | B11: 6 | C11: Anthony | D11: Kitching | E11: East Bradford CC | F11: V | H11: 3 | I11: 1 | J11: 0 | O11: 4 | Q11: 0 | R11: 0 | S11: 0 | X11: 0 | AA11: Group 4 | AB11: 6 | AC11: 5 | AD11: 4 | AE11: 3 | AF11: 2 | AG11: 1
A12: 8 | B12: 16 | C12: Jake | D12: Field | E12: Bramley Wheelers | F12: V3 | H12: 1 | I12: 0 | J12: 3 | O12: 4 | Q12: 0 | R12: 2 | S12: 4 | X12: 6
A13: 9 | B13: 20 | C13: Russell | D13: Brown | E13: VSCC | F13: V40 | H13: 0 | I13: 2 | J13: 0 | O13: 2 | Q13: 0 | R13: 0 | S13: 0 | X13: 0 | AA13: Handicap Race Points
A14: 10 | B14: 2 | C14: Jonathan | D14: Hunt | E14: Otley CC | F14: V | H14: 0 | I14: 0 | J14: 0 | O14: 0 | Q14: 0 | R14: 0 | S14: 0 | X14: 0 | AA14: 1st | AB14: 2nd | AC14: 3rd | AD14: 4th
A15: 11 | B15: 4 | C15: Nicholas | D15: Islip | E15: West Riding Track League | F15: V4 | H15: 0 | I15: 0 | J15: 0 | O15: 0 | Q15: 0 | R15: 0 | S15: 0 | X15: 0 | AA15: 5 | AB15: 3 | AC15: 2 | AD15: 1
A16: 12 | B16: 7 | C16: Nigel | D16: Middlehurst | E16: Ellmore Factory Racing | F16: V4 | H16: 0 | I16: 0 | J16: 0 | O16: 0 | Q16: 0 | R16: 0 | S16: 0 | X16: 0
A17: 13 | B17: 10 | C17: Darren | D17: Stringer | E17: Kirklees Cycling Academy | F17: V3 | H17: 0 | I17: 0 | J17: 0 | O17: 0 | Q17: 0 | R17: 0 | S17: 0 | X17: 0
A18: 14 | B18: 12 | C18: Martin | D18: Watson | E18: Knottingley Velo | F18: V | H18: 0 | I18: 0 | J18: 0 | O18: 0 | Q18: 0 | R18: 0 | S18: 0 | X18: 0
A19: 15 | B19: 13 | C19: Thomas | D19: Goodall | E19: Knottingley Velo | F19: U23 | H19: 0 | I19: 0 | J19: 0 | O19: 0 | Q19: 0 | R19: 0 | S19: 2 | X19: 2
A20: 16 | B20: 14 | C20: Sean | D20: Jackson | E20: Seacroft Wheelers | F20: V4 | H20: 0 | I20: 0 | J20: 0 | O20: 0 | Q20: 0 | R20: 0 | S20: 0 | X20: 0
A21: 17 | B21: 15 | C21: Nick | D21: Islip | F21: V4 | H21: 0 | I21: 0 | J21: 0 | O21: 0 | Q21: 0 | R21: 0 | S21: 0 | X21: 0
A22: 18 | B22: 18 | C22: Yousef | D22: Habeeb | E22: Bramley Wheelers | F22: J | H22: 0 | I22: 0 | J22: 0 | O22: 0 | Q22: 0 | R22: 0 | S22: 0 | X22: 0
A23: YOUTH MALE
A24: 1 | B24: 74 | C24: George | D24: Radcliffe | E24: Otley CC | F24: U16 | H24: 15 | I24: 11 | J24: 10 | O24: 36 | Q24: 3 | R24: 3 | S24: 3 | X24: 9
A25: 2 | B25: 77 | C25: Ryan | D25: Thomas | E25: East Bradford Race Team | F25: U14 | H25: 0 | I25: 6 | J25: 6 | O25: 12 | Q25: 0 | R25: 0 | S25: 2 | X25: 2
A26: 3 | B26: 73 | C26: Thomas | D26: Miller | E26: Clifton CC | F26: U14 | H26: 5 | I26: 4 | J26: 2 | O26: 11 | Q26: 0 | R26: 3 | S26: 6 | X26: 9
A27: 4 | B27: 72 | C27: James | D27: Luxton | E27: Otley CC | F27: U14 | H27: 1 | I27: 1 | J27: 1 | O27: 3 | Q27: 0 | R27: 0 | S27: 1 | X27: 1
A28: 5 | B28: 76 | C28: Esben | D28: Rost | E28: Leeds Mercury CC | F28: U16 | H28: 3 | I28: 0 | J28: 0 | O28: 3 | Q28: 0 | R28: 0 | S28: 0 | X28: 0
A29: 6 | B29: 70 | C29: Archie | D29: Fletcher | E29: Sportcity Velo | F29: U14 | H29: 0 | I29: 0 | J29: 0 | O29: 0 | Q29: 0 | R29: 0 | S29: 0 | X29: 0
A30: 7 | B30: 71 | C30: Sam | D30: Hollis | E30: Albarosa Cycling Club | F30: U16 | H30: 0 | I30: 0 | J30: 0 | O30: 0 | Q30: 0 | R30: 0 | S30: 0 | X30: 0
A31: WOMEN & GIRLS
A32: 1 | B32: 41 | C32: Emily | D32: Middlebrooke | E32: Otley CC | F32: U14 | H32: 8 | I32: 12 | J32: 13 | O32: 33 | Q32: 0 | R32: 6 | S32: 6 | X32: 12
A33: 2 | B33: 46 | C33: Poppy | D33: Peacock | E33: Otley CC | F33: U14 | H33: 13 | I33: 8 | J33: 12 | O33: 33 | Q33: 0 | R33: 7 | S33: 1 | X33: 8
A34: 3 | B34: 43 | C34: Ellie | D34: Horrocks | E34: East Bradford CC | F34: U16 | H34: 10 | I34: 12 | J34: 0 | O34: 22 | Q34: 0 | R34: 7 | S34: 0 | X34: 7
