Workbook

Sheet Rider List
A1: Rider Details | G1: Scratch Race Points | P1: Handicap Race Points
A2: No. | B2: Forename | C2: Name | D2: Club/Team Name | E2: Cat. | G2: Week 1 | H2: Week 2 | I2: Week 3 | J2: Week 4 | K2: Week 5 | L2: Week 6 | M2: Week 7 | N2: Total Points | P2: Week 1 | Q2: Week 2 | R2: Week 3 | S2: Week 4 | T2: Week 5 | U2: Week 6 | V2: Week 7 | W2: Total Points
A3: SENIOR
A4: 1 | B4: Harry | C4: Hunt | D4: Otley CC | E4: 3U23 | G4: =SUMIFS('Week 1 13th May'!I$2:I$150,'Week 1 13th May'!D$2:D$150,'Rider List'!A4) -> 11 | H4: =SUMIFS('Week 2 20th May'!I$2:I$150,'Week 2 20th May'!D$2:D$150,'Rider List'!A4) -> 8 | I4: =SUMIFS('Week 3 3rd June'!I$2:I$150,'Week 3 3rd June'!D$2:D$150,'Rider List'!A4) -> 5 | J4: =SUMIFS('Week 4 8th July'!I$2:I$150,'Week 4 8th July'!D$2:D$150,'Rider List'!A4) -> 6 | K4: =SUMIFS('Week 5 22nd July'!I$2:I$150,'Week 5 22nd July'!D$2:D$150,'Rider List'!A4) -> 11 | L4: =SUMIFS('Week 6 29th July'!I$2:I$150,'Week 6 29th July'!D$2:D$150,'Rider List'!A4) -> 6 | N4: =SUM(G4:M4) -> 47 | P4: =SUMIFS('Week 1 13th May'!J$2:J$150,'Week 1 13th May'!D$2:D$150,'Rider List'!A4) -> 2 | Q4: =SUMIFS('Week 2 20th May'!J$2:J$150,'Week 2 20th May'!D$2:D$150,'Rider List'!A4) -> 0 | R4: =SUMIFS('Week 3 3rd June'!J$2:J$150,'Week 3 3rd June'!D$2:D$150,'Rider List'!A4) -> 0 | S4: =SUMIFS('Week 4 8th July'!J$2:J$150,'Week 4 8th July'!D$2:D$150,'Rider List'!A4) -> 0 | T4: =SUMIFS('Week 5 22nd July'!J$2:J$150,'Week 5 22nd July'!D$2:D$150,'Rider List'!A4) -> 1 | U4: =SUMIFS('Week 6 29th July'!J$2:J$150,'Week 6 29th July'!D$2:D$150,'Rider List'!A4) -> 6 | W4: =SUM(P4:V4) -> 9
A5: 2 | B5: Jonathan | C5: Hunt | D5: Otley CC | E5: V | G5: =SUMIFS('Week 1 13th May'!I$2:I$150,'Week 1 13th May'!D$2:D$150,'Rider List'!A5) -> 0 | H5: =SUMIFS('Week 2 20th May'!I$2:I$150,'Week 2 20th May'!D$2:D$150,'Rider List'!A5) -> 0 | I5: =SUMIFS('Week 3 3rd June'!I$2:I$150,'Week 3 3rd June'!D$2:D$150,'Rider List'!A5) -> 0 | J5: =SUMIFS('Week 4 8th July'!I$2:I$150,'Week 4 8th July'!D$2:D$150,'Rider List'!A5) -> 0 | K5: =SUMIFS('Week 5 22nd July'!I$2:I$150,'Week 5 22nd July'!D$2:D$150,'Rider List'!A5) -> 0 | L5: =SUMIFS('Week 6 29th July'!I$2:I$150,'Week 6 29th July'!D$2:D$150,'Rider List'!A5) -> 0 | N5: =SUM(G5:M5) -> 0 | P5: =SUMIFS('Week 1 13th May'!J$2:J$150,'Week 1 13th May'!D$2:D$150,'Rider List'!A5) -> 0 | Q5: =SUMIFS('Week 2 20th May'!J$2:J$150,'Week 2 20th May'!D$2:D$150,'Rider List'!A5) -> 0 | R5: =SUMIFS('Week 3 3rd June'!J$2:J$150,'Week 3 3rd June'!D$2:D$150,'Rider List'!A5) -> 0 | S5: =SUMIFS('Week 4 8th July'!J$2:J$150,'Week 4 8th July'!D$2:D$150,'Rider List'!A5) -> 0 | T5: =SUMIFS('Week 5 22nd July'!J$2:J$150,'Week 5 22nd July'!D$2:D$150,'Rider List'!A5) -> 0 | U5: =SUMIFS('Week 6 29th July'!J$2:J$150,'Week 6 29th July'!D$2:D$150,'Rider List'!A5) -> 0 | W5: =SUM(P5:V5) -> 0
A6: 4 | B6: Nicholas | C6: Islip | D6: West Riding Track League | E6: V4 | G6: =SUMIFS('Week 1 13th May'!I$2:I$150,'Week 1 13th May'!D$2:D$150,'Rider List'!A6) -> 0 | H6: =SUMIFS('Week 2 20th May'!I$2:I$150,'Week 2 20th May'!D$2:D$150,'Rider List'!A6) -> 0 | I6: =SUMIFS('Week 3 3rd June'!I$2:I$150,'Week 3 3rd June'!D$2:D$150,'Rider List'!A6) -> 0 | J6: =SUMIFS('Week 4 8th July'!I$2:I$150,'Week 4 8th July'!D$2:D$150,'Rider List'!A6) -> 0 | K6: =SUMIFS('Week 5 22nd July'!I$2:I$150,'Week 5 22nd July'!D$2:D$150,'Rider List'!A6) -> 0 | L6: =SUMIFS('Week 6 29th July'!I$2:I$150,'Week 6 29th July'!D$2:D$150,'Rider List'!A6) -> 0 | N6: =SUM(G6:M6) -> 0 | P6: =SUMIFS('Week 1 13th May'!J$2:J$150,'Week 1 13th May'!D$2:D$150,'Rider List'!A6) -> 0 | Q6: =SUMIFS('Week 2 20th May'!J$2:J$150,'Week 2 20th May'!D$2:D$150,'Rider List'!A6) -> 0 | R6: =SUMIFS('Week 3 3rd June'!J$2:J$150,'Week 3 3rd June'!D$2:D$150,'Rider List'!A6) -> 0 | S6: =SUMIFS('Week 4 8th July'!J$2:J$150,'Week 4 8th July'!D$2:D$150,'Rider List'!A6) -> 0 | T6: =SUMIFS('Week 5 22nd July'!J$2:J$150,'Week 5 22nd July'!D$2:D$150,'Rider List'!A6) -> 0 | U6: =SUMIFS('Week 6 29th July'!J$2:J$150,'Week 6 29th July'!D$2:D$150,'Rider List'!A6) -> 0 | W6: =SUM(P6:V6) -> 0
A7: 5 | B7: Anthony | C7: Jones | D7: Knottingley Velo | E7: V3 | G7: =SUMIFS('Week 1 13th May'!I$2:I$150,'Week 1 13th May'!D$2:D$150,'Rider List'!A7) -> 2 | H7: =SUMIFS('Week 2 20th May'!I$2:I$150,'Week 2 20th May'!D$2:D$150,'Rider List'!A7) -> 1 | I7: =SUMIFS('Week 3 3rd June'!I$2:I$150,'Week 3 3rd June'!D$2:D$150,'Rider List'!A7) -> 3 | J7: =SUMIFS('Week 4 8th July'!I$2:I$150,'Week 4 8th July'!D$2:D$150,'Rider List'!A7) -> 2 | K7: =SUMIFS('Week 5 22nd July'!I$2:I$150,'Week 5 22nd July'!D$2:D$150,'Rider List'!A7) -> 0 | L7: =SUMIFS('Week 6 29th July'!I$2:I$150,'Week 6 29th July'!D$2:D$150,'Rider List'!A7) -> 2 | N7: =SUM(G7:M7) -> 10 | P7: =SUMIFS('Week 1 13th May'!J$2:J$150,'Week 1 13th May'!D$2:D$150,'Rider List'!A7) -> 1 | Q7: =SUMIFS('Week 2 20th May'!J$2:J$150,'Week 2 20th May'!D$2:D$150,'Rider List'!A7) -> 1 | R7: =SUMIFS('Week 3 3rd June'!J$2:J$150,'Week 3 3rd June'!D$2:D$150,'Rider List'!A7) -> 1 | S7: =SUMIFS('Week 4 8th July'!J$2:J$150,'Week 4 8th July'!D$2:D$150,'Rider List'!A7) -> 0 | T7: =SUMIFS('Week 5 22nd July'!J$2:J$150,'Week 5 22nd July'!D$2:D$150,'Rider List'!A7) -> 0 | U7: =SUMIFS('Week 6 29th July'!J$2:J$150,'Week 6 29th July'!D$2:D$150,'Rider List'!A7) -> 2 | W7: =SUM(P7:V7) -> 5
A8: 6 | B8: Anthony | C8: Kitching | D8: East Bradford CC | E8: V | G8: =SUMIFS('Week 1 13th May'!I$2:I$150,'Week 1 13th May'!D$2:D$150,'Rider List'!A8) -> 3 | H8: =SUMIFS('Week 2 20th May'!I$2:I$150,'Week 2 20th May'!D$2:D$150,'Rider List'!A8) -> 1 | I8: =SUMIFS('Week 3 3rd June'!I$2:I$150,'Week 3 3rd June'!D$2:D$150,'Rider List'!A8) -> 0 | J8: =SUMIFS('Week 4 8th July'!I$2:I$150,'Week 4 8th July'!D$2:D$150,'Rider List'!A8) -> 0 | K8: =SUMIFS('Week 5 22nd July'!I$2:I$150,'Week 5 22nd July'!D$2:D$150,'Rider List'!A8) -> 0 | L8: =SUMIFS('Week 6 29th July'!I$2:I$150,'Week 6 29th July'!D$2:D$150,'Rider List'!A8) -> 0 | N8: =SUM(G8:M8) -> 4 | P8: =SUMIFS('Week 1 13th May'!J$2:J$150,'Week 1 13th May'!D$2:D$150,'Rider List'!A8) -> 0 | Q8: =SUMIFS('Week 2 20th May'!J$2:J$150,'Week 2 20th May'!D$2:D$150,'Rider List'!A8) -> 0 | R8: =SUMIFS('Week 3 3rd June'!J$2:J$150,'Week 3 3rd June'!D$2:D$150,'Rider List'!A8) -> 0 | S8: =SUMIFS('Week 4 8th July'!J$2:J$150,'Week 4 8th July'!D$2:D$150,'Rider List'!A8) -> 0 | T8: =SUMIFS('Week 5 22nd July'!J$2:J$150,'Week 5 22nd July'!D$2:D$150,'Rider List'!A8) -> 0 | U8: =SUMIFS('Week 6 29th July'!J$2:J$150,'Week 6 29th July'!D$2:D$150,'Rider List'!A8) -> 0 | W8: =SUM(P8:V8) -> 0
A9: 7 | B9: Nigel | C9: Middlehurst | D9: Ellmore Factory Racing | E9: V4 | G9: =SUMIFS('Week 1 13th May'!I$2:I$150,'Week 1 13th May'!D$2:D$150,'Rider List'!A9) -> 0 | H9: =SUMIFS('Week 2 20th May'!I$2:I$150,'Week 2 20th May'!D$2:D$150,'Rider List'!A9) -> 0 | I9: =SUMIFS('Week 3 3rd June'!I$2:I$150,'Week 3 3rd June'!D$2:D$150,'Rider List'!A9) -> 0 | J9: =SUMIFS('Week 4 8th July'!I$2:I$150,'Week 4 8th July'!D$2:D$150,'Rider List'!A9) -> 0 | K9: =SUMIFS('Week 5 22nd July'!I$2:I$150,'Week 5 22nd July'!D$2:D$150,'Rider List'!A9) -> 0 | L9: =SUMIFS('Week 6 29th July'!I$2:I$150,'Week 6 29th July'!D$2:D$150,'Rider List'!A9) -> 0 | N9: =SUM(G9:M9) -> 0 | P9: =SUMIFS('Week 1 13th May'!J$2:J$150,'Week 1 13th May'!D$2:D$150,'Rider List'!A9) -> 0 | Q9: =SUMIFS('Week 2 20th May'!J$2:J$150,'Week 2 20th May'!D$2:D$150,'Rider List'!A9) -> 0 | R9: =SUMIFS('Week 3 3rd June'!J$2:J$150,'Week 3 3rd June'!D$2:D$150,'Rider List'!A9) -> 0 | S9: =SUMIFS('Week 4 8th July'!J$2:J$150,'Week 4 8th July'!D$2:D$150,'Rider List'!A9) -> 0 | T9: =SUMIFS('Week 5 22nd July'!J$2:J$150,'Week 5 22nd July'!D$2:D$150,'Rider List'!A9) -> 0 | U9: =SUMIFS('Week 6 29th July'!J$2:J$150,'Week 6 29th July'!D$2:D$150,'Rider List'!A9) -> 0 | W9: =SUM(P9:V9) -> 0
A10: 8 | B10: Chris | C10: Radcliffe | D10: Otley CC | E10: V | G10: =SUMIFS('Week 1 13th May'!I$2:I$150,'Week 1 13th May'!D$2:D$150,'Rider List'!A10) -> 2 | H10: =SUMIFS('Week 2 20th May'!I$2:I$150,'Week 2 20th May'!D$2:D$150,'Rider List'!A10) -> 1 | I10: =SUMIFS('Week 3 3rd June'!I$2:I$150,'Week 3 3rd June'!D$2:D$150,'Rider List'!A10) -> 3 | J10: =SUMIFS('Week 4 8th July'!I$2:I$150,'Week 4 8th July'!D$2:D$150,'Rider List'!A10) -> 0 | K10: =SUMIFS('Week 5 22nd July'!I$2:I$150,'Week 5 22nd July'!D$2:D$150,'Rider List'!A10) -> 0 | L10: =SUMIFS('Week 6 29th July'!I$2:I$150,'Week 6 29th July'!D$2:D$150,'Rider List'!A10) -> 0 | N10: =SUM(G10:M10) -> 6 | P10: =SUMIFS('Week 1 13th May'!J$2:J$150,'Week 1 13th May'!D$2:D$150,'Rider List'!A10) -> 0 | Q10: =SUMIFS('Week 2 20th May'!J$2:J$150,'Week 2 20th May'!D$2:D$150,'Rider List'!A10) -> 2 | R10: =SUMIFS('Week 3 3rd June'!J$2:J$150,'Week 3 3rd June'!D$2:D$150,'Rider List'!A10) -> 6 | S10: =SUMIFS('Week 4 8th July'!J$2:J$150,'Week 4 8th July'!D$2:D$150,'Rider List'!A10) -> 0 | T10: =SUMIFS('Week 5 22nd July'!J$2:J$150,'Week 5 22nd July'!D$2:D$150,'Rider List'!A10) -> 2 | U10: =SUMIFS('Week 6 29th July'!J$2:J$150,'Week 6 29th July'!D$2:D$150,'Rider List'!A10) -> 0 | W10: =SUM(P10:V10) -> 10
A11: 10 | B11: Darren | C11: Stringer | D11: Kirklees Cycling Academy | E11: V3 | G11: =SUMIFS('Week 1 13th May'!I$2:I$150,'Week 1 13th May'!D$2:D$150,'Rider List'!A11) -> 0 | H11: =SUMIFS('Week 2 20th May'!I$2:I$150,'Week 2 20th May'!D$2:D$150,'Rider List'!A11) -> 0 | I11: =SUMIFS('Week 3 3rd June'!I$2:I$150,'Week 3 3rd June'!D$2:D$150,'Rider List'!A11) -> 0 | J11: =SUMIFS('Week 4 8th July'!I$2:I$150,'Week 4 8th July'!D$2:D$150,'Rider List'!A11) -> 0 | K11: =SUMIFS('Week 5 22nd July'!I$2:I$150,'Week 5 22nd July'!D$2:D$150,'Rider List'!A11) -> 0 | L11: =SUMIFS('Week 6 29th July'!I$2:I$150,'Week 6 29th July'!D$2:D$150,'Rider List'!A11) -> 0 | N11: =SUM(G11:M11) -> 0 | P11: =SUMIFS('Week 1 13th May'!J$2:J$150,'Week 1 13th May'!D$2:D$150,'Rider List'!A11) -> 0 | Q11: =SUMIFS('Week 2 20th May'!J$2:J$150,'Week 2 20th May'!D$2:D$150,'Rider List'!A11) -> 0 | R11: =SUMIFS('Week 3 3rd June'!J$2:J$150,'Week 3 3rd June'!D$2:D$150,'Rider List'!A11) -> 0 | S11: =SUMIFS('Week 4 8th July'!J$2:J$150,'Week 4 8th July'!D$2:D$150,'Rider List'!A11) -> 0 | T11: =SUMIFS('Week 5 22nd July'!J$2:J$150,'Week 5 22nd July'!D$2:D$150,'Rider List'!A11) -> 0 | U11: =SUMIFS('Week 6 29th July'!J$2:J$150,'Week 6 29th July'!D$2:D$150,'Rider List'!A11) -> 0 | W11: =SUM(P11:V11) -> 0
A12: 11 | B12: Michael | C12: Tyas | D12: Hull Thursday RC | E12: Sen | G12: =SUMIFS('Week 1 13th May'!I$2:I$150,'Week 1 13th May'!D$2:D$150,'Rider List'!A12) -> 3 | H12: =SUMIFS('Week 2 20th May'!I$2:I$150,'Week 2 20th May'!D$2:D$150,'Rider List'!A12) -> 2 | I12: =SUMIFS('Week 3 3rd June'!I$2:I$150,'Week 3 3rd June'!D$2:D$150,'Rider List'!A12) -> 0 | J12: =SUMIFS('Week 4 8th July'!I$2:I$150,'Week 4 8th July'!D$2:D$150,'Rider List'!A12) -> 1 | K12: =SUMIFS('Week 5 22nd July'!I$2:I$150,'Week 5 22nd July'!D$2:D$150,'Rider List'!A12) -> 2 | L12: =SUMIFS('Week 6 29th July'!I$2:I$150,'Week 6 29th July'!D$2:D$150,'Rider List'!A12) -> 0 | N12: =SUM(G12:M12) -> 8 | P12: =SUMIFS('Week 1 13th May'!J$2:J$150,'Week 1 13th May'!D$2:D$150,'Rider List'!A12) -> 0 | Q12: =SUMIFS('Week 2 20th May'!J$2:J$150,'Week 2 20th May'!D$2:D$150,'Rider List'!A12) -> 0 | R12: =SUMIFS('Week 3 3rd June'!J$2:J$150,'Week 3 3rd June'!D$2:D$150,'Rider List'!A12) -> 6 | S12: =SUMIFS('Week 4 8th July'!J$2:J$150,'Week 4 8th July'!D$2:D$150,'Rider List'!A12) -> 0 | T12: =SUMIFS('Week 5 22nd July'!J$2:J$150,'Week 5 22nd July'!D$2:D$150,'Rider List'!A12) -> 1 | U12: =SUMIFS('Week 6 29th July'!J$2:J$150,'Week 6 29th July'!D$2:D$150,'Rider List'!A12) -> 0 | W12: =SUM(P12:V12) -> 7
A13: 12 | B13: Martin | C13: Watson | D13: Knottingley Velo | E13: V | G13: =SUMIFS('Week 1 13th May'!I$2:I$150,'Week 1 13th May'!D$2:D$150,'Rider List'!A13) -> 0 | H13: =SUMIFS('Week 2 20th May'!I$2:I$150,'Week 2 20th May'!D$2:D$150,'Rider List'!A13) -> 0 | I13: =SUMIFS('Week 3 3rd June'!I$2:I$150,'Week 3 3rd June'!D$2:D$150,'Rider List'!A13) -> 0 | J13: =SUMIFS('Week 4 8th July'!I$2:I$150,'Week 4 8th July'!D$2:D$150,'Rider List'!A13) -> 0 | K13: =SUMIFS('Week 5 22nd July'!I$2:I$150,'Week 5 22nd July'!D$2:D$150,'Rider List'!A13) -> 0 | L13: =SUMIFS('Week 6 29th July'!I$2:I$150,'Week 6 29th July'!D$2:D$150,'Rider List'!A13) -> 0 | N13: =SUM(G13:M13) -> 0 | P13: =SUMIFS('Week 1 13th May'!J$2:J$150,'Week 1 13th May'!D$2:D$150,'Rider List'!A13) -> 0 | Q13: =SUMIFS('Week 2 20th May'!J$2:J$150,'Week 2 20th May'!D$2:D$150,'Rider List'!A13) -> 0 | R13: =SUMIFS('Week 3 3rd June'!J$2:J$150,'Week 3 3rd June'!D$2:D$150,'Rider List'!A13) -> 0 | S13: =SUMIFS('Week 4 8th July'!J$2:J$150,'Week 4 8th July'!D$2:D$150,'Rider List'!A13) -> 0 | T13: =SUMIFS('Week 5 22nd July'!J$2:J$150,'Week 5 22nd July'!D$2:D$150,'Rider List'!A13) -> 5 | U13: =SUMIFS('Week 6 29th July'!J$2:J$150,'Week 6 29th July'!D$2:D$150,'Rider List'!A13) -> 1 | W13: =SUM(P13:V13) -> 6
A14: 13 | B14: Thomas | C14: Goodall | D14: Knottingley Velo | E14: U23 | G14: =SUMIFS('Week 1 13th May'!I$2:I$150,'Week 1 13th May'!D$2:D$150,'Rider List'!A14) -> 0 | H14: =SUMIFS('Week 2 20th May'!I$2:I$150,'Week 2 20th May'!D$2:D$150,'Rider List'!A14) -> 0 | I14: =SUMIFS('Week 3 3rd June'!I$2:I$150,'Week 3 3rd June'!D$2:D$150,'Rider List'!A14) -> 0 | J14: =SUMIFS('Week 4 8th July'!I$2:I$150,'Week 4 8th July'!D$2:D$150,'Rider List'!A14) -> 0 | K14: =SUMIFS('Week 5 22nd July'!I$2:I$150,'Week 5 22nd July'!D$2:D$150,'Rider List'!A14) -> 2 | L14: =SUMIFS('Week 6 29th July'!I$2:I$150,'Week 6 29th July'!D$2:D$150,'Rider List'!A14) -> 0 | N14: =SUM(G14:M14) -> 2 | P14: =SUMIFS('Week 1 13th May'!J$2:J$150,'Week 1 13th May'!D$2:D$150,'Rider List'!A14) -> 0 | Q14: =SUMIFS('Week 2 20th May'!J$2:J$150,'Week 2 20th May'!D$2:D$150,'Rider List'!A14) -> 0 | R14: =SUMIFS('Week 3 3rd June'!J$2:J$150,'Week 3 3rd June'!D$2:D$150,'Rider List'!A14) -> 2 | S14: =SUMIFS('Week 4 8th July'!J$2:J$150,'Week 4 8th July'!D$2:D$150,'Rider List'!A14) -> 1 | T14: =SUMIFS('Week 5 22nd July'!J$2:J$150,'Week 5 22nd July'!D$2:D$150,'Rider List'!A14) -> 2 | U14: =SUMIFS('Week 6 29th July'!J$2:J$150,'Week 6 29th July'!D$2:D$150,'Rider List'!A14) -> 0 | W14: =SUM(P14:V14) -> 5
A15: 14 | B15: Sean | C15: Jackson | D15: Seacroft Wheelers | E15: V4 | G15: =SUMIFS('Week 1 13th May'!I$2:I$150,'Week 1 13th May'!D$2:D$150,'Rider List'!A15) -> 0 | H15: =SUMIFS('Week 2 20th May'!I$2:I$150,'Week 2 20th May'!D$2:D$150,'Rider List'!A15) -> 0 | I15: =SUMIFS('Week 3 3rd June'!I$2:I$150,'Week 3 3rd June'!D$2:D$150,'Rider List'!A15) -> 0 | J15: =SUMIFS('Week 4 8th July'!I$2:I$150,'Week 4 8th July'!D$2:D$150,'Rider List'!A15) -> 0 | K15: =SUMIFS('Week 5 22nd July'!I$2:I$150,'Week 5 22nd July'!D$2:D$150,'Rider List'!A15) -> 0 | L15: =SUMIFS('Week 6 29th July'!I$2:I$150,'Week 6 29th July'!D$2:D$150,'Rider List'!A15) -> 0 | N15: =SUM(G15:M15) -> 0 | P15: =SUMIFS('Week 1 13th May'!J$2:J$150,'Week 1 13th May'!D$2:D$150,'Rider List'!A15) -> 0 | Q15: =SUMIFS('Week 2 20th May'!J$2:J$150,'Week 2 20th May'!D$2:D$150,'Rider List'!A15) -> 0 | R15: =SUMIFS('Week 3 3rd June'!J$2:J$150,'Week 3 3rd June'!D$2:D$150,'Rider List'!A15) -> 0 | S15: =SUMIFS('Week 4 8th July'!J$2:J$150,'Week 4 8th July'!D$2:D$150,'Rider List'!A15) -> 0 | T15: =SUMIFS('Week 5 22nd July'!J$2:J$150,'Week 5 22nd July'!D$2:D$150,'Rider List'!A15) -> 0 | U15: =SUMIFS('Week 6 29th July'!J$2:J$150,'Week 6 29th July'!D$2:D$150,'Rider List'!A15) -> 0 | W15: =SUM(P15:V15) -> 0
A16: 15 | B16: Nick | C16: Islip | E16: V4 | G16: =SUMIFS('Week 1 13th May'!I$2:I$150,'Week 1 13th May'!D$2:D$150,'Rider List'!A16) -> 0 | H16: =SUMIFS('Week 2 20th May'!I$2:I$150,'Week 2 20th May'!D$2:D$150,'Rider List'!A16) -> 0 | I16: =SUMIFS('Week 3 3rd June'!I$2:I$150,'Week 3 3rd June'!D$2:D$150,'Rider List'!A16) -> 0 | J16: =SUMIFS('Week 4 8th July'!I$2:I$150,'Week 4 8th July'!D$2:D$150,'Rider List'!A16) -> 0 | K16: =SUMIFS('Week 5 22nd July'!I$2:I$150,'Week 5 22nd July'!D$2:D$150,'Rider List'!A16) -> 0 | L16: =SUMIFS('Week 6 29th July'!I$2:I$150,'Week 6 29th July'!D$2:D$150,'Rider List'!A16) -> 0 | N16: =SUM(G16:M16) -> 0 | P16: =SUMIFS('Week 1 13th May'!J$2:J$150,'Week 1 13th May'!D$2:D$150,'Rider List'!A16) -> 0 | Q16: =SUMIFS('Week 2 20th May'!J$2:J$150,'Week 2 20th May'!D$2:D$150,'Rider List'!A16) -> 0 | R16: =SUMIFS('Week 3 3rd June'!J$2:J$150,'Week 3 3rd June'!D$2:D$150,'Rider List'!A16) -> 0 | S16: =SUMIFS('Week 4 8th July'!J$2:J$150,'Week 4 8th July'!D$2:D$150,'Rider List'!A16) -> 0 | T16: =SUMIFS('Week 5 22nd July'!J$2:J$150,'Week 5 22nd July'!D$2:D$150,'Rider List'!A16) -> 0 | U16: =SUMIFS('Week 6 29th July'!J$2:J$150,'Week 6 29th July'!D$2:D$150,'Rider List'!A16) -> 0 | W16: =SUM(P16:V16) -> 0
A17: 16 | B17: Jake | C17: Field | D17: Bramley Wheelers | E17: V3 | G17: =SUMIFS('Week 1 13th May'!I$2:I$150,'Week 1 13th May'!D$2:D$150,'Rider List'!A17) -> 1 | H17: =SUMIFS('Week 2 20th May'!I$2:I$150,'Week 2 20th May'!D$2:D$150,'Rider List'!A17) -> 0 | I17: =SUMIFS('Week 3 3rd June'!I$2:I$150,'Week 3 3rd June'!D$2:D$150,'Rider List'!A17) -> 3 | J17: =SUMIFS('Week 4 8th July'!I$2:I$150,'Week 4 8th July'!D$2:D$150,'Rider List'!A17) -> 5 | K17: =SUMIFS('Week 5 22nd July'!I$2:I$150,'Week 5 22nd July'!D$2:D$150,'Rider List'!A17) -> 4 | L17: =SUMIFS('Week 6 29th July'!I$2:I$150,'Week 6 29th July'!D$2:D$150,'Rider List'!A17) -> 1 | N17: =SUM(G17:M17) -> 14 | P17: =SUMIFS('Week 1 13th May'!J$2:J$150,'Week 1 13th May'!D$2:D$150,'Rider List'!A17) -> 0 | Q17: =SUMIFS('Week 2 20th May'!J$2:J$150,'Week 2 20th May'!D$2:D$150,'Rider List'!A17) -> 2 | R17: =SUMIFS('Week 3 3rd June'!J$2:J$150,'Week 3 3rd June'!D$2:D$150,'Rider List'!A17) -> 4 | S17: =SUMIFS('Week 4 8th July'!J$2:J$150,'Week 4 8th July'!D$2:D$150,'Rider List'!A17) -> 3 | T17: =SUMIFS('Week 5 22nd July'!J$2:J$150,'Week 5 22nd July'!D$2:D$150,'Rider List'!A17) -> 0 | U17: =SUMIFS('Week 6 29th July'!J$2:J$150,'Week 6 29th July'!D$2:D$150,'Rider List'!A17) -> 0 | W17: =SUM(P17:V17) -> 9
A18: 17 | B18: Matt | C18: Rotherham | E18: 3 | G18: =SUMIFS('Week 1 13th May'!I$2:I$150,'Week 1 13th May'!D$2:D$150,'Rider List'!A18) -> 11 | H18: =SUMIFS('Week 2 20th May'!I$2:I$150,'Week 2 20th May'!D$2:D$150,'Rider List'!A18) -> 4 | I18: =SUMIFS('Week 3 3rd June'!I$2:I$150,'Week 3 3rd June'!D$2:D$150,'Rider List'!A18) -> 8 | J18: =SUMIFS('Week 4 8th July'!I$2:I$150,'Week 4 8th July'!D$2:D$150,'Rider List'!A18) -> 0 | K18: =SUMIFS('Week 5 22nd July'!I$2:I$150,'Week 5 22nd July'!D$2:D$150,'Rider List'!A18) -> 0 | L18: =SUMIFS('Week 6 29th July'!I$2:I$150,'Week 6 29th July'!D$2:D$150,'Rider List'!A18) -> 0 | N18: =SUM(G18:M18) -> 23 | P18: =SUMIFS('Week 1 13th May'!J$2:J$150,'Week 1 13th May'!D$2:D$150,'Rider List'!A18) -> 5 | Q18: =SUMIFS('Week 2 20th May'!J$2:J$150,'Week 2 20th May'!D$2:D$150,'Rider List'!A18) -> 10 | R18: =SUMIFS('Week 3 3rd June'!J$2:J$150,'Week 3 3rd June'!D$2:D$150,'Rider List'!A18) -> 0 | S18: =SUMIFS('Week 4 8th July'!J$2:J$150,'Week 4 8th July'!D$2:D$150,'Rider List'!A18) -> 0 | T18: =SUMIFS('Week 5 22nd July'!J$2:J$150,'Week 5 22nd July'!D$2:D$150,'Rider List'!A18) -> 0 | U18: =SUMIFS('Week 6 29th July'!J$2:J$150,'Week 6 29th July'!D$2:D$150,'Rider List'!A18) -> 0 | W18: =SUM(P18:V18) -> 15
A19: 18 | B19: Yousef | C19: Habeeb | D19: Bramley Wheelers | E19: J | G19: =SUMIFS('Week 1 13th May'!I$2:I$150,'Week 1 13th May'!D$2:D$150,'Rider List'!A19) -> 0 | H19: =SUMIFS('Week 2 20th May'!I$2:I$150,'Week 2 20th May'!D$2:D$150,'Rider List'!A19) -> 0 | I19: =SUMIFS('Week 3 3rd June'!I$2:I$150,'Week 3 3rd June'!D$2:D$150,'Rider List'!A19) -> 0 | J19: =SUMIFS('Week 4 8th July'!I$2:I$150,'Week 4 8th July'!D$2:D$150,'Rider List'!A19) -> 0 | K19: =SUMIFS('Week 5 22nd July'!I$2:I$150,'Week 5 22nd July'!D$2:D$150,'Rider List'!A19) -> 0 | L19: =SUMIFS('Week 6 29th July'!I$2:I$150,'Week 6 29th July'!D$2:D$150,'Rider List'!A19) -> 0 | N19: =SUM(G19:M19) -> 0 | P19: =SUMIFS('Week 1 13th May'!J$2:J$150,'Week 1 13th May'!D$2:D$150,'Rider List'!A19) -> 0 | Q19: =SUMIFS('Week 2 20th May'!J$2:J$150,'Week 2 20th May'!D$2:D$150,'Rider List'!A19) -> 0 | R19: =SUMIFS('Week 3 3rd June'!J$2:J$150,'Week 3 3rd June'!D$2:D$150,'Rider List'!A19) -> 0 | S19: =SUMIFS('Week 4 8th July'!J$2:J$150,'Week 4 8th July'!D$2:D$150,'Rider List'!A19) -> 0 | T19: =SUMIFS('Week 5 22nd July'!J$2:J$150,'Week 5 22nd July'!D$2:D$150,'Rider List'!A19) -> 0 | U19: =SUMIFS('Week 6 29th July'!J$2:J$150,'Week 6 29th July'!D$2:D$150,'Rider List'!A19) -> 0 | W19: =SUM(P19:V19) -> 0
A20: 19 | B20: Alex | C20: Foley | D20: Leeds Mercury | E20: U23 | G20: =SUMIFS('Week 1 13th May'!I$2:I$150,'Week 1 13th May'!D$2:D$150,'Rider List'!A20) -> 0 | H20: =SUMIFS('Week 2 20th May'!I$2:I$150,'Week 2 20th May'!D$2:D$150,'Rider List'!A20) -> 8 | I20: =SUMIFS('Week 3 3rd June'!I$2:I$150,'Week 3 3rd June'!D$2:D$150,'Rider List'!A20) -> 6 | J20: =SUMIFS('Week 4 8th July'!I$2:I$150,'Week 4 8th July'!D$2:D$150,'Rider List'!A20) -> 3 | K20: =SUMIFS('Week 5 22nd July'!I$2:I$150,'Week 5 22nd July'!D$2:D$150,'Rider List'!A20) -> 7 | L20: =SUMIFS('Week 6 29th July'!I$2:I$150,'Week 6 29th July'!D$2:D$150,'Rider List'!A20) -> 7 | N20: =SUM(G20:M20) -> 31 | P20: =SUMIFS('Week 1 13th May'!J$2:J$150,'Week 1 13th May'!D$2:D$150,'Rider List'!A20) -> 0 | Q20: =SUMIFS('Week 2 20th May'!J$2:J$150,'Week 2 20th May'!D$2:D$150,'Rider List'!A20) -> 1 | R20: =SUMIFS('Week 3 3rd June'!J$2:J$150,'Week 3 3rd June'!D$2:D$150,'Rider List'!A20) -> 0 | S20: =SUMIFS('Week 4 8th July'!J$2:J$150,'Week 4 8th July'!D$2:D$150,'Rider List'!A20) -> 0 | T20: =SUMIFS('Week 5 22nd July'!J$2:J$150,'Week 5 22nd July'!D$2:D$150,'Rider List'!A20) -> 0 | U20: =SUMIFS('Week 6 29th July'!J$2:J$150,'Week 6 29th July'!D$2:D$150,'Rider List'!A20) -> 5 | W20: =SUM(P20:V20) -> 6
A21: 20 | B21: Russell | C21: Brown | D21: VSCC | E21: V40 | G21: =SUMIFS('Week 1 13th May'!I$2:I$150,'Week 1 13th May'!D$2:D$150,'Rider List'!A21) -> 0 | H21: =SUMIFS('Week 2 20th May'!I$2:I$150,'Week 2 20th May'!D$2:D$150,'Rider List'!A21) -> 2 | I21: =SUMIFS('Week 3 3rd June'!I$2:I$150,'Week 3 3rd June'!D$2:D$150,'Rider List'!A21) -> 0 | J21: =SUMIFS('Week 4 8th July'!I$2:I$150,'Week 4 8th July'!D$2:D$150,'Rider List'!A21) -> 0 | K21: =SUMIFS('Week 5 22nd July'!I$2:I$150,'Week 5 22nd July'!D$2:D$150,'Rider List'!A21) -> 0 | L21: =SUMIFS('Week 6 29th July'!I$2:I$150,'Week 6 29th July'!D$2:D$150,'Rider List'!A21) -> 0 | N21: =SUM(G21:M21) -> 2 | P21: =SUMIFS('Week 1 13th May'!J$2:J$150,'Week 1 13th May'!D$2:D$150,'Rider List'!A21) -> 0 | Q21: =SUMIFS('Week 2 20th May'!J$2:J$150,'Week 2 20th May'!D$2:D$150,'Rider List'!A21) -> 0 | R21: =SUMIFS('Week 3 3rd June'!J$2:J$150,'Week 3 3rd June'!D$2:D$150,'Rider List'!A21) -> 0 | S21: =SUMIFS('Week 4 8th July'!J$2:J$150,'Week 4 8th July'!D$2:D$150,'Rider List'!A21) -> 0 | T21: =SUMIFS('Week 5 22nd July'!J$2:J$150,'Week 5 22nd July'!D$2:D$150,'Rider List'!A21) -> 0 | U21: =SUMIFS('Week 6 29th July'!J$2:J$150,'Week 6 29th July'!D$2:D$150,'Rider List'!A21) -> 0 | W21: =SUM(P21:V21) -> 0
A22: 21 | B22: Daniell | C22: Jay-Webster | D22: ICC | E22: 3 | G22: =SUMIFS('Week 1 13th May'!I$2:I$150,'Week 1 13th May'!D$2:D$150,'Rider List'!A22) -> 0 | H22: =SUMIFS('Week 2 20th May'!I$2:I$150,'Week 2 20th May'!D$2:D$150,'Rider List'!A22) -> 0 | I22: =SUMIFS('Week 3 3rd June'!I$2:I$150,'Week 3 3rd June'!D$2:D$150,'Rider List'!A22) -> 0 | J22: =SUMIFS('Week 4 8th July'!I$2:I$150,'Week 4 8th July'!D$2:D$150,'Rider List'!A22) -> 0 | K22: =SUMIFS('Week 5 22nd July'!I$2:I$150,'Week 5 22nd July'!D$2:D$150,'Rider List'!A22) -> 0 | L22: =SUMIFS('Week 6 29th July'!I$2:I$150,'Week 6 29th July'!D$2:D$150,'Rider List'!A22) -> 7 | N22: =SUM(G22:M22) -> 7 | P22: =SUMIFS('Week 1 13th May'!J$2:J$150,'Week 1 13th May'!D$2:D$150,'Rider List'!A22) -> 0 | Q22: =SUMIFS('Week 2 20th May'!J$2:J$150,'Week 2 20th May'!D$2:D$150,'Rider List'!A22) -> 0 | R22: =SUMIFS('Week 3 3rd June'!J$2:J$150,'Week 3 3rd June'!D$2:D$150,'Rider List'!A22) -> 0 | S22: =SUMIFS('Week 4 8th July'!J$2:J$150,'Week 4 8th July'!D$2:D$150,'Rider List'!A22) -> 0 | T22: =SUMIFS('Week 5 22nd July'!J$2:J$150,'Week 5 22nd July'!D$2:D$150,'Rider List'!A22) -> 0 | U22: =SUMIFS('Week 6 29th July'!J$2:J$150,'Week 6 29th July'!D$2:D$150,'Rider List'!A22) -> 3 | W22: =SUM(P22:V22) -> 3
A23: YOUTH MALE | U23: =SUMIFS('Week 6 29th July'!J$2:J$150,'Week 6 29th July'!D$2:D$150,'Rider List'!A23) -> 0
A24: 70 | B24: Archie | C24: Fletcher | D24: Sportcity Velo | E24: U14 | G24: =SUMIFS('Week 1 13th May'!I$2:I$150,'Week 1 13th May'!D$2:D$150,'Rider List'!A24) -> 0 | H24: =SUMIFS('Week 2 20th May'!I$2:I$150,'Week 2 20th May'!D$2:D$150,'Rider List'!A24) -> 0 | I24: =SUMIFS('Week 3 3rd June'!I$2:I$150,'Week 3 3rd June'!D$2:D$150,'Rider List'!A24) -> 0 | J24: =SUMIFS('Week 4 8th July'!I$2:I$150,'Week 4 8th July'!D$2:D$150,'Rider List'!A24) -> 0 | K24: =SUMIFS('Week 5 22nd July'!I$2:I$150,'Week 5 22nd July'!D$2:D$150,'Rider List'!A24) -> 0 | L24: =SUMIFS('Week 6 29th July'!I$2:I$150,'Week 6 29th July'!D$2:D$150,'Rider List'!A24) -> 0 | N24: =SUM(G24:M24) -> 0 | P24: =SUMIFS('Week 1 13th May'!J$2:J$150,'Week 1 13th May'!D$2:D$150,'Rider List'!A24) -> 0 | Q24: =SUMIFS('Week 2 20th May'!J$2:J$150,'Week 2 20th May'!D$2:D$150,'Rider List'!A24) -> 0 | R24: =SUMIFS('Week 3 3rd June'!J$2:J$150,'Week 3 3rd June'!D$2:D$150,'Rider List'!A24) -> 0 | S24: =SUMIFS('Week 4 8th July'!J$2:J$150,'Week 4 8th July'!D$2:D$150,'Rider List'!A24) -> 0 | T24: =SUMIFS('Week 5 22nd July'!J$2:J$150,'Week 5 22nd July'!D$2:D$150,'Rider List'!A24) -> 0 | U24: =SUMIFS('Week 6 29th July'!J$2:J$150,'Week 6 29th July'!D$2:D$150,'Rider List'!A24) -> 0 | W24: =SUM(P24:V24) -> 0
A25: 71 | B25: Sam | C25: Hollis | D25: Albarosa Cycling Club | E25: U16 | G25: =SUMIFS('Week 1 13th May'!I$2:I$150,'Week 1 13th May'!D$2:D$150,'Rider List'!A25) -> 0 | H25: =SUMIFS('Week 2 20th May'!I$2:I$150,'Week 2 20th May'!D$2:D$150,'Rider List'!A25) -> 0 | I25: =SUMIFS('Week 3 3rd June'!I$2:I$150,'Week 3 3rd June'!D$2:D$150,'Rider List'!A25) -> 0 | J25: =SUMIFS('Week 4 8th July'!I$2:I$150,'Week 4 8th July'!D$2:D$150,'Rider List'!A25) -> 0 | K25: =SUMIFS('Week 5 22nd July'!I$2:I$150,'Week 5 22nd July'!D$2:D$150,'Rider List'!A25) -> 7 | L25: =SUMIFS('Week 6 29th July'!I$2:I$150,'Week 6 29th July'!D$2:D$150,'Rider List'!A25) -> 0 | N25: =SUM(G25:M25) -> 7 | P25: =SUMIFS('Week 1 13th May'!J$2:J$150,'Week 1 13th May'!D$2:D$150,'Rider List'!A25) -> 0 | Q25: =SUMIFS('Week 2 20th May'!J$2:J$150,'Week 2 20th May'!D$2:D$150,'Rider List'!A25) -> 0 | R25: =SUMIFS('Week 3 3rd June'!J$2:J$150,'Week 3 3rd June'!D$2:D$150,'Rider List'!A25) -> 0 | S25: =SUMIFS('Week 4 8th July'!J$2:J$150,'Week 4 8th July'!D$2:D$150,'Rider List'!A25) -> 0 | T25: =SUMIFS('Week 5 22nd July'!J$2:J$150,'Week 5 22nd July'!D$2:D$150,'Rider List'!A25) -> 5 | U25: =SUMIFS('Week 6 29th July'!J$2:J$150,'Week 6 29th July'!D$2:D$150,'Rider List'!A25) -> 0 | W25: =SUM(P25:V25) -> 5
A26: 72 | B26: James | C26: Luxton | D26: Otley CC | E26: U14 | G26: =SUMIFS('Week 1 13th May'!I$2:I$150,'Week 1 13th May'!D$2:D$150,'Rider List'!A26) -> 1 | H26: =SUMIFS('Week 2 20th May'!I$2:I$150,'Week 2 20th May'!D$2:D$150,'Rider List'!A26) -> 1 | I26: =SUMIFS('Week 3 3rd June'!I$2:I$150,'Week 3 3rd June'!D$2:D$150,'Rider List'!A26) -> 1 | J26: =SUMIFS('Week 4 8th July'!I$2:I$150,'Week 4 8th July'!D$2:D$150,'Rider List'!A26) -> 0 | K26: =SUMIFS('Week 5 22nd July'!I$2:I$150,'Week 5 22nd July'!D$2:D$150,'Rider List'!A26) -> 1 | L26: =SUMIFS('Week 6 29th July'!I$2:I$150,'Week 6 29th July'!D$2:D$150,'Rider List'!A26) -> 3 | N26: =SUM(G26:M26) -> 7 | P26: =SUMIFS('Week 1 13th May'!J$2:J$150,'Week 1 13th May'!D$2:D$150,'Rider List'!A26) -> 0 | Q26: =SUMIFS('Week 2 20th May'!J$2:J$150,'Week 2 20th May'!D$2:D$150,'Rider List'!A26) -> 0 | R26: =SUMIFS('Week 3 3rd June'!J$2:J$150,'Week 3 3rd June'!D$2:D$150,'Rider List'!A26) -> 1 | S26: =SUMIFS('Week 4 8th July'!J$2:J$150,'Week 4 8th July'!D$2:D$150,'Rider List'!A26) -> 0 | T26: =SUMIFS('Week 5 22nd July'!J$2:J$150,'Week 5 22nd July'!D$2:D$150,'Rider List'!A26) -> 0 | U26: =SUMIFS('Week 6 29th July'!J$2:J$150,'Week 6 29th July'!D$2:D$150,'Rider List'!A26) -> 0 | W26: =SUM(P26:V26) -> 1
A27: 73 | B27: Thomas | C27: Miller | D27: Clifton CC | E27: U14 | G27: =SUMIFS('Week 1 13th May'!I$2:I$150,'Week 1 13th May'!D$2:D$150,'Rider List'!A27) -> 5 | H27: =SUMIFS('Week 2 20th May'!I$2:I$150,'Week 2 20th May'!D$2:D$150,'Rider List'!A27) -> 4 | I27: =SUMIFS('Week 3 3rd June'!I$2:I$150,'Week 3 3rd June'!D$2:D$150,'Rider List'!A27) -> 2 | J27: =SUMIFS('Week 4 8th July'!I$2:I$150,'Week 4 8th July'!D$2:D$150,'Rider List'!A27) -> 0 | K27: =SUMIFS('Week 5 22nd July'!I$2:I$150,'Week 5 22nd July'!D$2:D$150,'Rider List'!A27) -> 3 | L27: =SUMIFS('Week 6 29th July'!I$2:I$150,'Week 6 29th July'!D$2:D$150,'Rider List'!A27) -> 0 | N27: =SUM(G27:M27) -> 14 | P27: =SUMIFS('Week 1 13th May'!J$2:J$150,'Week 1 13th May'!D$2:D$150,'Rider List'!A27) -> 0 | Q27: =SUMIFS('Week 2 20th May'!J$2:J$150,'Week 2 20th May'!D$2:D$150,'Rider List'!A27) -> 3 | R27: =SUMIFS('Week 3 3rd June'!J$2:J$150,'Week 3 3rd June'!D$2:D$150,'Rider List'!A27) -> 6 | S27: =SUMIFS('Week 4 8th July'!J$2:J$150,'Week 4 8th July'!D$2:D$150,'Rider List'!A27) -> 0 | T27: =SUMIFS('Week 5 22nd July'!J$2:J$150,'Week 5 22nd July'!D$2:D$150,'Rider List'!A27) -> 3 | U27: =SUMIFS('Week 6 29th July'!J$2:J$150,'Week 6 29th July'!D$2:D$150,'Rider List'!A27) -> 0 | W27: =SUM(P27:V27) -> 12
A28: 74 | B28: George | C28: Radcliffe | D28: Otley CC | E28: U16 | G28: =SUMIFS('Week 1 13th May'!I$2:I$150,'Week 1 13th May'!D$2:D$150,'Rider List'!A28) -> 15 | H28: =SUMIFS('Week 2 20th May'!I$2:I$150,'Week 2 20th May'!D$2:D$150,'Rider List'!A28) -> 11 | I28: =SUMIFS('Week 3 3rd June'!I$2:I$150,'Week 3 3rd June'!D$2:D$150,'Rider List'!A28) -> 10 | J28: =SUMIFS('Week 4 8th July'!I$2:I$150,'Week 4 8th July'!D$2:D$150,'Rider List'!A28) -> 4 | K28: =SUMIFS('Week 5 22nd July'!I$2:I$150,'Week 5 22nd July'!D$2:D$150,'Rider List'!A28) -> 11 | L28: =SUMIFS('Week 6 29th July'!I$2:I$150,'Week 6 29th July'!D$2:D$150,'Rider List'!A28) -> 11 | N28: =SUM(G28:M28) -> 62 | P28: =SUMIFS('Week 1 13th May'!J$2:J$150,'Week 1 13th May'!D$2:D$150,'Rider List'!A28) -> 3 | Q28: =SUMIFS('Week 2 20th May'!J$2:J$150,'Week 2 20th May'!D$2:D$150,'Rider List'!A28) -> 3 | R28: =SUMIFS('Week 3 3rd June'!J$2:J$150,'Week 3 3rd June'!D$2:D$150,'Rider List'!A28) -> 3 | S28: =SUMIFS('Week 4 8th July'!J$2:J$150,'Week 4 8th July'!D$2:D$150,'Rider List'!A28) -> 5 | T28: =SUMIFS('Week 5 22nd July'!J$2:J$150,'Week 5 22nd July'!D$2:D$150,'Rider List'!A28) -> 3 | U28: =SUMIFS('Week 6 29th July'!J$2:J$150,'Week 6 29th July'!D$2:D$150,'Rider List'!A28) -> 5 | W28: =SUM(P28:V28) -> 22
A29: 76 | B29: Esben | C29: Rost | D29: Leeds Mercury CC | E29: U16 | G29: =SUMIFS('Week 1 13th May'!I$2:I$150,'Week 1 13th May'!D$2:D$150,'Rider List'!A29) -> 3 | H29: =SUMIFS('Week 2 20th May'!I$2:I$150,'Week 2 20th May'!D$2:D$150,'Rider List'!A29) -> 0 | I29: =SUMIFS('Week 3 3rd June'!I$2:I$150,'Week 3 3rd June'!D$2:D$150,'Rider List'!A29) -> 0 | J29: =SUMIFS('Week 4 8th July'!I$2:I$150,'Week 4 8th July'!D$2:D$150,'Rider List'!A29) -> 2 | K29: =SUMIFS('Week 5 22nd July'!I$2:I$150,'Week 5 22nd July'!D$2:D$150,'Rider List'!A29) -> 2 | L29: =SUMIFS('Week 6 29th July'!I$2:I$150,'Week 6 29th July'!D$2:D$150,'Rider List'!A29) -> 0 | N29: =SUM(G29:M29) -> 7 | P29: =SUMIFS('Week 1 13th May'!J$2:J$150,'Week 1 13th May'!D$2:D$150,'Rider List'!A29) -> 0 | Q29: =SUMIFS('Week 2 20th May'!J$2:J$150,'Week 2 20th May'!D$2:D$150,'Rider List'!A29) -> 0 | R29: =SUMIFS('Week 3 3rd June'!J$2:J$150,'Week 3 3rd June'!D$2:D$150,'Rider List'!A29) -> 0 | S29: =SUMIFS('Week 4 8th July'!J$2:J$150,'Week 4 8th July'!D$2:D$150,'Rider List'!A29) -> 2 | T29: =SUMIFS('Week 5 22nd July'!J$2:J$150,'Week 5 22nd July'!D$2:D$150,'Rider List'!A29) -> 0 | U29: =SUMIFS('Week 6 29th July'!J$2:J$150,'Week 6 29th July'!D$2:D$150,'Rider List'!A29) -> 0 | W29: =SUM(P29:V29) -> 2
A30: 77 | B30: Ryan | C30: Thomas | D30: East Bradford Race Team | E30: U14 | G30: =SUMIFS('Week 1 13th May'!I$2:I$150,'Week 1 13th May'!D$2:D$150,'Rider List'!A30) -> 0 | H30: =SUMIFS('Week 2 20th May'!I$2:I$150,'Week 2 20th May'!D$2:D$150,'Rider List'!A30) -> 6 | I30: =SUMIFS('Week 3 3rd June'!I$2:I$150,'Week 3 3rd June'!D$2:D$150,'Rider List'!A30) -> 6 | J30: =SUMIFS('Week 4 8th July'!I$2:I$150,'Week 4 8th July'!D$2:D$150,'Rider List'!A30) -> 6 | K30: =SUMIFS('Week 5 22nd July'!I$2:I$150,'Week 5 22nd July'!D$2:D$150,'Rider List'!A30) -> 0 | L30: =SUMIFS('Week 6 29th July'!I$2:I$150,'Week 6 29th July'!D$2:D$150,'Rider List'!A30) -> 0 | N30: =SUM(G30:M30) -> 18 | P30: =SUMIFS('Week 1 13th May'!J$2:J$150,'Week 1 13th May'!D$2:D$150,'Rider List'!A30) -> 0 | Q30: =SUMIFS('Week 2 20th May'!J$2:J$150,'Week 2 20th May'!D$2:D$150,'Rider List'!A30) -> 0 | R30: =SUMIFS('Week 3 3rd June'!J$2:J$150,'Week 3 3rd June'!D$2:D$150,'Rider List'!A30) -> 2 | S30: =SUMIFS('Week 4 8th July'!J$2:J$150,'Week 4 8th July'!D$2:D$150,'Rider List'!A30) -> 0 | T30: =SUMIFS('Week 5 22nd July'!J$2:J$150,'Week 5 22nd July'!D$2:D$150,'Rider List'!A30) -> 0 | U30: =SUMIFS('Week 6 29th July'!J$2:J$150,'Week 6 29th July'!D$2:D$150,'Rider List'!A30) -> 0 | W30: =SUM(P30:V30) -> 2
A31: WOMEN & GIRLS | U31: =SUMIFS('Week 6 29th July'!J$2:J$150,'Week 6 29th July'!D$2:D$150,'Rider List'!A31) -> 0
A32: 40 | B32: Anna | C32: Kippen | D32: Leeds Mercury Cycling Club | E32: U14 | G32: =SUMIFS('Week 1 13th May'!I$2:I$150,'Week 1 13th May'!D$2:D$150,'Rider List'!A32) -> 1 | H32: =SUMIFS('Week 2 20th May'!I$2:I$150,'Week 2 20th May'!D$2:D$150,'Rider List'!A32) -> 5 | I32: =SUMIFS('Week 3 3rd June'!I$2:I$150,'Week 3 3rd June'!D$2:D$150,'Rider List'!A32) -> 3 | J32: =SUMIFS('Week 4 8th July'!I$2:I$150,'Week 4 8th July'!D$2:D$150,'Rider List'!A32) -> 3 | K32: =SUMIFS('Week 5 22nd July'!I$2:I$150,'Week 5 22nd July'!D$2:D$150,'Rider List'!A32) -> 0 | L32: =SUMIFS('Week 6 29th July'!I$2:I$150,'Week 6 29th July'!D$2:D$150,'Rider List'!A32) -> 1 | N32: =SUM(G32:M32) -> 13 | P32: =SUMIFS('Week 1 13th May'!J$2:J$150,'Week 1 13th May'!D$2:D$150,'Rider List'!A32) -> 0 | Q32: =SUMIFS('Week 2 20th May'!J$2:J$150,'Week 2 20th May'!D$2:D$150,'Rider List'!A32) -> 1 | R32: =SUMIFS('Week 3 3rd June'!J$2:J$150,'Week 3 3rd June'!D$2:D$150,'Rider List'!A32) -> 10 | S32: =SUMIFS('Week 4 8th July'!J$2:J$150,'Week 4 8th July'!D$2:D$150,'Rider List'!A32) -> 0 | T32: =SUMIFS('Week 5 22nd July'!J$2:J$150,'Week 5 22nd July'!D$2:D$150,'Rider List'!A32) -> 0 | U32: =SUMIFS('Week 6 29th July'!J$2:J$150,'Week 6 29th July'!D$2:D$150,'Rider List'!A32) -> 1 | W32: =SUM(P32:V32) -> 12
A33: 41 | B33: Emily | C33: Middlebrooke | D33: Otley CC | E33: U14 | G33: =SUMIFS('Week 1 13th May'!I$2:I$150,'Week 1 13th May'!D$2:D$150,'Rider List'!A33) -> 8 | H33: =SUMIFS('Week 2 20th May'!I$2:I$150,'Week 2 20th May'!D$2:D$150,'Rider List'!A33) -> 12 | I33: =SUMIFS('Week 3 3rd June'!I$2:I$150,'Week 3 3rd June'!D$2:D$150,'Rider List'!A33) -> 13 | J33: =SUMIFS('Week 4 8th July'!I$2:I$150,'Week 4 8th July'!D$2:D$150,'Rider List'!A33) -> 11 | K33: =SUMIFS('Week 5 22nd July'!I$2:I$150,'Week 5 22nd July'!D$2:D$150,'Rider List'!A33) -> 13 | L33: =SUMIFS('Week 6 29th July'!I$2:I$150,'Week 6 29th July'!D$2:D$150,'Rider List'!A33) -> 11 | N33: =SUM(G33:M33) -> 68 | P33: =SUMIFS('Week 1 13th May'!J$2:J$150,'Week 1 13th May'!D$2:D$150,'Rider List'!A33) -> 0 | Q33: =SUMIFS('Week 2 20th May'!J$2:J$150,'Week 2 20th May'!D$2:D$150,'Rider List'!A33) -> 6 | R33: =SUMIFS('Week 3 3rd June'!J$2:J$150,'Week 3 3rd June'!D$2:D$150,'Rider List'!A33) -> 6 | S33: =SUMIFS('Week 4 8th July'!J$2:J$150,'Week 4 8th July'!D$2:D$150,'Rider List'!A33) -> 0 | T33: =SUMIFS('Week 5 22nd July'!J$2:J$150,'Week 5 22nd July'!D$2:D$150,'Rider List'!A33) -> 2 | U33: =SUMIFS('Week 6 29th July'!J$2:J$150,'Week 6 29th July'!D$2:D$150,'Rider List'!A33) -> 1 | W33: =SUM(P33:V33) -> 15
A34: 42 | B34: Isobel | C34: Wilks | D34: Otley CC | E34: U14 | G34: =SUMIFS('Week 1 13th May'!I$2:I$150,'Week 1 13th May'!D$2:D$150,'Rider List'!A34) -> 7 | H34: =SUMIFS('Week 2 20th May'!I$2:I$150,'Week 2 20th May'!D$2:D$150,'Rider List'!A34) -> 0 | I34: =SUMIFS('Week 3 3rd June'!I$2:I$150,'Week 3 3rd June'!D$2:D$150,'Rider List'!A34) -> 10 | J34: =SUMIFS('Week 4 8th July'!I$2:I$150,'Week 4 8th July'!D$2:D$150,'Rider List'!A34) -> 3 | K34: =SUMIFS('Week 5 22nd July'!I$2:I$150,'Week 5 22nd July'!D$2:D$150,'Rider List'!A34) -> 2 | L34: =SUMIFS('Week 6 29th July'!I$2:I$150,'Week 6 29th July'!D$2:D$150,'Rider List'!A34) -> 3 | N34: =SUM(G34:M34) -> 25 | P34: =SUMIFS('Week 1 13th May'!J$2:J$150,'Week 1 13th May'!D$2:D$150,'Rider List'!A34) -> 0 | Q34: =SUMIFS('Week 2 20th May'!J$2:J$150,'Week 2 20th May'!D$2:D$150,'Rider List'!A34) -> 0 | R34: =SUMIFS('Week 3 3rd June'!J$2:J$150,'Week 3 3rd June'!D$2:D$150,'Rider List'!A34) -> 2 | S34: =SUMIFS('Week 4 8th July'!J$2:J$150,'Week 4 8th July'!D$2:D$150,'Rider List'!A34) -> 0 | T34: =SUMIFS('Week 5 22nd July'!J$2:J$150,'Week 5 22nd July'!D$2:D$150,'Rider List'!A34) -> 1 | U34: =SUMIFS('Week 6 29th July'!J$2:J$150,'Week 6 29th July'!D$2:D$150,'Rider List'!A34) -> 10 | W34: =SUM(P34:V34) -> 13
A35: 46 | B35: Poppy | C35: Peacock | D35: Otley CC | E35: U14 | G35: =SUMIFS('Week 1 13th May'!I$2:I$150,'Week 1 13th May'!D$2:D$150,'Rider List'!A35) -> 13 | H35: =SUMIFS('Week 2 20th May'!I$2:I$150,'Week 2 20th May'!D$2:D$150,'Rider List'!A35) -> 8 | I35: =SUMIFS('Week 3 3rd June'!I$2:I$150,'Week 3 3rd June'!D$2:D$150,'Rider List'!A35) -> 12 | J35: =SUMIFS('Week 4 8th July'!I$2:I$150,'Week 4 8th July'!D$2:D$150,'Rider List'!A35) -> 10 | K35: =SUMIFS('Week 5 22nd July'!I$2:I$150,'Week 5 22nd July'!D$2:D$150,'Rider List'!A35) -> 10 | L35: =SUMIFS('Week 6 29th July'!I$2:I$150,'Week 6 29th July'!D$2:D$150,'Rider List'!A35) -> 12 | N35: =SUM(G35:M35) -> 65 | P35: =SUMIFS('Week 1 13th May'!J$2:J$150,'Week 1 13th May'!D$2:D$150,'Rider List'!A35) -> 0 | Q35: =SUMIFS('Week 2 20th May'!J$2:J$150,'Week 2 20th May'!D$2:D$150,'Rider List'!A35) -> 7 | R35: =SUMIFS('Week 3 3rd June'!J$2:J$150,'Week 3 3rd June'!D$2:D$150,'Rider List'!A35) -> 1 | S35: =SUMIFS('Week 4 8th July'!J$2:J$150,'Week 4 8th July'!D$2:D$150,'Rider List'!A35) -> 0 | T35: =SUMIFS('Week 5 22nd July'!J$2:J$150,'Week 5 22nd July'!D$2:D$150,'Rider List'!A35) -> 0 | U35: =SUMIFS('Week 6 29th July'!J$2:J$150,'Week 6 29th July'!D$2:D$150,'Rider List'!A35) -> 6 | W35: =SUM(P35:V35) -> 14
A36: 47 | B36: Elora | C36: Foley | D36: Leeds Mercury Cycling Club | E36: U16 | G36: =SUMIFS('Week 1 13th May'!I$2:I$150,'Week 1 13th May'!D$2:D$150,'Rider List'!A36) -> 0 | H36: =SUMIFS('Week 2 20th May'!I$2:I$150,'Week 2 20th May'!D$2:D$150,'Rider List'!A36) -> 0 | I36: =SUMIFS('Week 3 3rd June'!I$2:I$150,'Week 3 3rd June'!D$2:D$150,'Rider List'!A36) -> 0 | J36: =SUMIFS('Week 4 8th July'!I$2:I$150,'Week 4 8th July'!D$2:D$150,'Rider List'!A36) -> 0 | K36: =SUMIFS('Week 5 22nd July'!I$2:I$150,'Week 5 22nd July'!D$2:D$150,'Rider List'!A36) -> 0 | L36: =SUMIFS('Week 6 29th July'!I$2:I$150,'Week 6 29th July'!D$2:D$150,'Rider List'!A36) -> 0 | N36: =SUM(G36:M36) -> 0 | P36: =SUMIFS('Week 1 13th May'!J$2:J$150,'Week 1 13th May'!D$2:D$150,'Rider List'!A36) -> 0 | Q36: =SUMIFS('Week 2 20th May'!J$2:J$150,'Week 2 20th May'!D$2:D$150,'Rider List'!A36) -> 0 | R36: =SUMIFS('Week 3 3rd June'!J$2:J$150,'Week 3 3rd June'!D$2:D$150,'Rider List'!A36) -> 0 | S36: =SUMIFS('Week 4 8th July'!J$2:J$150,'Week 4 8th July'!D$2:D$150,'Rider List'!A36) -> 0 | T36: =SUMIFS('Week 5 22nd July'!J$2:J$150,'Week 5 22nd July'!D$2:D$150,'Rider List'!A36) -> 0 | U36: =SUMIFS('Week 6 29th July'!J$2:J$150,'Week 6 29th July'!D$2:D$150,'Rider List'!A36) -> 0 | W36: =SUM(P36:V36) -> 0
A37: 48 | B37: Anna | C37: Hobbs | D37: Valley Striders CC | E37: VW | G37: =SUMIFS('Week 1 13th May'!I$2:I$150,'Week 1 13th May'!D$2:D$150,'Rider List'!A37) -> 0 | H37: =SUMIFS('Week 2 20th May'!I$2:I$150,'Week 2 20th May'!D$2:D$150,'Rider List'!A37) -> 0 | I37: =SUMIFS('Week 3 3rd June'!I$2:I$150,'Week 3 3rd June'!D$2:D$150,'Rider List'!A37) -> 0 | J37: =SUMIFS('Week 4 8th July'!I$2:I$150,'Week 4 8th July'!D$2:D$150,'Rider List'!A37) -> 0 | K37: =SUMIFS('Week 5 22nd July'!I$2:I$150,'Week 5 22nd July'!D$2:D$150,'Rider List'!A37) -> 7 | L37: =SUMIFS('Week 6 29th July'!I$2:I$150,'Week 6 29th July'!D$2:D$150,'Rider List'!A37) -> 10 | N37: =SUM(G37:M37) -> 17 | P37: =SUMIFS('Week 1 13th May'!J$2:J$150,'Week 1 13th May'!D$2:D$150,'Rider List'!A37) -> 0 | Q37: =SUMIFS('Week 2 20th May'!J$2:J$150,'Week 2 20th May'!D$2:D$150,'Rider List'!A37) -> 0 | R37: =SUMIFS('Week 3 3rd June'!J$2:J$150,'Week 3 3rd June'!D$2:D$150,'Rider List'!A37) -> 0 | S37: =SUMIFS('Week 4 8th July'!J$2:J$150,'Week 4 8th July'!D$2:D$150,'Rider List'!A37) -> 0 | T37: =SUMIFS('Week 5 22nd July'!J$2:J$150,'Week 5 22nd July'!D$2:D$150,'Rider List'!A37) -> 5 | U37: =SUMIFS('Week 6 29th July'!J$2:J$150,'Week 6 29th July'!D$2:D$150,'Rider List'!A37) -> 4 | W37: =SUM(P37:V37) -> 9
A38: 49 | B38: Evie | C38: Carrington-Hobson | D38: Leeds Mercury Cycling Club | E38: U14 | G38: =SUMIFS('Week 1 13th May'!I$2:I$150,'Week 1 13th May'!D$2:D$150,'Rider List'!A38) -> 1 | H38: =SUMIFS('Week 2 20th May'!I$2:I$150,'Week 2 20th May'!D$2:D$150,'Rider List'!A38) -> 0 | I38: =SUMIFS('Week 3 3rd June'!I$2:I$150,'Week 3 3rd June'!D$2:D$150,'Rider List'!A38) -> 0 | J38: =SUMIFS('Week 4 8th July'!I$2:I$150,'Week 4 8th July'!D$2:D$150,'Rider List'!A38) -> 0 | K38: =SUMIFS('Week 5 22nd July'!I$2:I$150,'Week 5 22nd July'!D$2:D$150,'Rider List'!A38) -> 0 | L38: =SUMIFS('Week 6 29th July'!I$2:I$150,'Week 6 29th July'!D$2:D$150,'Rider List'!A38) -> 0 | N38: =SUM(G38:M38) -> 1 | P38: =SUMIFS('Week 1 13th May'!J$2:J$150,'Week 1 13th May'!D$2:D$150,'Rider List'!A38) -> 0 | Q38: =SUMIFS('Week 2 20th May'!J$2:J$150,'Week 2 20th May'!D$2:D$150,'Rider List'!A38) -> 0 | R38: =SUMIFS('Week 3 3rd June'!J$2:J$150,'Week 3 3rd June'!D$2:D$150,'Rider List'!A38) -> 0 | S38: =SUMIFS('Week 4 8th July'!J$2:J$150,'Week 4 8th July'!D$2:D$150,'Rider List'!A38) -> 0 | T38: =SUMIFS('Week 5 22nd July'!J$2:J$150,'Week 5 22nd July'!D$2:D$150,'Rider List'!A38) -> 0 | U38: =SUMIFS('Week 6 29th July'!J$2:J$150,'Week 6 29th July'!D$2:D$150,'Rider List'!A38) -> 0 | W38: =SUM(P38:V38) -> 0
A39: 43 | B39: Ellie | C39: Horrocks | D39: East Bradford CC | E39: U16 | G39: =SUMIFS('Week 1 13th May'!I$2:I$150,'Week 1 13th May'!D$2:D$150,'Rider List'!A39) -> 10 | H39: =SUMIFS('Week 2 20th May'!I$2:I$150,'Week 2 20th May'!D$2:D$150,'Rider List'!A39) -> 12 | I39: =SUMIFS('Week 3 3rd June'!I$2:I$150,'Week 3 3rd June'!D$2:D$150,'Rider List'!A39) -> 0 | J39: =SUMIFS('Week 4 8th July'!I$2:I$150,'Week 4 8th July'!D$2:D$150,'Rider List'!A39) -> 0 | K39: =SUMIFS('Week 5 22nd July'!I$2:I$150,'Week 5 22nd July'!D$2:D$150,'Rider List'!A39) -> 0 | L39: =SUMIFS('Week 6 29th July'!I$2:I$150,'Week 6 29th July'!D$2:D$150,'Rider List'!A39) -> 0 | N39: =SUM(G39:M39) -> 22 | P39: =SUMIFS('Week 1 13th May'!J$2:J$150,'Week 1 13th May'!D$2:D$150,'Rider List'!A39) -> 0 | Q39: =SUMIFS('Week 2 20th May'!J$2:J$150,'Week 2 20th May'!D$2:D$150,'Rider List'!A39) -> 7 | R39: =SUMIFS('Week 3 3rd June'!J$2:J$150,'Week 3 3rd June'!D$2:D$150,'Rider List'!A39) -> 0 | S39: =SUMIFS('Week 4 8th July'!J$2:J$150,'Week 4 8th July'!D$2:D$150,'Rider List'!A39) -> 0 | T39: =SUMIFS('Week 5 22nd July'!J$2:J$150,'Week 5 22nd July'!D$2:D$150,'Rider List'!A39) -> 0 | U39: =SUMIFS('Week 6 29th July'!J$2:J$150,'Week 6 29th July'!D$2:D$150,'Rider List'!A39) -> 0 | W39: =SUM(P39:V39) -> 7
A40: 50 | B40: Helen | C40: Goldthorpe | D40: Otley CC | E40: VW | G40: =SUMIFS('Week 1 13th May'!I$2:I$150,'Week 1 13th May'!D$2:D$150,'Rider List'!A40) -> 0 | H40: =SUMIFS('Week 2 20th May'!I$2:I$150,'Week 2 20th May'!D$2:D$150,'Rider List'!A40) -> 2 | I40: =SUMIFS('Week 3 3rd June'!I$2:I$150,'Week 3 3rd June'!D$2:D$150,'Rider List'!A40) -> 1 | J40: =SUMIFS('Week 4 8th July'!I$2:I$150,'Week 4 8th July'!D$2:D$150,'Rider List'!A40) -> 0 | K40: =SUMIFS('Week 5 22nd July'!I$2:I$150,'Week 5 22nd July'!D$2:D$150,'Rider List'!A40) -> 0 | L40: =SUMIFS('Week 6 29th July'!I$2:I$150,'Week 6 29th July'!D$2:D$150,'Rider List'!A40) -> 3 | N40: =SUM(G40:M40) -> 6 | P40: =SUMIFS('Week 1 13th May'!J$2:J$150,'Week 1 13th May'!D$2:D$150,'Rider List'!A40) -> 0 | Q40: =SUMIFS('Week 2 20th May'!J$2:J$150,'Week 2 20th May'!D$2:D$150,'Rider List'!A40) -> 1 | R40: =SUMIFS('Week 3 3rd June'!J$2:J$150,'Week 3 3rd June'!D$2:D$150,'Rider List'!A40) -> 3 | S40: =SUMIFS('Week 4 8th July'!J$2:J$150,'Week 4 8th July'!D$2:D$150,'Rider List'!A40) -> 0 | T40: =SUMIFS('Week 5 22nd July'!J$2:J$150,'Week 5 22nd July'!D$2:D$150,'Rider List'!A40) -> 0 | U40: =SUMIFS('Week 6 29th July'!J$2:J$150,'Week 6 29th July'!D$2:D$150,'Rider List'!A40) -> 0 | W40: =SUM(P40:V40) -> 4
A41: 51 | B41: Eleonor | C41: Hunt | D41: Otley CC | E41: U16 | G41: =SUMIFS('Week 1 13th May'!I$2:I$150,'Week 1 13th May'!D$2:D$150,'Rider List'!A41) -> 0 | H41: =SUMIFS('Week 2 20th May'!I$2:I$150,'Week 2 20th May'!D$2:D$150,'Rider List'!A41) -> 0 | I41: =SUMIFS('Week 3 3rd June'!I$2:I$150,'Week 3 3rd June'!D$2:D$150,'Rider List'!A41) -> 0 | J41: =SUMIFS('Week 4 8th July'!I$2:I$150,'Week 4 8th July'!D$2:D$150,'Rider List'!A41) -> 0 | K41: =SUMIFS('Week 5 22nd July'!I$2:I$150,'Week 5 22nd July'!D$2:D$150,'Rider List'!A41) -> 8 | L41: =SUMIFS('Week 6 29th July'!I$2:I$150,'Week 6 29th July'!D$2:D$150,'Rider List'!A41) -> 0 | N41: =SUM(G41:M41) -> 8 | P41: =SUMIFS('Week 1 13th May'!J$2:J$150,'Week 1 13th May'!D$2:D$150,'Rider List'!A41) -> 0 | Q41: =SUMIFS('Week 2 20th May'!J$2:J$150,'Week 2 20th May'!D$2:D$150,'Rider List'!A41) -> 0 | R41: =SUMIFS('Week 3 3rd June'!J$2:J$150,'Week 3 3rd June'!D$2:D$150,'Rider List'!A41) -> 0 | S41: =SUMIFS('Week 4 8th July'!J$2:J$150,'Week 4 8th July'!D$2:D$150,'Rider List'!A41) -> 0 | T41: =SUMIFS('Week 5 22nd July'!J$2:J$150,'Week 5 22nd July'!D$2:D$150,'Rider List'!A41) -> 3 | U41: =SUMIFS('Week 6 29th July'!J$2:J$150,'Week 6 29th July'!D$2:D$150,'Rider List'!A41) -> 0 | W41: =SUM(P41:V41) -> 3
A45: 21 | B45: Daniell | C45: Jay-Webster | D45: ICC | E45: 3

Sheet Week 1 13th May
A1: Race No. | B1: Event Name | C1: Position | D1: Rider No | E1: Name | F1: Surname | G1: Club | H1: Cat | I1: Points | J1: Handicap Points
A2: 10 | B2: Fixed Wheel Women & Girls 3 Lap Scratch | C2: 1 | D2: 46 | E2: Poppy | F2: Peacock | G2: Otley CC | H2: U14 | I2: 4
C3: 2 | D3: 43 | E3: Ellie | F3: Horrocks | G3: East Bradford CC | H3: U16 | I3: 3
C4: 3 | D4: 42 | E4: Isobel | F4: Wilks | G4: Otley CC | H4: U14 | I4: 2
C5: 4 | D5: 41 | E5: Emily | F5: Middlebrooke | G5: Otley CC | H5: U14 | I5: 1
C6: 5 | D6: 40 | E6: Anna | F6: Kippen | G6: Leeds Mercury Cycling Club | H6: U14
C7: 6 | D7: 49 | E7: Evie | F7: Carrington-Hobson | G7: Leeds Mercury Cycling Club | H7: U14
A9: 11 | B9: Fixed Wheel 6 Lap Block Handicap Group A-C | C9: 1 | D9: 17 | E9: Matt | F9: Rotherham | H9: 3 | J9: 5
C10: 2 | D10: 74 | E10: George | F10: Radcliffe | G10: Otley CC | H10: U16 | J10: 3
C11: 3 | D11: 1 | E11: Harry | F11: Hunt | G11: Otley CC | H11: 3U23 | J11: 2
C12: 4 | D12: 5 | E12: Anthony | F12: Jones | G12: Knottingley Velo | H12: V3 | J12: 1
C13: 5 | D13: 6 | E13: Anthony | F13: Kitching | G13: East Bradford CC | H13: V
C14: 6 | D14: 73 | E14: Thomas | F14: Miller | G14: Clifton CC | H14: U14
C15: 7 | D15: 11 | E15: Michael | F15: Tyas | G15: Hull Thursday RC | H15: Sen
C16: 8 | D16: 8 | E16: Chris | F16: Radcliffe | G16: Otley CC | H16: V
C17: 9 | D17: 76 | E17: Esben | F17: Rost | G17: Leeds Mercury CC | H17: U16
C18: 10 | D18: 13 | E18: Thomas | F18: Goodall | G18: Knottingley Velo | H18: U23
C19: 11 | D19: 16 | E19: Jake | F19: Field | G19: Bramley Wheelers | H19: V3
C20: 12 | D20: 18 | E20: Yousef | F20: Habeeb | G20: Bramley Wheelers | H20: J
C21: 13 | D21: 72 | E21: James | F21: Luxton | G21: Otley CC | H21: U14
C22: 14 | D22: 12 | E22: Martin | F22: Watson | G22: Knottingley Velo | H22: V
A24: 16 | B24: Fixed Wheel 1 lap Sprint Heat 1 | C24: 1 | D24: 1 | E24: Harry | F24: Hunt | G24: Otley CC | H24: 3U23
C25: 2 | D25: 74 | E25: George | F25: Radcliffe | G25: Otley CC | H25: U16
C26: 3 | D26: 5 | E26: Anthony | F26: Jones | G26: Knottingley Velo | H26: V3
C27: 4 | D27: 8 | E27: Chris | F27: Radcliffe | G27: Otley CC | H27: V
C28: 5 | D28: 6 | E28: Anthony | F28: Kitching | G28: East Bradford CC | H28: V
C29: 6 | D29: 73 | E29: Thomas | F29: Miller | G29: Clifton CC | H29: U14
B31: Fixed Wheel 1 lap Sprint Heat 2 | C31: 1 | D31: 13 | E31: Thomas | F31: Goodall | G31: Knottingley Velo | H31: U23
C32: 2 | D32: 2 | E32: Jonathan | F32: Hunt | G32: Otley CC | H32: V
C33: 3 | D33: 14 | E33: Sean | F33: Jackson | G33: Seacroft Wheelers | H33: V4
C34: 4 | D34: 12 | E34: Martin | F34: Watson | G34: Knottingley Velo | H34: V
C35: 5 | D35: 11 | E35: Michael | F35: Tyas | G35: Hull Thursday RC | H35: Sen
B37: Fixed Wheel 1 lap Sprint Heat 3 | C37: 1 | D37: 16 | E37: Jake | F37: Field | G37: Bramley Wheelers | H37: V3
C38: 2 | D38: 17 | E38: Matt | F38: Rotherham | H38: 3
C39: 3 | D39: 15 | E39: Nick | F39: Islip | H39: V4
C40: 4 | D40: 76 | E40: Esben | F40: Rost | G40: Leeds Mercury CC | H40: U16
C41: 5 | D41: 72 | E41: James | F41: Luxton | G41: Otley CC | H41: U14
C42: 6 | D42: 18 | E42: Yousef | F42: Habeeb | G42: Bramley Wheelers | H42: J
A44: 17 | B44: Fixed Wheel Women & Girls 1 Lap Sprint | C44: 1 | D44: 42 | E44: Isobel | F44: Wilks | G44: Otley CC | H44: U14 | I44: 4
C45: 2 | D45: 41 | E45: Emily | F45: Middlebrooke | G45: Otley CC | H45: U14 | I45: 3
C46: 3 | D46: 46 | E46: Poppy | F46: Peacock | G46: Otley CC | H46: U14 | I46: 2
C47: 4 | D47: 49 | E47: Evie | F47: Carrington-Hobson | G47: Leeds Mercury Cycling Club | H47: U14 | I47: 1
C48: 5 | D48: 43 | E48: Ellie | F48: Horrocks | G48: East Bradford CC | H48: U16
C49: 6 | D49: 40 | E49: Anna | F49: Kippen | G49: Leeds Mercury Cycling Club | H49: U14
A51: 18 | B51: Fixed Wheel 1 lap Sprint Final | C51: 1 | D51: 17 | E51: Matt | F51: Rotherham | H51: 3 | I51: 4
C52: 2 | D52: 74 | E52: George | F52: Radcliffe | G52: Otley CC | H52: U16 | I52: 3
C53: 3 | D53: 1 | E53: Harry | F53: Hunt | G53: Otley CC | H53: 3U23 | I53: 2
C54: 4 | D54: 16 | E54: Jake | F54: Field | G54: Bramley Wheelers | H54: V3 | I54: 1
C55: 5 | D55: 13 | E55: Thomas | F55: Goodall | G55: Knottingley Velo | H55: U23
C56: 6 | D56: 2 | E56: Jonathan | F56: Hunt | G56: Otley CC | H56: V
A58: 19 | B58: Fixed Wheel Devil | C58: 1 | D58: 74 | E58: George | F58: Radcliffe | G58: Otley CC | H58: U16 | I58: 4
C59: 2 | D59: 17 | E59: Matt | F59: Rotherham | H59: 3 | I59: 3
C60: 3 | D60: 1 | E60: Harry | F60: Hunt | G60: Otley CC | H60: 3U23 | I60: 2
C61: 4 | D61: 11 | E61: Michael | F61: Tyas | G61: Hull Thursday RC | H61: Sen | I61: 1
C63: 1 | D63: 46 | E63: Poppy | F63: Peacock | G63: Otley CC | H63: U14 | I63: 4
C64: 2 | D64: 43 | E64: Ellie | F64: Horrocks | G64: East Bradford CC | H64: U16 | I64: 3
C65: 3 | D65: 41 | E65: Emily | F65: Middlebrooke | G65: Otley CC | H65: U14 | I65: 2
C66: 4 | D66: 40 | E66: Anna | F66: Kippen | G66: Leeds Mercury Cycling Club | H66: U14 | I66: 1
C67: 5 | D67: 49 | E67: Evie | F67: Carrington-Hobson | G67: Leeds Mercury Cycling Club | H67: U14
A69: 22 & 23 | B69: Fixed Wheel 3 Lap Scratch Groups A - C | C69: 1 | D69: 17 | E69: Matt | F69: Rotherham | H69: 3 | I69: 4
C70: 2 | D70: 74 | E70: George | F70: Radcliffe | G70: Otley CC | H70: U16 | I70: 4
C71: 3 | D71: 1 | E71: Harry | F71: Hunt | G71: Otley CC | H71: 3U23 | I71: 3
C72: 4 | D72: 73 | E72: Thomas | F72: Miller | G72: Clifton CC | H72: U14 | I72: 3
C73: 5 | D73: 11 | E73: Michael | F73: Tyas | G73: Hull Thursday RC | H73: Sen | I73: 2
C74: 6 | D74: 8 | E74: Chris | F74: Radcliffe | G74: Otley CC | H74: V | I74: 1
C75: 7 | D75: 6 | E75: Anthony | F75: Kitching | G75: East Bradford CC | H75: V
C76: 8 | D76: 5 | E76: Anthony | F76: Jones | G76: Knottingley Velo | H76: V3
C77: 9 | D77: 13 | E77: Thomas | F77: Goodall | G77: Knottingley Velo | H77: U23
C78: 10 | D78: 15 | E78: Nick | F78: Islip | H78: V4
C79: 11 | D79: 76 | E79: Esben | F79: Rost | G79: Leeds Mercury CC | H79: U16 | I79: 2
C80: 12 | D80: 72 | E80: James | F80: Luxton | G80: Otley CC | H80: U14 | I80: 1
C81: 13 | D81: 18 | E81: Yousef | F81: Habeeb | G81: Bramley Wheelers | H81: J
A83: 25 | B83: Fixed Wheel Unknown Distance All Riders | C83: 1 | D83: 74 | E83: George | F83: Radcliffe | G83: Otley CC | H83: U16 | I83: 4
C84: 2 | D84: 1 | E84: Harry | F84: Hunt | G84: Otley CC | H84: 3U23 | I84: 4
C85: 3 | D85: 6 | E85: Anthony | F85: Kitching | G85: East Bradford CC | H85: V | I85: 3
C86: 4 | D86: 5 | E86: Anthony | F86: Jones | G86: Knottingley Velo | H86: V3 | I86: 2
C87: 5 | D87: 43 | E87: Ellie | F87: Horrocks | G87: East Bradford CC | H87: U16 | I87: 4
C88: 6 | D88: 46 | E88: Poppy | F88: Peacock | G88: Otley CC | H88: U14 | I88: 3
C89: 7 | D89: 8 | E89: Chris | F89: Radcliffe | G89: Otley CC | H89: V | I89: 1
C90: 8 | D90: 73 | E90: Thomas | F90: Miller | G90: Clifton CC | H90: U14 | I90: 2
C91: 9 | D91: 41 | E91: Emily | F91: Middlebrooke | G91: Otley CC | H91: U14 | I91: 2
C92: 10 | D92: 42 | E92: Isobel | F92: Wilks | G92: Otley CC | H92: U14 | I92: 1
C93: 11 | D93: 76 | E93: Esben | F93: Rost | G93: Leeds Mercury CC | H93: U16 | I93: 1

Sheet Week 2 20th May
A1: Race No. | B1: Event Name | C1: Position | D1: Rider No | E1: Name | F1: Surname | G1: Club | H1: Cat | I1: Points | J1: Handicap Points
A2: 14 | B2: Fixed Wheel Women & Girls 3 Lap Scratch | C2: 1 | D2: 46 | E2: Poppy | F2: Peacock | G2: Otley CC | H2: U14 | I2: 4
C3: 2 | D3: 43 | E3: Ellie | F3: Horrocks | G3: East Bradford CC | H3: U16 | I3: 3
C4: 3 | D4: 41 | E4: Emily | F4: Middlebrooke | G4: Otley CC | H4: U14 | I4: 2
C5: 4 | D5: 40 | E5: Anna | F5: Kippen | G5: Leeds Mercury Cycling Club | H5: U14 | I5: 1
C6: 5 | D6: 50 | E6: Helen | F6: Goldthorpe | G6: Otley CC | H6: VW
A8: 15 | B8: Fixed Wheel 6 Lap Block Handicap Group A-C | C8: 1 | D8: 17 | E8: Matt | F8: Rotherham | H8: 3 | J8: 5
C9: 2 | D9: 74 | E9: George | F9: Radcliffe | G9: Otley CC | H9: U16 | J9: 3
C10: 3 | D10: 16 | E10: Jake | F10: Field | G10: Bramley Wheelers | H10: V3 | J10: 2
C11: 4 | D11: 19 | E11: Alex | F11: Foley | G11: Leeds Mercury | H11: U23 | J11: 1
C12: 5 | D12: 1 | E12: Harry | F12: Hunt | G12: Otley CC | H12: 3U23
C13: 6 | D13: 8 | E13: Chris | F13: Radcliffe | G13: Otley CC | H13: V
C14: 7 | D14: 73 | E14: Thomas | F14: Miller | G14: Clifton CC | H14: U14
C15: 8 | D15: 12 | E15: Martin | F15: Watson | G15: Knottingley Velo | H15: V
C16: 9 | D16: 13 | E16: Thomas | F16: Goodall | G16: Knottingley Velo | H16: U23
C17: 10 | D17: 15 | E17: Nick | F17: Islip | H17: V4
C18: 11 | D18: 77 | E18: Ryan | F18: Thomas | G18: East Bradford Race Team | H18: U14
C19: 12 | D19: 20 | E19: Russell | F19: Brown | G19: VSCC | H19: V40
C20: 13 | D20: 18 | E20: Yousef | F20: Habeeb | G20: Bramley Wheelers | H20: J
C21: 14 | D21: 11 | E21: Michael | F21: Tyas | G21: Hull Thursday RC | H21: Sen
C22: 15 | D22: 72 | E22: James | F22: Luxton | G22: Otley CC | H22: U14
C23: 16 | D23: 6 | E23: Anthony | F23: Kitching | G23: East Bradford CC | H23: V
C24: 17 | D24: 14 | E24: Sean | F24: Jackson | G24: Seacroft Wheelers | H24: V4
C25: 18 | D25: 5 | E25: Anthony | F25: Jones | G25: Knottingley Velo | H25: V3
A27: 19 | B27: Fixed Wheel Women & Girls 1 Lap Sprint | C27: 1 | D27: 41 | E27: Emily | F27: Middlebrooke | G27: Otley CC | H27: U14 | I27: 4
C28: 2 | D28: 46 | E28: Poppy | F28: Peacock | G28: Otley CC | H28: U14 | I28: 3
C29: 3 | D29: 40 | E29: Anna | F29: Kippen | G29: Leeds Mercury Cycling Club | H29: U14 | I29: 2
C30: 4 | D30: 43 | E30: Ellie | F30: Horrocks | G30: East Bradford CC | H30: U16 | I30: 1
C31: 5 | D31: 50 | E31: Helen | F31: Goldthorpe | G31: Otley CC | H31: VW
A33: 20 | B33: Fixed Wheel 1 lap Sprint Heat 1 | C33: 1 | D33: 1 | E33: Harry | F33: Hunt | G33: Otley CC | H33: 3U23
C34: 2 | D34: 5 | E34: Anthony | F34: Jones | G34: Knottingley Velo | H34: V3
C35: 3 | D35: 19 | E35: Alex | F35: Foley | G35: Leeds Mercury | H35: U23
C36: 4 | D36: 13 | E36: Thomas | F36: Goodall | G36: Knottingley Velo | H36: U23
C37: 5 | D37: 18 | E37: Yousef | F37: Habeeb | G37: Bramley Wheelers | H37: J
B39: Fixed Wheel 1 lap Sprint Heat 2 | C39: 1 | D39: 17 | E39: Matt | F39: Rotherham | H39: 3
C40: 2 | D40: 16 | E40: Jake | F40: Field | G40: Bramley Wheelers | H40: V3
C41: 3 | D41: 15 | E41: Nick | F41: Islip | H41: V4
C42: 4 | D42: 6 | E42: Anthony | F42: Kitching | G42: East Bradford CC | H42: V
C43: 5 | D43: 72 | E43: James | F43: Luxton | G43: Otley CC | H43: U14
B45: Fixed Wheel 1 lap Sprint Heat 3 | C45: 1 | D45: 74 | E45: George | F45: Radcliffe | G45: Otley CC | H45: U16
C46: 2 | D46: 8 | E46: Chris | F46: Radcliffe | G46: Otley CC | H46: V
C47: 3 | D47: 20 | E47: Russell | F47: Brown | G47: VSCC | H47: V40
C48: 4 | D48: 12 | E48: Martin | F48: Watson | G48: Knottingley Velo | H48: V
B50: Fixed Wheel 1 lap Sprint Heat 4 | C50: 1 | D50: 77 | E50: Ryan | F50: Thomas | G50: East Bradford Race Team | H50: U14
C51: 2 | D51: 73 | E51: Thomas | F51: Miller | G51: Clifton CC | H51: U14
C52: 3 | D52: 11 | E52: Michael | F52: Tyas | G52: Hull Thursday RC | H52: Sen
C53: 4 | D53: 14 | E53: Sean | F53: Jackson | G53: Seacroft Wheelers | H53: V4
A55: 22 | B55: Fixed Wheel 1 lap Sprint Final | C55: 1 | D55: 17 | E55: Matt | F55: Rotherham | H55: 3 | I55: 4
C56: 2 | D56: 74 | E56: George | F56: Radcliffe | G56: Otley CC | H56: U16 | I56: 3
C57: 3 | D57: 1 | E57: Harry | F57: Hunt | G57: Otley CC | H57: 3U23 | I57: 2
C58: 4 | D58: 5 | E58: Anthony | F58: Jones | G58: Knottingley Velo | H58: V3 | I58: 1
C59: 5 | D59: 16 | E59: Jake | F59: Field | G59: Bramley Wheelers | H59: V3
C60: 6 | D60: 77 | E60: Ryan | F60: Thomas | G60: East Bradford Race Team | H60: U14
C61: 7 | D61: 8 | E61: Chris | F61: Radcliffe | G61: Otley CC | H61: V
C62: 8 | D62: 73 | E62: Thomas | F62: Miller | G62: Clifton CC | H62: U14
A64: 24 & 25 | B64: Fixed Wheel Devil All Fixed Wheel | C64: 1 | D64: 74 | E64: George | F64: Radcliffe | G64: Otley CC | H64: U16 | I64: 4
C65: 2 | D65: 19 | E65: Alex | F65: Foley | G65: Leeds Mercury | H65: U23 | I65: 4
C66: 3 | D66: 1 | E66: Harry | F66: Hunt | G66: Otley CC | H66: 3U23 | I66: 3
C67: 4 | D67: 77 | E67: Ryan | F67: Thomas | G67: East Bradford Race Team | H67: U14 | I67: 3
C68: 5 | D68: 73 | E68: Thomas | F68: Miller | G68: Clifton CC | H68: U14 | I68: 2
C69: 6 | D69: 11 | E69: Michael | F69: Tyas | G69: Hull Thursday RC | H69: Sen | I69: 2
C70: 7 | D70: 8 | E70: Chris | F70: Radcliffe | G70: Otley CC | H70: V | I70: 1
C71: 8 | D71: 13 | E71: Thomas | F71: Goodall | G71: Knottingley Velo | H71: U23
C72: 9 | D72: 6 | E72: Anthony | F72: Kitching | G72: East Bradford CC | H72: V
C73: 10 | D73: 5 | E73: Anthony | F73: Jones | G73: Knottingley Velo | H73: V3
C74: 11 | D74: 43 | E74: Ellie | F74: Horrocks | G74: East Bradford CC | H74: U16 | I74: 4
C75: 12 | D75: 41 | E75: Emily | F75: Middlebrooke | G75: Otley CC | H75: U14 | I75: 3
C76: 13 | D76: 14 | E76: Sean | F76: Jackson | G76: Seacroft Wheelers | H76: V4
C77: 14 | D77: 40 | E77: Anna | F77: Kippen | G77: Leeds Mercury Cycling Club | H77: U14 | I77: 2
C78: 15 | D78: 72 | E78: James | F78: Luxton | G78: Otley CC | H78: U14 | I78: 1
C79: 16 | D79: 15 | E79: Nick | F79: Islip | H79: V4
C80: 17 | D80: 46 | E80: Poppy | F80: Peacock | G80: Otley CC | H80: U14 | I80: 1
C81: 18 | D81: 50 | E81: Helen | F81: Goldthorpe | G81: Otley CC | H81: VW
C82: 19 | D82: 12 | E82: Martin | F82: Watson | G82: Knottingley Velo | H82: V
A84: 26 | B84: Fixed Wheel 500m Men & Boys Handicap H1 | C84: 1 | D84: 13 | E84: Thomas | F84: Goodall | G84: Knottingley Velo | H84: U23
C85: 2 | D85: 8 | E85: Chris | F85: Radcliffe | G85: Otley CC | H85: V
C86: 3 | D86: 5 | E86: Anthony | F86: Jones | G86: Knottingley Velo | H86: V3
C87: 4 | D87: 20 | E87: Russell | F87: Brown | G87: VSCC | H87: V40
C88: 5 | D88: 74 | E88: George | F88: Radcliffe | G88: Otley CC | H88: U16
C89: 6 | D89: 1 | E89: Harry | F89: Hunt | G89: Otley CC | H89: 3U23
C90: 7 | D90: 18 | E90: Yousef | F90: Habeeb | G90: Bramley Wheelers | H90: J
C91: 8 | D91: 19 | E91: Alex | F91: Foley | G91: Leeds Mercury | H91: U23
C92: 9 | D92: 12 | E92: Martin | F92: Watson | G92: Knottingley Velo | H92: V
C93: 10 | D93: 14 | E93: Sean | F93: Jackson | G93: Seacroft Wheelers | H93: V4
B95: Fixed Wheel 500m Men & Boys Handicap H1 | C95: 1 | D95: 16 | E95: Jake | F95: Field | G95: Bramley Wheelers | H95: V3
C96: 2 | D96: 73 | E96: Thomas | F96: Miller | G96: Clifton CC | H96: U14
C97: 3 | D97: 15 | E97: Nick | F97: Islip | H97: V4
C98: 4 | D98: 11 | E98: Michael | F98: Tyas | G98: Hull Thursday RC | H98: Sen
C99: 5 | D99: 17 | E99: Matt | F99: Rotherham | H99: 3
C100: 6 | D100: 77 | E100: Ryan | F100: Thomas | G100: East Bradford Race Team | H100: U14
C101: 7 | D101: 72 | E101: James | F101: Luxton | G101: Otley CC | H101: U14
C102: 8 | D102: 6 | E102: Anthony | F102: Kitching | G102: East Bradford CC | H102: V
A104: 27 | B104: Fixed Wheel Women & Girls 1 500m Handicap | C104: 1 | D104: 43 | E104: Ellie | F104: Horrocks | G104: East Bradford CC | H104: U16 | J104: 5
C105: 2 | D105: 41 | E105: Emily | F105: Middlebrooke | G105: Otley CC | H105: U14 | J105: 3
C106: 3 | D106: 46 | E106: Poppy | F106: Peacock | G106: Otley CC | H106: U14 | J106: 2
C107: 4 | D107: 40 | E107: Anna | F107: Kippen | G107: Leeds Mercury Cycling Club | H107: U14 | J107: 1
C108: 5 | D108: 50 | E108: Helen | F108: Goldthorpe | G108: Otley CC | H108: VW
A110: 27A | B110: Fixed Wheel Women & Girls 1 500m Handicap | C110: 1 | D110: 46 | E110: Poppy | F110: Peacock | G110: Otley CC | H110: U14 | J110: 5
C111: 2 | D111: 41 | E111: Emily | F111: Middlebrooke | G111: Otley CC | H111: U14 | J111: 3
C112: 3 | D112: 43 | E112: Ellie | F112: Horrocks | G112: East Bradford CC | H112: U16 | J112: 2
...

Sheet Week 3 3rd June
A1: Race No. | B1: Event Name | C1: Position | D1: Rider No | E1: Name | F1: Surname | G1: Club | H1: Cat | I1: Points | J1: Handicap Points
A2: 14 | B2: Fixed Wheel Women & Girls 3 Lap Scratch | C2: 1 | D2: 46 | E2: Poppy | F2: Peacock | G2: Otley CC | H2: U14 | I2: 4
C3: 2 | D3: 42 | E3: Isobel | F3: Wilks | G3: Otley CC | H3: U14 | I3: 3
C4: 3 | D4: 41 | E4: Emily | F4: Middlebrooke | G4: Otley CC | H4: U14 | I4: 2
C5: 4 | D5: 40 | E5: Anna | F5: Kippen | G5: Leeds Mercury Cycling Club | H5: U14 | I5: 1
C6: 5 | D6: 50 | E6: Helen | F6: Goldthorpe | G6: Otley CC | H6: VW
A8: 15 | B8: Fixed Wheel 6 Lap Block Handicap Group A-C | C8: 1 | D8: 16 | E8: Jake | F8: Field | G8: Bramley Wheelers | H8: V3 | J8: 4
C9: 2 | D9: 8 | E9: Chris | F9: Radcliffe | G9: Otley CC | H9: V | J9: 3
C10: 3 | D10: 73 | E10: Thomas | F10: Miller | G10: Clifton CC | H10: U14 | J10: 4
C11: 4 | D11: 74 | E11: George | F11: Radcliffe | G11: Otley CC | H11: U16 | J11: 3
C12: 5 | D12: 13 | E12: Thomas | F12: Goodall | G12: Knottingley Velo | H12: U23 | J12: 2
C13: 6 | D13: 11 | E13: Michael | F13: Tyas | G13: Hull Thursday RC | H13: Sen | J13: 1
C14: 7 | D14: 5 | E14: Anthony | F14: Jones | G14: Knottingley Velo | H14: V3
C15: 8 | D15: 77 | E15: Ryan | F15: Thomas | G15: East Bradford Race Team | H15: U14 | J15: 2
C16: 9 | D16: 17 | E16: Matt | F16: Rotherham | H16: 3
C17: 10 | D17: 14 | E17: Sean | F17: Jackson | G17: Seacroft Wheelers | H17: V4
C18: 11 | D18: 18 | E18: Yousef | F18: Habeeb | G18: Bramley Wheelers | H18: J
C19: 12 | D19: 19 | E19: Alex | F19: Foley | G19: Leeds Mercury | H19: U23
C20: 13 | D20: 72 | E20: James | F20: Luxton | G20: Otley CC | H20: U14 | J20: 1
C21: 14 | D21: 1 | E21: Harry | F21: Hunt | G21: Otley CC | H21: 3U23
C22: 15 | D22: 12 | E22: Martin | F22: Watson | G22: Knottingley Velo | H22: V
A24: 22 | B24: Fixed Wheel Women & Girls 1 Lap Sprint | C24: 1 | D24: 41 | E24: Emily | F24: Middlebrooke | G24: Otley CC | H24: U14 | I24: 4
C25: 2 | D25: 42 | E25: Isobel | F25: Wilks | G25: Otley CC | H25: U14 | I25: 3
C26: 3 | D26: 40 | E26: Anna | F26: Kippen | G26: Leeds Mercury Cycling Club | H26: U14 | I26: 2
C27: 4 | D27: 46 | E27: Poppy | F27: Peacock | G27: Otley CC | H27: U14 | I27: 1
C28: 5 | D28: 50 | E28: Helen | F28: Goldthorpe | G28: Otley CC | H28: VW
A30: 23 | B30: Fixed Wheel 1 lap Sprint Heat 1 | C30: 1 | D30: 16 | E30: Jake | F30: Field | G30: Bramley Wheelers | H30: V3
C31: 2 | D31: 1 | E31: Harry | F31: Hunt | G31: Otley CC | H31: 3U23
C32: 3 | D32: 77 | E32: Ryan | F32: Thomas | G32: East Bradford Race Team | H32: U14
C33: 4 | D33: 8 | E33: Chris | F33: Radcliffe | G33: Otley CC | H33: V
C34: 5 | D34: 14 | E34: Sean | F34: Jackson | G34: Seacroft Wheelers | H34: V4
B36: Fixed Wheel 1 lap Sprint Heat 2 | C36: 1 | D36: 17 | E36: Matt | F36: Rotherham | H36: 3
C37: 2 | D37: 19 | E37: Alex | F37: Foley | G37: Leeds Mercury | H37: U23
C38: 3 | D38: 73 | E38: Thomas | F38: Miller | G38: Clifton CC | H38: U14
C39: 4 | D39: 18 | E39: Yousef | F39: Habeeb | G39: Bramley Wheelers | H39: J
C40: 5 | D40: 11 | E40: Michael | F40: Tyas | G40: Hull Thursday RC | H40: Sen
B42: Fixed Wheel 1 lap Sprint Heat 3 | C42: 1 | D42: 74 | E42: George | F42: Radcliffe | G42: Otley CC | H42: U16
C43: 2 | D43: 5 | E43: Anthony | F43: Jones | G43: Knottingley Velo | H43: V3
C44: 3 | D44: 13 | E44: Thomas | F44: Goodall | G44: Knottingley Velo | H44: U23
C45: 4 | D45: 72 | E45: James | F45: Luxton | G45: Otley CC | H45: U14
C46: 5 | D46: 12 | E46: Martin | F46: Watson | G46: Knottingley Velo | H46: V
A48: 25 | B48: Fixed Wheel 1 lap Sprint Final | C48: 1 | D48: 17 | E48: Matt | F48: Rotherham | H48: 3 | I48: 4
C49: 2 | D49: 16 | E49: Jake | F49: Field | G49: Bramley Wheelers | H49: V3 | I49: 3
C50: 3 | D50: 74 | E50: George | F50: Radcliffe | G50: Otley CC | H50: U16 | I50: 2
C51: 4 | D51: 5 | E51: Anthony | F51: Jones | G51: Knottingley Velo | H51: V3 | I51: 1
C52: 5 | D52: 19 | E52: Alex | F52: Foley | G52: Leeds Mercury | H52: U23
C53: 6 | D53: 1 | E53: Harry | F53: Hunt | G53: Otley CC | H53: 3U23
A55: 26 | B55: Fixed Wheel Women & Girls 1 500m Handicap | C55: 1 | D55: 40 | E55: Anna | F55: Kippen | G55: Leeds Mercury Cycling Club | H55: U14 | J55: 5
C56: 2 | D56: 41 | E56: Emily | F56: Middlebrooke | G56: Otley CC | H56: U14 | J56: 3
C57: 3 | D57: 50 | E57: Helen | F57: Goldthorpe | G57: Otley CC | H57: VW | J57: 2
C58: 4 | D58: 46 | E58: Poppy | F58: Peacock | G58: Otley CC | H58: U14 | J58: 1
C59: 5 | D59: 42 | E59: Isobel | F59: Wilks | G59: Otley CC | H59: U14
A61: 29 | B61: Fixed Wheel Devil All Fixed Wheel | C61: 1 | D61: 17 | E61: Matt | F61: Rotherham | H61: 3 | I61: 4
C62: 2 | D62: 74 | E62: George | F62: Radcliffe | G62: Otley CC | H62: U16 | I62: 4
C63: 3 | D63: 19 | E63: Alex | F63: Foley | G63: Leeds Mercury | H63: U23 | I63: 3
C64: 4 | D64: 77 | E64: Ryan | F64: Thomas | G64: East Bradford Race Team | H64: U14 | I64: 3
C65: 5 | D65: 73 | E65: Thomas | F65: Miller | G65: Clifton CC | H65: U14 | I65: 2
C66: 6 | D66: 8 | E66: Chris | F66: Radcliffe | G66: Otley CC | H66: V | I66: 2
C67: 7 | D67: 1 | E67: Harry | F67: Hunt | G67: Otley CC | H67: 3U23 | I67: 1
C68: 8 | D68: 11 | E68: Michael | F68: Tyas | G68: Hull Thursday RC | H68: Sen
C69: 9 | D69: 13 | E69: Thomas | F69: Goodall | G69: Knottingley Velo | H69: U23
C70: 10 | D70: 5 | E70: Anthony | F70: Jones | G70: Knottingley Velo | H70: V3
C71: 11 | D71: 46 | E71: Poppy | F71: Peacock | G71: Otley CC | H71: U14 | I71: 4
C72: 12 | D72: 41 | E72: Emily | F72: Middlebrooke | G72: Otley CC | H72: U14 | I72: 3
C73: 13 | D73: 72 | E73: James | F73: Luxton | G73: Otley CC | H73: U14 | I73: 1
C74: 14 | D74: 42 | E74: Isobel | F74: Wilks | G74: Otley CC | H74: U14 | I74: 2
C75: 15 | D75: 12 | E75: Martin | F75: Watson | G75: Knottingley Velo | H75: V
C76: 16 | D76: 50 | E76: Helen | F76: Goldthorpe | G76: Otley CC | H76: VW | I76: 1
C77: 17 | D77: 40 | E77: Anna | F77: Kippen | G77: Leeds Mercury Cycling Club | H77: U14
A79: 26 | B79: Fixed Wheel 500m Men & Boys Handicap H1 | C79: 1 | D79: 73 | E79: Thomas | F79: Miller | G79: Clifton CC | H79: U14
C80: 2 | D80: 72 | E80: James | F80: Luxton | G80: Otley CC | H80: U14
C81: 3 | D81: 8 | E81: Chris | F81: Radcliffe | G81: Otley CC | H81: V
C82: 4 | D82: 13 | E82: Thomas | F82: Goodall | G82: Knottingley Velo | H82: U23
C83: 5 | D83: 74 | E83: George | F83: Radcliffe | G83: Otley CC | H83: U16
C84: 6 | D84: 1 | E84: Harry | F84: Hunt | G84: Otley CC | H84: 3U23
C85: 7 | D85: 19 | E85: Alex | F85: Foley | G85: Leeds Mercury | H85: U23
B87: Fixed Wheel 500m Men & Boys Handicap H1 | C87: 1 | D87: 17 | E87: Matt | F87: Rotherham | H87: 3
C88: 2 | D88: 11 | E88: Michael | F88: Tyas | G88: Hull Thursday RC | H88: Sen
C89: 3 | D89: 16 | E89: Jake | F89: Field | G89: Bramley Wheelers | H89: V3
C90: 4 | D90: 5 | E90: Anthony | F90: Jones | G90: Knottingley Velo | H90: V3
C91: 5 | D91: 77 | E91: Ryan | F91: Thomas | G91: East Bradford Race Team | H91: U14
C92: 6 | D92: 12 | E92: Martin | F92: Watson | G92: Knottingley Velo | H92: V
C93: 7 | D93: 18 | E93: Yousef | F93: Habeeb | G93: Bramley Wheelers | H93: J
A95: 27 | B95: Fixed Wheel Women & Girls 1 500m Handicap | C95: 1 | D95: 40 | E95: Anna | F95: Kippen | G95: Leeds Mercury Cycling Club | H95: U14 | J95: 5
C96: 2 | D96: 41 | E96: Emily | F96: Middlebrooke | G96: Otley CC | H96: U14 | J96: 3
C97: 3 | D97: 42 | E97: Isobel | F97: Wilks | G97: Otley CC | H97: U14 | J97: 2
C98: 4 | D98: 50 | E98: Helen | F98: Goldthorpe | G98: Otley CC | H98: VW | J98: 1
C99: 5 | D99: 46 | E99: Poppy | F99: Peacock | G99: Otley CC | H99: U14
A101: 28 | B101: Fixed Wheel 500m Men & Boys Handicap Final | C101: 1 | D101: 11 | E101: Michael | F101: Tyas | G101: Hull Thursday RC | H101: Sen | J101: 5
C102: 2 | D102: 8 | E102: Chris | F102: Radcliffe | G102: Otley CC | H102: V | J102: 3
C103: 3 | D103: 73 | E103: Thomas | F103: Miller | G103: Clifton CC | H103: U14 | J103: 2
C104: 4 | D104: 5 | E104: Anthony | F104: Jones | G104: Knottingley Velo | H104: V3 | J104: 1
C105: 5 | D105: 13 | E105: Thomas | F105: Goodall | G105: Knottingley Velo | H105: U23
C106: 6 | D106: 72 | E106: James | F106: Luxton | G106: Otley CC | H106: U14
C107: 7 | D107: 17 | E107: Matt | F107: Rotherham | H107: 3
A109: 29 | B109: Fixed Wheel Unknown Distance All Riders | C109: 1 | D109: 74 | E109: George | F109: Radcliffe | G109: Otley CC | H109: U16 | I109: 4
C110: 2 | D110: 1 | E110: Harry | F110: Hunt | G110: Otley CC | H110: 3U23 | I110: 4
C111: 3 | D111: 77 | E111: Ryan | F111: Thomas | G111: East Bradford Race Team | H111: U14 | I111: 3
C112: 4 | D112: 19 | E112: Alex | F112: Foley | G112: Leeds Mercury | H112: U23 | I112: 3
C113: 5 | D113: 5 | E113: Anthony | F113: Jones | G113: Knottingley Velo | H113: V3 | I113: 2
...

Sheet Standings after 3 weeks
A1: West Riding Track League 2019 Fixed Wheel
A2: Rider Details | H2: Scratch Race Points | Q2: Handicap Race Points
A3: Position | B3: No. | C3: Forename | D3: Name | E3: Club/Team Name | F3: Cat. | H3: Week 1 | I3: Week 2 | J3: Week 3 | K3: Week 4 | L3: Week 5 | M3: Week 6 | N3: Week 7 | O3: Total | Q3: Week 1 | R3: Week 2 | S3: Week 3 | T3: Week 4 | U3: Week 5 | V3: Week 6 | W3: Week 7 | X3: Total
A4: SENIOR
A5: 1 | B5: 1 | C5: Harry | D5: Hunt | E5: Otley CC | F5: 3U23 | H5: 11 | I5: 8 | J5: 5 | O5: 24 | Q5: 2 | R5: 0 | S5: 0 | X5: 2
A6: 2 | B6: 17 | C6: Matt | D6: Rotherham | F6: 3 | H6: 11 | I6: 4 | J6: 8 | O6: 23 | Q6: 5 | R6: 10 | S6: 0 | X6: 15 | AA6: Scratch Race Points
A7: 3 | B7: 19 | C7: Alex | D7: Foley | E7: Leeds Mercury | F7: U23 | H7: 0 | I7: 8 | J7: 6 | O7: 14 | Q7: 0 | R7: 1 | S7: 0 | X7: 1 | AB7: 1st | AC7: 2nd | AD7: 3rd | AE7: 4th | AF7: 5th | AG7: 6th
A8: 4 | B8: 5 | C8: Anthony | D8: Jones | E8: Knottingley Velo | F8: V3 | H8: 2 | I8: 1 | J8: 3 | O8: 6 | Q8: 1 | R8: 1 | S8: 1 | X8: 3 | AA8: Group 1 | AB8: 24 | AC8: 23 | AD8: 22 | AE8: 21 | AF8: 20 | AG8: 19
A9: 5 | B9: 8 | C9: Chris | D9: Radcliffe | E9: Otley CC | F9: V | H9: 2 | I9: 1 | J9: 3 | O9: 6 | Q9: 0 | R9: 2 | S9: 6 | X9: 8 | AA9: Group 2 | AB9: 18 | AC9: 17 | AD9: 16 | AE9: 15 | AF9: 14 | AG9: 13
A10: 6 | B10: 11 | C10: Michael | D10: Tyas | E10: Hull Thursday RC | F10: Sen | H10: 3 | I10: 2 | J10: 0 | O10: 5 | Q10: 0 | R10: 0 | S10: 6 | X10: 6 | AA10: Group 3 | AB10: 12 | AC10: 11 | AD10: 10 | AE10: 9 | AF10: 8 | AG10: 7
A11: 7 | B11: 6 | C11: Anthony | D11: Kitching | E11: East Bradford CC | F11: V | H11: 3 | I11: 1 | J11: 0 | O11: 4 | Q11: 0 | R11: 0 | S11: 0 | X11: 0 | AA11: Group 4 | AB11: 6 | AC11: 5 | AD11: 4 | AE11: 3 | AF11: 2 | AG11: 1
A12: 8 | B12: 16 | C12: Jake | D12: Field | E12: Bramley Wheelers | F12: V3 | H12: 1 | I12: 0 | J12: 3 | O12: 4 | Q12: 0 | R12: 2 | S12: 4 | X12: 6
A13: 9 | B13: 20 | C13: Russell | D13: Brown | E13: VSCC | F13: V40 | H13: 0 | I13: 2 | J13: 0 | O13: 2 | Q13: 0 | R13: 0 | S13: 0 | X13: 0 | AA13: Handicap Race Points
A14: 10 | B14: 2 | C14: Jonathan | D14: Hunt | E14: Otley CC | F14: V | H14: 0 | I14: 0 | J14: 0 | O14: 0 | Q14: 0 | R14: 0 | S14: 0 | X14: 0 | AA14: 1st | AB14: 2nd | AC14: 3rd | AD14: 4th
A15: 11 | B15: 4 | C15: Nicholas | D15: Islip | E15: West Riding Track League | F15: V4 | H15: 0 | I15: 0 | J15: 0 | O15: 0 | Q15: 0 | R15: 0 | S15: 0 | X15: 0 | AA15: 5 | AB15: 3 | AC15: 2 | AD15: 1
A16: 12 | B16: 7 | C16: Nigel | D16: Middlehurst | E16: Ellmore Factory Racing | F16: V4 | H16: 0 | I16: 0 | J16: 0 | O16: 0 | Q16: 0 | R16: 0 | S16: 0 | X16: 0
A17: 13 | B17: 10 | C17: Darren | D17: Stringer | E17: Kirklees Cycling Academy | F17: V3 | H17: 0 | I17: 0 | J17: 0 | O17: 0 | Q17: 0 | R17: 0 | S17: 0 | X17: 0
A18: 14 | B18: 12 | C18: Martin | D18: Watson | E18: Knottingley Velo | F18: V | H18: 0 | I18: 0 | J18: 0 | O18: 0 | Q18: 0 | R18: 0 | S18: 0 | X18: 0
A19: 15 | B19: 13 | C19: Thomas | D19: Goodall | E19: Knottingley Velo | F19: U23 | H19: 0 | I19: 0 | J19: 0 | O19: 0 | Q19: 0 | R19: 0 | S19: 2 | X19: 2
A20: 16 | B20: 14 | C20: Sean | D20: Jackson | E20: Seacroft Wheelers | F20: V4 | H20: 0 | I20: 0 | J20: 0 | O20: 0 | Q20: 0 | R20: 0 | S20: 0 | X20: 0
A21: 17 | B21: 15 | C21: Nick | D21: Islip | F21: V4 | H21: 0 | I21: 0 | J21: 0 | O21: 0 | Q21: 0 | R21: 0 | S21: 0 | X21: 0
A22: 18 | B22: 18 | C22: Yousef | D22: Habeeb | E22: Bramley Wheelers | F22: J | H22: 0 | I22: 0 | J22: 0 | O22: 0 | Q22: 0 | R22: 0 | S22: 0 | X22: 0
A23: YOUTH MALE
A24: 1 | B24: 74 | C24: George | D24: Radcliffe | E24: Otley CC | F24: U16 | H24: 15 | I24: 11 | J24: 10 | O24: 36 | Q24: 3 | R24: 3 | S24: 3 | X24: 9
A25: 2 | B25: 77 | C25: Ryan | D25: Thomas | E25: East Bradford Race Team | F25: U14 | H25: 0 | I25: 6 | J25: 6 | O25: 12 | Q25: 0 | R25: 0 | S25: 2 | X25: 2
A26: 3 | B26: 73 | C26: Thomas | D26: Miller | E26: Clifton CC | F26: U14 | H26: 5 | I26: 4 | J26: 2 | O26: 11 | Q26: 0 | R26: 3 | S26: 6 | X26: 9
A27: 4 | B27: 72 | C27: James | D27: Luxton | E27: Otley CC | F27: U14 | H27: 1 | I27: 1 | J27: 1 | O27: 3 | Q27: 0 | R27: 0 | S27: 1 | X27: 1
A28: 5 | B28: 76 | C28: Esben | D28: Rost | E28: Leeds Mercury CC | F28: U16 | H28: 3 | I28: 0 | J28: 0 | O28: 3 | Q28: 0 | R28: 0 | S28: 0 | X28: 0
A29: 6 | B29: 70 | C29: Archie | D29: Fletcher | E29: Sportcity Velo | F29: U14 | H29: 0 | I29: 0 | J29: 0 | O29: 0 | Q29: 0 | R29: 0 | S29: 0 | X29: 0
A30: 7 | B30: 71 | C30: Sam | D30: Hollis | E30: Albarosa Cycling Club | F30: U16 | H30: 0 | I30: 0 | J30: 0 | O30: 0 | Q30: 0 | R30: 0 | S30: 0 | X30: 0
A31: WOMEN & GIRLS
A32: 1 | B32: 41 | C32: Emily | D32: Middlebrooke | E32: Otley CC | F32: U14 | H32: 8 | I32: 12 | J32: 13 | O32: 33 | Q32: 0 | R32: 6 | S32: 6 | X32: 12
A33: 2 | B33: 46 | C33: Poppy | D33: Peacock | E33: Otley CC | F33: U14 | H33: 13 | I33: 8 | J33: 12 | O33: 33 | Q33: 0 | R33: 7 | S33: 1 | X33: 8
A34: 3 | B34: 43 | C34: Ellie | D34: Horrocks | E34: East Bradford CC | F34: U16 | H34: 10 | I34: 12 | J34: 0 | O34: 22 | Q34: 0 | R34: 7 | S34: 0 | X34: 7
A35: 4 | B35: 42 | C35: Isobel | D35: Wilks | E35: Otley CC | F35: U14 | H35: 7 | I35: 0 | J35: 10 | O35: 17 | Q35: 0 | R35: 0 | S35: 2 | X35: 2
A36: 5 | B36: 40 | C36: Anna | D36: Kippen | E36: Leeds Mercury Cycling Club | F36: U14 | H36: 1 | I36: 5 | J36: 3 | O36: 9 | Q36: 0 | R36: 1 | S36: 10 | X36: 11
A37: 6 | B37: 50 | C37: Helen | D37: Goldthorpe | E37: Otley CC | F37: VW | H37: 0 | I37: 2 | J37: 1 | O37: 3 | Q37: 0 | R37: 1 | S37: 3 | X37: 4
A38: 7 | B38: 49 | C38: Evie | D38: Carrington-Hobson | E38: Leeds Mercury Cycling Club | F38: U14 | H38: 1 | I38: 0 | J38: 0 | O38: 1 | Q38: 0 | R38: 0 | S38: 0 | X38: 0
A39: 8 | B39: 47 | C39: Elora | D39: Foley | E39: Leeds Mercury Cycling Club | F39: U16 | H39: 0 | I39: 0 | J39: 0 | O39: 0 | Q39: 0 | R39: 0 | S39: 0 | X39: 0
A40: 9 | B40: 48 | C40: Jessica | D40: Friend | E40: Valley Striders CC | F40: VW | H40: 0 | I40: 0 | J40: 0 | O40: 0 | Q40: 0 | R40: 0 | S40: 0 | X40: 0

Sheet Fixed Wheel Champs
A1: Race No. | B1: Event Name | C1: Position | D1: Rider No | E1: Name | F1: Surname | G1: Club | H1: Cat | I1: Points
A2: 1 | B2: Fixed Wheel Women & Girls 3 Lap Scratch Warm Up Race | C2: 1 | D2: 51 | E2: Eleanor | F2: Hunt | G2: Otley CC | H2: U16
C3: 2 | D3: 41 | E3: Emily | F3: Middlebrooke | G3: Otley CC | H3: U14
C4: 3 | D4: 46 | E4: Poppy | F4: Peacock | G4: Otley CC | H4: U14
C5: 4 | D5: 42 | E5: Isobel | F5: Wilks | G5: Otley CC | H5: U14
C6: 5 | D6: 50 | E6: Helen | F6: Goldthorpe | G6: Otley CC | H6: W
A8: 2 | B8: Fixed Wheel Men/Boys 4 Lap Scratch Warm Up Race | C8: 1 | D8: 74 | E8: George | F8: Radcliffe | G8: Otley CC | H8: U16
C9: 2 | D9: 8 | E9: Chris | F9: Radcliffe | G9: Otley CC
C10: 3 | D10: 77 | E10: Ryan | F10: Thomas | G10: East Bradford Race Team | H10: U14
C11: 4 | D11: 19 | E11: Alex | F11: Foley | G11: Leeds Mercury Cycling Club | H11: 3rd
C12: 5 | D12: 11 | E12: Michael | F12: Tyas | G12: Hull Thursday RC | H12: 4th
C13: 6 | D13: 21 | E13: Jack | F13: Fawdington | G13: FTR Milltag | H13: 2nd
C14: 7 | D14: 16 | E14: Jake | F14: Field | G14: Bramley Wheelers CC | H14: 3rd
C15: 8 | D15: 73 | E15: Thomas | F15: Miller | G15: Clifton CC | H15: U14
C16: 9 | D16: 5 | E16: Anthony | F16: Jones | G16: Knottingley Velo | H16: 3rd
C17: 10 | D17: 12 | E17: Martin | F17: Watson | G17: Knottingley Velo
C18: 11 | D18: 72 | E18: James | F18: Luxton | G18: Otley CC | H18: U14
A20: 3 | B20: U14 Girls/U16/W 1 Lap Sprint Final Omnium 1 of 3 | C20: 1 | D20: 51 | E20: Eleanor | F20: Hunt | G20: Otley CC | H20: U16
C21: 2 | D21: 46 | E21: Poppy | F21: Peacock | G21: Otley CC | H21: U14
C22: 3 | D22: 41 | E22: Emily | F22: Middlebrooke | G22: Otley CC | H22: U14
C23: 4 | D23: 42 | E23: Isobel | F23: Wilks | G23: Otley CC | H23: U14
C24: 5 | D24: 50 | E24: Helen | F24: Goldthorpe | G24: Otley CC | H24: W
A26: 4 | B26: U14 Boys 1 Lap Sprint Final Omnium 1 of 3 | C26: 1 | D26: 77 | E26: Ryan | F26: Thomas | G26: East Bradford Race Team | H26: U14
C27: 2 | D27: 73 | E27: Thomas | F27: Miller | G27: Clifton CC | H27: U14
C28: 3 | D28: 72 | E28: James | F28: Luxton | G28: Otley CC | H28: U14
A30: 5 | B30: Regional Senior/Junior 400m Sprint Championship - Summersgill Cup Includes Omnium 1 of 3 for the U16 Boys
B32: Heat 1 | C32: 1 | D32: 16 | E32: Jake | F32: Field | G32: Bramley Wheelers CC | H32: 3rd
C33: 2 | D33: 5 | E33: Anthony | F33: Jones | G33: Knottingley Velo | H33: 3rd
C34: 3 | D34: 19 | E34: Alex | F34: Foley | G34: Leeds Mercury Cycling Club | H34: 3rd
C35: 4 | D35: 11 | E35: Michael | F35: Tyas | G35: Hull Thursday RC | H35: 4th
A37: 6 | B37: Heat 2 | C37: 1 | D37: 74 | E37: George | F37: Radcliffe | G37: Otley CC | H37: U16
C38: 2 | D38: 21 | E38: Jack | F38: Fawdington | G38: FTR Milltag | H38: 2nd
C39: 3 | D39: 8 | E39: Chris | F39: Radcliffe | G39: Otley CC
C40: 4 | D40: 18 | E40: Yousef | F40: Habeeb | G40: Seacroft Wheelers | H40: J
C41: 5 | D41: 12 | E41: Martin | F41: Watson | G41: Knottingley Velo
A43: 7 | B43: Youth 4 Station Pursuit U14/ U16/JW | D43: 72 | E43: James | F43: Luxton | G43: Otley CC | H43: U14
D44: 73 | E44: Thomas | F44: Miller | G44: Clifton CC | H44: U14
D45: 77 | E45: Ryan | F45: Thomas | G45: East Bradford Race Team | H45: U14
D47: 41 | E47: Emily | F47: Middlebrooke | G47: Otley CC | H47: U14
D48: 42 | E48: Isobel | F48: Wilks | G48: Otley CC | H48: U14
D49: 46 | E49: Poppy | F49: Peacock | G49: Otley CC | H49: U14
D51: 51 | E51: Eleanor | F51: Hunt | G51: Otley CC | H51: U16
D52: 50 | E52: Helen | F52: Goldthorpe | G52: Otley CC | H52: W
A54: 8 | B54: Summersgill Cup Final | C54: 1 | D54: 21 | E54: Jack | F54: Fawdington | G54: FTR Milltag | H54: 2nd
C55: 2 | D55: 5 | E55: Anthony | F55: Jones | G55: Knottingley Velo | H55: 3rd
C56: 3 | D56: 16 | E56: Jake | F56: Field | G56: Bramley Wheelers CC | H56: 3rd
C57: 4 | D57: 74 | E57: George | F57: Radcliffe | G57: Otley CC | H57: U16
C58: 5 | D58: 19 | E58: Alex | F58: Foley | G58: Leeds Mercury Cycling Club | H58: 3rd
C59: 6 | D59: 8 | E59: Chris | F59: Radcliffe | G59: Otley CC
A61: 9 | B61: U14/U16/W Girls 6 Lap Scratch Race | C61: 1 | D61: 51 | E61: Eleanor | F61: Hunt | G61: Otley CC | H61: U16
C62: 2 | D62: 46 | E62: Poppy | F62: Peacock | G62: Otley CC | H62: U14
C63: 3 | D63: 41 | E63: Emily | F63: Middlebrooke | G63: Otley CC | H63: U14
C64: 4 | D64: 42 | E64: Isobel | F64: Wilks | G64: Otley CC | H64: U14
C65: 5 | D65: 50 | E65: Helen | F65: Goldthorpe | G65: Otley CC | H65: W
A67: 10 | B67: U14 Boys 5 Lap Scratch | C67: 1 | D67: 77 | E67: Ryan | F67: Thomas | G67: East Bradford Race Team | H67: U14
C68: 2 | D68: 73 | E68: Thomas | F68: Miller | G68: Clifton CC | H68: U14
C69: 3 | D69: 72 | E69: James | F69: Luxton | G69: Otley CC | H69: U14
A71: 11 | B71: Regional Adult/Junior incl U16 Boys (Omnium 3 of 3) 5K | C71: 1 | D71: 74 | E71: George | F71: Radcliffe | G71: Otley CC | H71: U16
C72: 2 | D72: 19 | E72: Alex | F72: Foley | G72: Leeds Mercury Cycling Club | H72: 3rd
C73: 3 | D73: 21 | E73: Jack | F73: Fawdington | G73: FTR Milltag | H73: 2nd
C74: 4 | D74: 8 | E74: Chris | F74: Radcliffe | G74: Otley CC
C75: 5 | D75: 16 | E75: Jake | F75: Field | G75: Bramley Wheelers CC | H75: 3rd
C76: 6 | D76: 18 | E76: Yousef | F76: Habeeb | G76: Seacroft Wheelers | H76: J
C77: 7 | D77: 11 | E77: Michael | F77: Tyas | G77: Hull Thursday RC | H77: 4th
A79: 12 | B79: U14 & U16 Girls and Women Handicap | C79: 1 | D79: 51 | E79: Eleanor | F79: Hunt | G79: Otley CC | H79: U16
C80: 2 | D80: 46 | E80: Poppy | F80: Peacock | G80: Otley CC | H80: U14
C81: 3 | D81: 42 | E81: Isobel | F81: Wilks | G81: Otley CC | H81: U14
C82: 4 | D82: 50 | E82: Helen | F82: Goldthorpe | G82: Otley CC | H82: W
C83: 5 | D83: 41 | E83: Emily | F83: Middlebrooke | G83: Otley CC | H83: U14
A85: 13 | B85: U14 & U16 Boys Handicap | C85: 1 | D85: 73 | E85: Thomas | F85: Miller | G85: Clifton CC | H85: U14
C86: 2 | D86: 72 | E86: James | F86: Luxton | G86: Otley CC | H86: U14
C87: 3 | D87: 77 | E87: Ryan | F87: Thomas | G87: East Bradford Race Team | H87: U14
A89: 14 | B89: Men’s Handicap | C89: 1 | D89: 5 | E89: Anthony | F89: Jones | G89: Knottingley Velo | H89: 3rd
C90: 2 | D90: 12 | E90: Martin | F90: Watson | G90: Knottingley Velo
C91: 3 | D91: 8 | E91: Chris | F91: Radcliffe | G91: Otley CC
C92: 4 | D92: 74 | E92: George | F92: Radcliffe | G92: Otley CC | H92: U16
C93: 5 | D93: 18 | E93: Yousef | F93: Habeeb | G93: Seacroft Wheelers | H93: J
C94: 6 | D94: 11 | E94: Michael | F94: Tyas | G94: Hull Thursday RC | H94: 4th
C95: 7 | D95: 21 | E95: Jack | F95: Fawdington | G95: FTR Milltag | H95: 2nd
A97: 15 | B97: Fixed Wheel Devil All riders | C97: 1 | D97: 77 | E97: Ryan | F97: Thomas | G97: East Bradford Race Team | H97: U14
C98: 2 | D98: 74 | E98: George | F98: Radcliffe | G98: Otley CC | H98: U16
C99: 3 | D99: 21 | E99: Jack | F99: Fawdington | G99: FTR Milltag | H99: 2nd
C100: 4 | D100: 16 | E100: Jake | F100: Field | G100: Bramley Wheelers CC | H100: 3rd
C101: 5 | D101: 19 | E101: Alex | F101: Foley | G101: Leeds Mercury Cycling Club | H101: 3rd
C102: 6 | D102: 11 | E102: Michael | F102: Tyas | G102: Hull Thursday RC | H102: 4th
C103: 7 | D103: 73 | E103: Thomas | F103: Miller | G103: Clifton CC | H103: U14
C104: 8 | D104: 41 | E104: Emily | F104: Middlebrooke | G104: Otley CC | H104: U14
C105: 9 | D105: 8 | E105: Chris | F105: Radcliffe | G105: Otley CC
C106: 10 | D106: 46 | E106: Poppy | F106: Peacock | G106: Otley CC | H106: U14
C107: 11 | D107: 50 | E107: Helen | F107: Goldthorpe | G107: Otley CC | H107: W
C108: 12 | D108: 42 | E108: Isobel | F108: Wilks | G108: Otley CC | H108: U14

Sheet Week 4 8th July
A1: Race No. | B1: Event Name | C1: Position | D1: Rider No | E1: Name | F1: Surname | G1: Club | H1: Cat | I1: Points | J1: Handicap Points
A2: 14 | B2: Fixed Wheel Women & Girls 3 Lap Scratch | C2: 1 | D2: 46 | E2: Poppy | F2: Peacock | G2: Otley CC | H2: U14 | I2: 4
C3: 2 | D3: 41 | E3: Emily | F3: Middlebrooke | G3: Otley CC | H3: U14 | I3: 3
C4: 3 | D4: 42 | E4: Isobel | F4: Wilks | G4: Otley CC | H4: U14 | I4: 2
C5: 4 | D5: 40 | E5: Anna | F5: Kippen | G5: Leeds Mercury Cycling Club | H5: U14 | I5: 1
A7: 15 | B7: Fixed Wheel 6 Lap Block Handicap Group A-C | C7: 1 | D7: 74 | E7: George | F7: Radcliffe | G7: Otley CC | H7: U16 | J7: 5
C8: 2 | D8: 16 | E8: Jake | F8: Field | G8: Bramley Wheelers | H8: V3 | J8: 3
C9: 3 | D9: 76 | E9: Esben | F9: Rost | G9: Leeds Mercury CC | H9: U16 | J9: 2
C10: 4 | D10: 13 | E10: Thomas | F10: Goodall | G10: Knottingley Velo | H10: U23 | J10: 1
C11: 5 | D11: 77 | E11: Ryan | F11: Thomas | G11: East Bradford Race Team | H11: U14
C12: 6 | D12: 1 | E12: Harry | F12: Hunt | G12: Otley CC | H12: 3U23
C13: 7 | D13: 19 | E13: Alex | F13: Foley | G13: Leeds Mercury | H13: U23
C14: 8 | D14: 4 | E14: Nicholas | F14: Islip | G14: West Riding Track League | H14: V4
C15: 9 | D15: 72 | E15: James | F15: Luxton | G15: Otley CC | H15: U14
C16: 10 | D16: 5 | E16: Anthony | F16: Jones | G16: Knottingley Velo | H16: V3
C17: 11 | D17: 8 | E17: Chris | F17: Radcliffe | G17: Otley CC | H17: V
C18: 12 | D18: 11 | E18: Michael | F18: Tyas | G18: Hull Thursday RC | H18: Sen
C19: 13 | D19: 12 | E19: Martin | F19: Watson | G19: Knottingley Velo | H19: V
A21: 22 | B21: Fixed Wheel Women & Girls 1 Lap Sprint | C21: 1 | D21: 41 | E21: Emily | F21: Middlebrooke | G21: Otley CC | H21: U14 | I21: 4
C22: 2 | D22: 46 | E22: Poppy | F22: Peacock | G22: Otley CC | H22: U14 | I22: 3
C23: 3 | D23: 40 | E23: Anna | F23: Kippen | G23: Leeds Mercury Cycling Club | H23: U14 | I23: 2
C24: 4 | D24: 42 | E24: Isobel | F24: Wilks | G24: Otley CC | H24: U14 | I24: 1
A26: 23 | B26: Fixed Wheel 1 lap Sprint Heat 1 | C26: 1 | D26: 77 | E26: Ryan | F26: Thomas | G26: East Bradford Race Team | H26: U14
C27: 2 | D27: 1 | E27: Harry | F27: Hunt | G27: Otley CC | H27: 3U23
C28: 3 | D28: 4 | E28: Nicholas | F28: Islip | G28: West Riding Track League | H28: V4
C29: 4 | D29: 8 | E29: Chris | F29: Radcliffe | G29: Otley CC | H29: V
C30: 5 | D30: 76 | E30: Esben | F30: Rost | G30: Leeds Mercury CC | H30: U16
B32: Fixed Wheel 1 lap Sprint Heat 2 | C32: 1 | D32: 16 | E32: Jake | F32: Field | G32: Bramley Wheelers | H32: V3
C33: 2 | D33: 19 | E33: Alex | F33: Foley | G33: Leeds Mercury | H33: U23
C34: 3 | D34: 11 | E34: Michael | F34: Tyas | G34: Hull Thursday RC | H34: Sen
C35: 4 | D35: 12 | E35: Martin | F35: Watson | G35: Knottingley Velo | H35: V
B37: Fixed Wheel 1 lap Sprint Heat 3 | C37: 1 | D37: 74 | E37: George | F37: Radcliffe | G37: Otley CC | H37: U16
C38: 2 | D38: 5 | E38: Anthony | F38: Jones | G38: Knottingley Velo | H38: V3
C39: 3 | D39: 13 | E39: Thomas | F39: Goodall | G39: Knottingley Velo | H39: U23
C40: 4 | D40: 72 | E40: James | F40: Luxton | G40: Otley CC | H40: U14
A42: 25 | B42: Fixed Wheel 1 lap Sprint Final | C42: 1 | D42: 1 | E42: Harry | F42: Hunt | G42: Otley CC | H42: 3U23 | I42: 4
C43: 2 | D43: 77 | E43: Ryan | F43: Thomas | G43: East Bradford Race Team | H43: U14 | I43: 3
C44: 3 | D44: 5 | E44: Anthony | F44: Jones | G44: Knottingley Velo | H44: V3 | I44: 2
C45: 4 | D45: 16 | E45: Jake | F45: Field | G45: Bramley Wheelers | H45: V3 | I45: 1
C46: 5 | D46: 74 | E46: George | F46: Radcliffe | G46: Otley CC | H46: U16
C47: 6 | D47: 19 | E47: Alex | F47: Foley | G47: Leeds Mercury | H47: U23
A49: 35 | B49: Fixed Wheel Unknown Distance All Riders | C49: 1 | D49: 74 | E49: George | F49: Radcliffe | G49: Otley CC | H49: U16 | I49: 4
C50: 2 | D50: 16 | E50: Jake | F50: Field | G50: Bramley Wheelers | H50: V3 | I50: 4
C51: 3 | D51: 77 | E51: Ryan | F51: Thomas | G51: East Bradford Race Team | H51: U14 | I51: 3
C52: 4 | D52: 19 | E52: Alex | F52: Foley | G52: Leeds Mercury | H52: U23 | I52: 3
C53: 5 | D53: 1 | E53: Harry | F53: Hunt | G53: Otley CC | H53: 3U23 | I53: 2
C54: 6 | D54: 11 | E54: Michael | F54: Tyas | G54: Hull Thursday RC | H54: Sen | I54: 1
C55: 7 | D55: 41 | E55: Emily | F55: Middlebrooke | G55: Otley CC | H55: U14 | I55: 4
C56: 8 | D56: 5 | E56: Anthony | F56: Jones | G56: Knottingley Velo | H56: V3
C57: 9 | D57: 8 | E57: Chris | F57: Radcliffe | G57: Otley CC | H57: V
C58: 10 | D58: 76 | E58: Esben | F58: Rost | G58: Leeds Mercury CC | H58: U16 | I58: 2
C59: 11 | D59: 46 | E59: Poppy | F59: Peacock | G59: Otley CC | H59: U14 | I59: 3
C60: 12 | D60: 12 | E60: Martin | F60: Watson | G60: Knottingley Velo | H60: V

Sheet Week 5 22nd July
A1: Race No. | B1: Event Name | C1: Position | D1: Rider No | E1: Name | F1: Surname | G1: Club | H1: Cat | I1: Points | J1: Handicap Points
A2: 14 | B2: Fixed Wheel Women & Girls 3 Lap Scratch | C2: 1 | D2: 51 | E2: Eleonor | F2: Hunt | G2: Otley CC | H2: U16 | I2: 4
C3: 2 | D3: 41 | E3: Emily | F3: Middlebrooke | G3: Otley CC | H3: U14 | I3: 3
C4: 3 | D4: 48 | E4: Anna | F4: Hobbs | G4: Valley Striders CC | H4: VW | I4: 2
C5: 4 | D5: 46 | E5: Poppy | F5: Peacock | G5: Otley CC | H5: U14 | I5: 1
C6: 5 | D6: 42 | E6: Isobel | F6: Wilks | G6: Otley CC | H6: U14
A8: 15 | B8: Fixed Wheel 6 Lap Block Handicap Group A-C | C8: 1 | D8: 71 | E8: Sam | F8: Hollis | G8: Albarosa Cycling Club | H8: U16 | J8: 5
C9: 2 | D9: 74 | E9: George | F9: Radcliffe | G9: Otley CC | H9: U16 | J9: 3
C10: 3 | D10: 13 | E10: Thomas | F10: Goodall | G10: Knottingley Velo | H10: U23 | J10: 2
C11: 4 | D11: 1 | E11: Harry | F11: Hunt | G11: Otley CC | H11: 3U23 | J11: 1
C12: 5 | D12: 8 | E12: Chris | F12: Radcliffe | G12: Otley CC | H12: V
C13: 6 | D13: 19 | E13: Alex | F13: Foley | G13: Leeds Mercury | H13: U23
C14: 7 | D14: 73 | E14: Thomas | F14: Miller | G14: Clifton CC | H14: U14
C15: 8 | D15: 16 | E15: Jake | F15: Field | G15: Bramley Wheelers | H15: V3
C16: 9 | D16: 76 | E16: Esben | F16: Rost | G16: Leeds Mercury CC | H16: U16
C17: 10 | D17: 72 | E17: James | F17: Luxton | G17: Otley CC | H17: U14
C18: 11 | D18: 12 | E18: Martin | F18: Watson | G18: Knottingley Velo | H18: V
C19: 12 | D19: 11 | E19: Michael | F19: Tyas | G19: Hull Thursday RC | H19: Sen
A21: 22 | B21: Fixed Wheel Women & Girls 1 Lap Sprint | C21: 1 | D21: 51 | E21: Eleonor | F21: Hunt | G21: Otley CC | H21: U16 | I21: 4
C22: 2 | D22: 41 | E22: Emily | F22: Middlebrooke | G22: Otley CC | H22: U14 | I22: 3
C23: 3 | D23: 46 | E23: Poppy | F23: Peacock | G23: Otley CC | H23: U14 | I23: 2
C24: 4 | D24: 48 | E24: Anna | F24: Hobbs | G24: Valley Striders CC | H24: VW | I24: 1
C25: 5 | D25: 42 | E25: Isobel | F25: Wilks | G25: Otley CC | H25: U14
A27: 23 | B27: Fixed Wheel 1 lap Sprint Heat 1 | C27: 1 | D27: 74 | E27: George | F27: Radcliffe | G27: Otley CC | H27: U16
C28: 2 | D28: 8 | E28: Chris | F28: Radcliffe | G28: Otley CC | H28: V
C29: 3 | D29: 1 | E29: Harry | F29: Hunt | G29: Otley CC | H29: 3U23
C30: 4 | D30: 73 | E30: Thomas | F30: Miller | G30: Clifton CC | H30: U14
C31: 5 | D31: 13 | E31: Thomas | F31: Goodall | G31: Knottingley Velo | H31: U23
C32: 6 | D32: 72 | E32: James | F32: Luxton | G32: Otley CC | H32: U14
B34: Fixed Wheel 1 lap Sprint Heat 2 | C34: 1 | D34: 16 | E34: Jake | F34: Field | G34: Bramley Wheelers | H34: V3
C35: 2 | D35: 71 | E35: Sam | F35: Hollis | G35: Albarosa Cycling Club | H35: U16
C36: 3 | D36: 19 | E36: Alex | F36: Foley | G36: Leeds Mercury | H36: U23
C37: 4 | D37: 11 | E37: Michael | F37: Tyas | G37: Hull Thursday RC | H37: Sen
C38: 5 | D38: 76 | E38: Esben | F38: Rost | G38: Leeds Mercury CC | H38: U16
C39: 6 | D39: 12 | E39: Martin | F39: Watson | G39: Knottingley Velo | H39: V
A41: 26 | B41: Fixed Wheel 1 lap Sprint Final | C41: 1 | D41: 1 | E41: Harry | F41: Hunt | G41: Otley CC | H41: 3U23 | I41: 4
C42: 2 | D42: 74 | E42: George | F42: Radcliffe | G42: Otley CC | H42: U16 | I42: 3
C43: 3 | D43: 16 | E43: Jake | F43: Field | G43: Bramley Wheelers | H43: V3 | I43: 2
C44: 4 | D44: 71 | E44: Sam | F44: Hollis | G44: Albarosa Cycling Club | H44: U16 | I44: 1
C45: 5 | D45: 19 | E45: Alex | F45: Foley | G45: Leeds Mercury | H45: U23
C46: 6 | D46: 8 | E46: Chris | F46: Radcliffe | G46: Otley CC | H46: V
A48: 30/31 | B48: Fixed Wheel Devil All Fixed Wheel | C48: 1 | D48: 74 | E48: George | F48: Radcliffe | G48: Otley CC | H48: U16 | I48: 4
C49: 2 | D49: 71 | E49: Sam | F49: Hollis | G49: Albarosa Cycling Club | H49: U16 | I49: 3
C50: 3 | D50: 19 | E50: Alex | F50: Foley | G50: Leeds Mercury | H50: U23 | I50: 4
C51: 4 | D51: 1 | E51: Harry | F51: Hunt | G51: Otley CC | H51: 3U23 | I51: 3
C52: 5 | D52: 16 | E52: Jake | F52: Field | G52: Bramley Wheelers | H52: V3 | I52: 2
C53: 6 | D53: 11 | E53: Michael | F53: Tyas | G53: Hull Thursday RC | H53: Sen | I53: 1
C54: 7 | D54: 73 | E54: Thomas | F54: Miller | G54: Clifton CC | H54: U14 | I54: 2
C55: 8 | D55: 46 | E55: Poppy | F55: Peacock | G55: Otley CC | H55: U14 | I55: 4
C56: 9 | D56: 41 | E56: Emily | F56: Middlebrooke | G56: Otley CC | H56: U14 | I56: 3
C57: 10 | D57: 13 | E57: Thomas | F57: Goodall | G57: Knottingley Velo | H57: U23
C58: 11 | D58: 8 | E58: Chris | F58: Radcliffe | G58: Otley CC | H58: V
C59: 12 | D59: 72 | E59: James | F59: Luxton | G59: Otley CC | H59: U14 | I59: 1
C60: 13 | D60: 76 | E60: Esben | F60: Rost | G60: Leeds Mercury CC | H60: U16
C61: 14 | D61: 48 | E61: Anna | F61: Hobbs | G61: Valley Striders CC | H61: VW | I61: 2
C62: 15 | D62: 12 | E62: Martin | F62: Watson | G62: Knottingley Velo | H62: V
C63: 16 | D63: 42 | E63: Isobel | F63: Wilks | G63: Otley CC | H63: U14 | I63: 1
A65: 32 | B65: Fixed Wheel 500m Men & Boys Handicap H1 | C65: 1 | D65: 8 | E65: Chris | F65: Radcliffe | G65: Otley CC | H65: V
C66: 2 | D66: 19 | E66: Alex | F66: Foley | G66: Leeds Mercury | H66: U23
C67: 3 | D67: 74 | E67: George | F67: Radcliffe | G67: Otley CC | H67: U16
C68: 4 | D68: 76 | E68: Esben | F68: Rost | G68: Leeds Mercury CC | H68: U16
C69: 5 | D69: 1 | E69: Harry | F69: Hunt | G69: Otley CC | H69: 3U23
B71: Fixed Wheel 500m Men & Boys Handicap H1 | C71: 1 | D71: 12 | E71: Martin | F71: Watson | G71: Knottingley Velo | H71: V
C72: 2 | D72: 11 | E72: Michael | F72: Tyas | G72: Hull Thursday RC | H72: Sen
C73: 3 | D73: 73 | E73: Thomas | F73: Miller | G73: Clifton CC | H73: U14
C74: 4 | D74: 71 | E74: Sam | F74: Hollis | G74: Albarosa Cycling Club | H74: U16
C75: 5 | D75: 13 | E75: Thomas | F75: Goodall | G75: Knottingley Velo | H75: U23
C76: 6 | D76: 72 | E76: James | F76: Luxton | G76: Otley CC | H76: U14
A78: 33 | B78: Fixed Wheel Women & Girls 1 500m Handicap | C78: 1 | D78: 48 | E78: Anna | F78: Hobbs | G78: Valley Striders CC | H78: VW | J78: 5
C79: 2 | D79: 51 | E79: Eleonor | F79: Hunt | G79: Otley CC | H79: U16 | J79: 3
C80: 3 | D80: 41 | E80: Emily | F80: Middlebrooke | G80: Otley CC | H80: U14 | J80: 2
C81: 4 | D81: 42 | E81: Isobel | F81: Wilks | G81: Otley CC | H81: U14 | J81: 1
C82: 5 | D82: 46 | E82: Poppy | F82: Peacock | G82: Otley CC | H82: U14
A84: 34 | B84: Fixed Wheel 500m Men & Boys Handicap Final | C84: 1 | D84: 12 | E84: Martin | F84: Watson | G84: Knottingley Velo | H84: V | J84: 5
C85: 2 | D85: 73 | E85: Thomas | F85: Miller | G85: Clifton CC | H85: U14 | J85: 3
C86: 3 | D86: 8 | E86: Chris | F86: Radcliffe | G86: Otley CC | H86: V | J86: 2
C87: 4 | D87: 11 | E87: Michael | F87: Tyas | G87: Hull Thursday RC | H87: Sen | J87: 1
C88: 5 | D88: 74 | E88: George | F88: Radcliffe | G88: Otley CC | H88: U16
C89: 6 | D89: 19 | E89: Alex | F89: Foley | G89: Leeds Mercury | H89: U23
A91: 35 | B91: Fixed Wheel Unknown Distance All Riders | C91: 1 | D91: 1 | E91: Harry | F91: Hunt | G91: Otley CC | H91: 3U23 | I91: 4
C92: 2 | D92: 74 | E92: George | F92: Radcliffe | G92: Otley CC | H92: U16 | I92: 4
C93: 3 | D93: 71 | E93: Sam | F93: Hollis | G93: Albarosa Cycling Club | H93: U16 | I93: 3
C94: 4 | D94: 19 | E94: Alex | F94: Foley | G94: Leeds Mercury | H94: U23 | I94: 3
C95: 5 | D95: 13 | E95: Thomas | F95: Goodall | G95: Knottingley Velo | H95: U23 | I95: 2
C96: 6 | D96: 11 | E96: Michael | F96: Tyas | G96: Hull Thursday RC | H96: Sen | I96: 1
C97: 7 | D97: 76 | E97: Esben | F97: Rost | G97: Leeds Mercury CC | H97: U16 | I97: 2
C98: 8 | D98: 41 | E98: Emily | F98: Middlebrooke | G98: Otley CC | H98: U14 | I98: 4
C99: 9 | D99: 46 | E99: Poppy | F99: Peacock | G99: Otley CC | H99: U14 | I99: 3
C100: 10 | D100: 73 | E100: Thomas | F100: Miller | G100: Clifton CC | H100: U14 | I100: 1
C101: 11 | D101: 48 | E101: Anna | F101: Hobbs | G101: Valley Striders CC | H101: VW | I101: 2
C102: 12 | D102: 72 | E102: James | F102: Luxton | G102: Otley CC | H102: U14
C103: 13 | D103: 12 | E103: Martin | F103: Watson | G103: Knottingley Velo | H103: V
C104: 14 | D104: 8 | E104: Chris | F104: Radcliffe | G104: Otley CC | H104: V
C105: 15 | D105: 42 | E105: Isobel | F105: Wilks | G105: Otley CC | H105: U14 | I105: 1

Sheet Week 6 29th July
A1: Race No. | B1: Event Name | C1: Position | D1: Rider No | E1: Name | F1: Surname | G1: Club | H1: Cat | I1: Points | J1: Handicap Points
A2: 14 | B2: Fixed Wheel Women & Girls 3 Lap Scratch | C2: 1 | D2: 48 | E2: Anna | F2: Hobbs | G2: Valley Striders CC | H2: VW | I2: 4
C3: 2 | D3: 46 | E3: Poppy | F3: Peacock | G3: Otley CC | H3: U14 | I3: 3
C4: 3 | D4: 41 | E4: Emily | F4: Middlebrooke | G4: Otley CC | H4: U14 | I4: 2
C5: 4 | D5: 42 | E5: Isobel | F5: Wilks | G5: Otley CC | H5: U14 | I5: 1
C6: 5 | D6: 40 | E6: Anna | F6: Kippen | G6: Leeds Mercury Cycling Club | H6: U14
D7: 50 | E7: Helen | F7: Goldthorpe | G7: Otley CC | H7: VW
A9: 15 | B9: Fixed Wheel 6 Lap Block Handicap Group A-C | C9: 1 | D9: 74 | E9: George | F9: Radcliffe | G9: Otley CC | H9: U16 | J9: 5
C10: 2 | D10: 21 | E10: Daniell | F10: Jay-Webster | G10: ICC | H10: 3 | J10: 3
C11: 3 | D11: 19 | E11: Alex | F11: Foley | G11: Leeds Mercury | H11: U23 | J11: 2
C12: 4 | D12: 1 | E12: Harry | F12: Hunt | G12: Otley CC | H12: 3U23 | J12: 1
C13: 5 | D13: 13 | E13: Thomas | F13: Goodall | G13: Knottingley Velo | H13: U23
C14: 6 | D14: 5 | E14: Anthony | F14: Jones | G14: Knottingley Velo | H14: V3
C15: 7 | D15: 72 | E15: James | F15: Luxton | G15: Otley CC | H15: U14
C16: 8 | D16: 12 | E16: Martin | F16: Watson | G16: Knottingley Velo | H16: V
C17: 9
C18: 10
C19: 11
C20: 12
A22: 22 | B22: Fixed Wheel Women & Girls 1 Lap Sprint | C22: 1 | D22: 48 | E22: Anna | F22: Hobbs | G22: Valley Striders CC | H22: VW | I22: 4
C23: 2 | D23: 46 | E23: Poppy | F23: Peacock | G23: Otley CC | H23: U14 | I23: 3
C24: 3 | D24: 41 | E24: Emily | F24: Middlebrooke | G24: Otley CC | H24: U14 | I24: 2
C25: 4 | D25: 42 | E25: Isobel | F25: Wilks | G25: Otley CC | H25: U14 | I25: 1
C26: 5 | D26: 40 | E26: Anna | F26: Kippen | G26: Leeds Mercury Cycling Club | H26: U14
C27: 6 | D27: 50 | E27: Helen | F27: Goldthorpe | G27: Otley CC | H27: VW
A29: 23 | B29: Fixed Wheel 1 lap Sprint Heat 1 | C29: 1 | D29: 74 | E29: George | F29: Radcliffe | G29: Otley CC | H29: U16
C30: 2 | D30: 1 | E30: Harry | F30: Hunt | G30: Otley CC | H30: 3U23
C31: 3 | D31: 13 | E31: Thomas | F31: Goodall | G31: Knottingley Velo | H31: U23
C32: 4 | D32: 19 | E32: Alex | F32: Foley | G32: Leeds Mercury | H32: U23
C33: 5 | D33: 12 | E33: Martin | F33: Watson | G33: Knottingley Velo | H33: V
B35: Fixed Wheel 1 lap Sprint Heat 2 | C35: 1 | D35: 21 | E35: Daniell | F35: Jay-Webster | G35: ICC | H35: 3
C36: 2 | D36: 16 | E36: Jake | F36: Field | G36: Bramley Wheelers | H36: V3
C37: 3 | D37: 5 | E37: Anthony | F37: Jones | G37: Knottingley Velo | H37: V3
C38: 4 | D38: 72 | E38: James | F38: Luxton | G38: Otley CC | H38: U14
A40: 26 | B40: Fixed Wheel 1 lap Sprint Final | C40: 1 | D40: 1 | E40: Harry | F40: Hunt | G40: Otley CC | H40: 3U23 | I40: 4
C41: 2 | D41: 74 | E41: George | F41: Radcliffe | G41: Otley CC | H41: U16 | I41: 3
C42: 3 | D42: 21 | E42: Daniell | F42: Jay-Webster | G42: ICC | H42: 3 | I42: 2
C43: 4 | D43: 16 | E43: Jake | F43: Field | G43: Bramley Wheelers | H43: V3 | I43: 1
C44: 5 | D44: 5 | E44: Anthony | F44: Jones | G44: Knottingley Velo | H44: V3
C45: 6 | D45: 13 | E45: Thomas | F45: Goodall | G45: Knottingley Velo | H45: U23
A47: 27 | B47: Fixed Wheel Women & Girls 500m Handicap | C47: 1 | D47: 42 | E47: Isobel | F47: Wilks | G47: Otley CC | H47: U14 | J47: 5
C48: 2 | D48: 46 | E48: Poppy | F48: Peacock | G48: Otley CC | H48: U14 | J48: 3
C49: 3 | D49: 48 | E49: Anna | F49: Hobbs | G49: Valley Striders CC | H49: VW | J49: 2
C50: 4 | D50: 40 | E50: Anna | F50: Kippen | G50: Leeds Mercury Cycling Club | H50: U14 | J50: 1
C51: 5 | D51: 41 | E51: Emily | F51: Middlebrooke | G51: Otley CC | H51: U14
C52: 6 | D52: 50 | E52: Helen | F52: Goldthorpe | G52: Otley CC | H52: VW
A54: 30 | B54: Fixed Wheel Devil Men & Boys | C54: 1 | D54: 74 | E54: George | F54: Radcliffe | G54: Otley CC | H54: U16 | I54: 4
C55: 2 | D55: 19 | E55: Alex | F55: Foley | G55: Leeds Mercury | H55: U23 | I55: 3
C56: 3 | D56: 21 | E56: Daniell | F56: Jay-Webster | G56: ICC | H56: 3 | I56: 2
C57: 4 | D57: 1 | E57: Harry | F57: Hunt | G57: Otley CC | H57: 3U23 | I57: 1
C58: 5 | D58: 5 | E58: Anthony | F58: Jones | G58: Knottingley Velo | H58: V3
C59: 6 | D59: 72 | E59: James | F59: Luxton | G59: Otley CC | H59: U14
C60: 7 | D60: 13 | E60: Thomas | F60: Goodall | G60: Knottingley Velo | H60: U23
C61: 8 | D61: v | E61: Jake | F61: Field | G61: Bramley Wheelers | H61: V3
C62: 9 | D62: 12 | E62: Martin | F62: Watson | G62: Knottingley Velo | H62: V
A64: 31 | B64: Fixed Wheel Devil Women & Girls | C64: 1 | D64: 46 | E64: Poppy | F64: Peacock | G64: Otley CC | H64: U14 | I64: 4
C65: 2 | D65: 41 | E65: Emily | F65: Middlebrooke | G65: Otley CC | H65: U14 | I65: 3
C66: 3 | D66: 48 | E66: Anna | F66: Hobbs | G66: Valley Striders CC | H66: VW | I66: 2
C67: 4 | D67: 40 | E67: Anna | F67: Kippen | G67: Leeds Mercury Cycling Club | H67: U14 | I67: 1
C68: 5 | D68: 42 | E68: Isobel | F68: Wilks | G68: Otley CC | H68: U14
C69: 6 | D69: 50 | E69: Helen | F69: Goldthorpe | G69: Otley CC | H69: VW
A71: 32 | B71: Fixed Wheel 500m Men & Boys Handicap | C71: 1 | D71: 1 | E71: Harry | F71: Hunt | G71: Otley CC | H71: 3U23 | J71: 5
C72: 2 | D72: 19 | E72: Alex | F72: Foley | G72: Leeds Mercury | H72: U23 | J72: 3
C73: 3 | D73: 5 | E73: Anthony | F73: Jones | G73: Knottingley Velo | H73: V3 | J73: 2
C74: 4 | D74: 12 | E74: Martin | F74: Watson | G74: Knottingley Velo | H74: V | J74: 1
C75: 5 | D75: 21 | E75: Daniell | F75: Jay-Webster | G75: ICC | H75: 3
A77: 33 | B77: Fixed Wheel Women & Girls 500m Handicap | C77: 1 | D77: 42 | E77: Isobel | F77: Wilks | G77: Otley CC | H77: U14 | J77: 5
C78: 2 | D78: 46 | E78: Poppy | F78: Peacock | G78: Otley CC | H78: U14 | J78: 3
C79: 3 | D79: 48 | E79: Anna | F79: Hobbs | G79: Valley Striders CC | H79: VW | J79: 2
C80: 4 | D80: 41 | E80: Emily | F80: Middlebrooke | G80: Otley CC | H80: U14 | J80: 1
C81: 5 | D81: 50 | E81: Helen | F81: Goldthorpe | G81: Otley CC | H81: VW
C82: 6 | D82: 40 | E82: Anna | F82: Kippen | G82: Leeds Mercury Cycling Club | H82: U14
A84: 35 | B84: Fixed Wheel Unknown Distance All Riders | C84: 1 | D84: 74 | E84: George | F84: Radcliffe | G84: Otley CC | H84: U16 | I84: 4
C85: 2 | D85: 19 | E85: Alex | F85: Foley | G85: Leeds Mercury | H85: U23 | I85: 4
C86: 3 | D86: 21 | E86: Daniell | F86: Jay-Webster | G86: ICC | H86: 3 | I86: 3
C87: 4 | D87: 5 | E87: Anthony | F87: Jones | G87: Knottingley Velo | H87: V3 | I87: 2
C88: 5 | D88: 1 | E88: Harry | F88: Hunt | G88: Otley CC | H88: 3U23 | I88: 1
C89: 6 | D89: 13 | E89: Thomas | F89: Goodall | G89: Knottingley Velo | H89: U23
C90: 7 | D90: 41 | E90: Emily | F90: Middlebrooke | G90: Otley CC | H90: U14 | I90: 4
C91: 8 | D91: 72 | E91: James | F91: Luxton | G91: Otley CC | H91: U14 | I91: 3
C92: 9 | D92: 50 | E92: Helen | F92: Goldthorpe | G92: Otley CC | H92: VW | I92: 3
C93: 10 | D93: 46 | E93: Poppy | F93: Peacock | G93: Otley CC | H93: U14 | I93: 2
C94: 11 | D94: 42 | E94: Isobel | F94: Wilks | G94: Otley CC | H94: U14 | I94: 1
C95: 12 | D95: 12 | E95: Martin | F95: Watson | G95: Knottingley Velo | H95: V

Sheet Standings after 6 Weeks
A1: Rider Details | G1: Scratch Race Points | P1: Handicap Race Points
A2: No. | B2: Forename | C2: Name | D2: Club/Team Name | E2: Cat. | G2: Week 1 | H2: Week 2 | I2: Week 3 | J2: Week 4 | K2: Week 5 | L2: Week 6 | M2: Week 7 | N2: Total Points | P2: Week 1 | Q2: Week 2 | R2: Week 3 | S2: Week 4 | T2: Week 5 | U2: Week 6 | V2: Week 7 | W2: Total Points
A3: SENIOR
A4: 17 | B4: Matt | C4: Rotherham | E4: 3 | G4: 11 | H4: 4 | I4: 8 | J4: 0 | K4: 0 | L4: 0 | N4: =SUM(G4:M4) -> 23 | P4: 5 | Q4: 10 | R4: 0 | S4: 0 | T4: 0 | U4: 0 | W4: =SUM(P4:V4) -> 15
A5: 8 | B5: Chris | C5: Radcliffe | D5: Otley CC | E5: V | G5: 2 | H5: 1 | I5: 3 | J5: 0 | K5: 0 | L5: 0 | N5: =SUM(G5:M5) -> 6 | P5: 0 | Q5: 2 | R5: 6 | S5: 0 | T5: 2 | U5: 0 | W5: =SUM(P5:V5) -> 10
A6: 1 | B6: Harry | C6: Hunt | D6: Otley CC | E6: 3U23 | G6: 11 | H6: 8 | I6: 5 | J6: 6 | K6: 11 | L6: 6 | N6: =SUM(G6:M6) -> 47 | P6: 2 | Q6: 0 | R6: 0 | S6: 0 | T6: 1 | U6: 6 | W6: =SUM(P6:V6) -> 9
A7: 16 | B7: Jake | C7: Field | D7: Bramley Wheelers | E7: V3 | G7: 1 | H7: 0 | I7: 3 | J7: 5 | K7: 4 | L7: 1 | N7: =SUM(G7:M7) -> 14 | P7: 0 | Q7: 2 | R7: 4 | S7: 3 | T7: 0 | U7: 0 | W7: =SUM(P7:V7) -> 9
A8: 11 | B8: Michael | C8: Tyas | D8: Hull Thursday RC | E8: Sen | G8: 3 | H8: 2 | I8: 0 | J8: 1 | K8: 2 | L8: 0 | N8: =SUM(G8:M8) -> 8 | P8: 0 | Q8: 0 | R8: 6 | S8: 0 | T8: 1 | U8: 0 | W8: =SUM(P8:V8) -> 7
A9: 12 | B9: Martin | C9: Watson | D9: Knottingley Velo | E9: V | G9: 0 | H9: 0 | I9: 0 | J9: 0 | K9: 0 | L9: 0 | N9: =SUM(G9:M9) -> 0 | P9: 0 | Q9: 0 | R9: 0 | S9: 0 | T9: 5 | U9: 1 | W9: =SUM(P9:V9) -> 6
A10: 19 | B10: Alex | C10: Foley | D10: Leeds Mercury | E10: U23 | G10: 0 | H10: 8 | I10: 6 | J10: 3 | K10: 7 | L10: 7 | N10: =SUM(G10:M10) -> 31 | P10: 0 | Q10: 1 | R10: 0 | S10: 0 | T10: 0 | U10: 5 | W10: =SUM(P10:V10) -> 6
A11: 5 | B11: Anthony | C11: Jones | D11: Knottingley Velo | E11: V3 | G11: 2 | H11: 1 | I11: 3 | J11: 2 | K11: 0 | L11: 2 | N11: =SUM(G11:M11) -> 10 | P11: 1 | Q11: 1 | R11: 1 | S11: 0 | T11: 0 | U11: 2 | W11: =SUM(P11:V11) -> 5
A12: 13 | B12: Thomas | C12: Goodall | D12: Knottingley Velo | E12: U23 | G12: 0 | H12: 0 | I12: 0 | J12: 0 | K12: 2 | L12: 0 | N12: =SUM(G12:M12) -> 2 | P12: 0 | Q12: 0 | R12: 2 | S12: 1 | T12: 2 | U12: 0 | W12: =SUM(P12:V12) -> 5
A13: 21 | B13: Daniell | C13: Jay-Webster | D13: ICC | E13: 3 | G13: 0 | H13: 0 | I13: 0 | J13: 0 | K13: 0 | L13: 7 | N13: =SUM(G13:M13) -> 7 | P13: 0 | Q13: 0 | R13: 0 | S13: 0 | T13: 0 | U13: 3 | W13: =SUM(P13:V13) -> 3
A14: 2 | B14: Jonathan | C14: Hunt | D14: Otley CC | E14: V | G14: 0 | H14: 0 | I14: 0 | J14: 0 | K14: 0 | L14: 0 | N14: =SUM(G14:M14) -> 0 | P14: 0 | Q14: 0 | R14: 0 | S14: 0 | T14: 0 | U14: 0 | W14: =SUM(P14:V14) -> 0
A15: 4 | B15: Nicholas | C15: Islip | D15: West Riding Track League | E15: V4 | G15: 0 | H15: 0 | I15: 0 | J15: 0 | K15: 0 | L15: 0 | N15: =SUM(G15:M15) -> 0 | P15: 0 | Q15: 0 | R15: 0 | S15: 0 | T15: 0 | U15: 0 | W15: =SUM(P15:V15) -> 0
A16: 6 | B16: Anthony | C16: Kitching | D16: East Bradford CC | E16: V | G16: 3 | H16: 1 | I16: 0 | J16: 0 | K16: 0 | L16: 0 | N16: =SUM(G16:M16) -> 4 | P16: 0 | Q16: 0 | R16: 0 | S16: 0 | T16: 0 | U16: 0 | W16: =SUM(P16:V16) -> 0
A17: 7 | B17: Nigel | C17: Middlehurst | D17: Ellmore Factory Racing | E17: V4 | G17: 0 | H17: 0 | I17: 0 | J17: 0 | K17: 0 | L17: 0 | N17: =SUM(G17:M17) -> 0 | P17: 0 | Q17: 0 | R17: 0 | S17: 0 | T17: 0 | U17: 0 | W17: =SUM(P17:V17) -> 0
A18: 10 | B18: Darren | C18: Stringer | D18: Kirklees Cycling Academy | E18: V3 | G18: 0 | H18: 0 | I18: 0 | J18: 0 | K18: 0 | L18: 0 | N18: =SUM(G18:M18) -> 0 | P18: 0 | Q18: 0 | R18: 0 | S18: 0 | T18: 0 | U18: 0 | W18: =SUM(P18:V18) -> 0
A19: 14 | B19: Sean | C19: Jackson | D19: Seacroft Wheelers | E19: V4 | G19: 0 | H19: 0 | I19: 0 | J19: 0 | K19: 0 | L19: 0 | N19: =SUM(G19:M19) -> 0 | P19: 0 | Q19: 0 | R19: 0 | S19: 0 | T19: 0 | U19: 0 | W19: =SUM(P19:V19) -> 0
A20: 15 | B20: Nick | C20: Islip | E20: V4 | G20: 0 | H20: 0 | I20: 0 | J20: 0 | K20: 0 | L20: 0 | N20: =SUM(G20:M20) -> 0 | P20: 0 | Q20: 0 | R20: 0 | S20: 0 | T20: 0 | U20: 0 | W20: =SUM(P20:V20) -> 0
A21: 18 | B21: Yousef | C21: Habeeb | D21: Bramley Wheelers | E21: J | G21: 0 | H21: 0 | I21: 0 | J21: 0 | K21: 0 | L21: 0 | N21: =SUM(G21:M21) -> 0 | P21: 0 | Q21: 0 | R21: 0 | S21: 0 | T21: 0 | U21: 0 | W21: =SUM(P21:V21) -> 0
A22: 20 | B22: Russell | C22: Brown | D22: VSCC | E22: V40 | G22: 0 | H22: 2 | I22: 0 | J22: 0 | K22: 0 | L22: 0 | N22: =SUM(G22:M22) -> 2 | P22: 0 | Q22: 0 | R22: 0 | S22: 0 | T22: 0 | U22: 0 | W22: =SUM(P22:V22) -> 0
A23: YOUTH MALE | U23: 0
A24: 74 | B24: George | C24: Radcliffe | D24: Otley CC | E24: U16 | G24: 15 | H24: 11 | I24: 10 | J24: 4 | K24: 11 | L24: 11 | N24: =SUM(G24:M24) -> 62 | P24: 3 | Q24: 3 | R24: 3 | S24: 5 | T24: 3 | U24: 5 | W24: =SUM(P24:V24) -> 22
A25: 73 | B25: Thomas | C25: Miller | D25: Clifton CC | E25: U14 | G25: 5 | H25: 4 | I25: 2 | J25: 0 | K25: 3 | L25: 0 | N25: =SUM(G25:M25) -> 14 | P25: 0 | Q25: 3 | R25: 6 | S25: 0 | T25: 3 | U25: 0 | W25: =SUM(P25:V25) -> 12
A26: 71 | B26: Sam | C26: Hollis | D26: Albarosa Cycling Club | E26: U16 | G26: 0 | H26: 0 | I26: 0 | J26: 0 | K26: 7 | L26: 0 | N26: =SUM(G26:M26) -> 7 | P26: 0 | Q26: 0 | R26: 0 | S26: 0 | T26: 5 | U26: 0 | W26: =SUM(P26:V26) -> 5
A27: 76 | B27: Esben | C27: Rost | D27: Leeds Mercury CC | E27: U16 | G27: 3 | H27: 0 | I27: 0 | J27: 2 | K27: 2 | L27: 0 | N27: =SUM(G27:M27) -> 7 | P27: 0 | Q27: 0 | R27: 0 | S27: 2 | T27: 0 | U27: 0 | W27: =SUM(P27:V27) -> 2
A28: 77 | B28: Ryan | C28: Thomas | D28: East Bradford Race Team | E28: U14 | G28: 0 | H28: 6 | I28: 6 | J28: 6 | K28: 0 | L28: 0 | N28: =SUM(G28:M28) -> 18 | P28: 0 | Q28: 0 | R28: 2 | S28: 0 | T28: 0 | U28: 0 | W28: =SUM(P28:V28) -> 2
A29: 72 | B29: James | C29: Luxton | D29: Otley CC | E29: U14 | G29: 1 | H29: 1 | I29: 1 | J29: 0 | K29: 1 | L29: 3 | N29: =SUM(G29:M29) -> 7 | P29: 0 | Q29: 0 | R29: 1 | S29: 0 | T29: 0 | U29: 0 | W29: =SUM(P29:V29) -> 1
A30: 70 | B30: Archie | C30: Fletcher | D30: Sportcity Velo | E30: U14 | G30: 0 | H30: 0 | I30: 0 | J30: 0 | K30: 0 | L30: 0 | N30: =SUM(G30:M30) -> 0 | P30: 0 | Q30: 0 | R30: 0 | S30: 0 | T30: 0 | U30: 0 | W30: =SUM(P30:V30) -> 0
A31: WOMEN & GIRLS | U31: 0
A32: 41 | B32: Emily | C32: Middlebrooke | D32: Otley CC | E32: U14 | G32: 8 | H32: 12 | I32: 13 | J32: 11 | K32: 13 | L32: 11 | N32: =SUM(G32:M32) -> 68 | P32: 0 | Q32: 6 | R32: 6 | S32: 0 | T32: 2 | U32: 1 | W32: =SUM(P32:V32) -> 15
A33: 43 | B33: Ellie | C33: Horrocks | D33: East Bradford CC | E33: U16 | G33: 10 | H33: 12 | I33: 0 | J33: 0 | K33: 0 | L33: 0 | N33: =SUM(G33:M33) -> 22 | P33: 0 | Q33: 7 | R33: 1 | S33: 0 | T33: 0 | U33: 6 | W33: =SUM(P33:V33) -> 14
A34: 42 | B34: Isobel | C34: Wilks | D34: Otley CC | E34: U14 | G34: 7 | H34: 0 | I34: 10 | J34: 3 | K34: 2 | L34: 3 | N34: =SUM(G34:M34) -> 25 | P34: 0 | Q34: 0 | R34: 2 | S34: 0 | T34: 1 | U34: 10 | W34: =SUM(P34:V34) -> 13
A35: 40 | B35: Anna | C35: Kippen | D35: Leeds Mercury Cycling Club | E35: U14 | G35: 1 | H35: 5 | I35: 3 | J35: 3 | K35: 0 | L35: 1 | N35: =SUM(G35:M35) -> 13 | P35: 0 | Q35: 1 | R35: 10 | S35: 0 | T35: 0 | U35: 1 | W35: =SUM(P35:V35) -> 12
A36: 47 | B36: Elora | C36: Foley | D36: Leeds Mercury Cycling Club | E36: U16 | G36: 0 | H36: 0 | I36: 0 | J36: 0 | K36: 0 | L36: 0 | N36: =SUM(G36:M36) -> 0 | P36: 0 | Q36: 0 | R36: 0 | S36: 0 | T36: 5 | U36: 4 | W36: =SUM(P36:V36) -> 9
A37: 49 | B37: Evie | C37: Carrington-Hobson | D37: Leeds Mercury Cycling Club | E37: U14 | G37: 1 | H37: 0 | I37: 0 | J37: 0 | K37: 0 | L37: 0 | N37: =SUM(G37:M37) -> 1 | P37: 0 | Q37: 7 | R37: 0 | S37: 0 | T37: 0 | U37: 0 | W37: =SUM(P37:V37) -> 7
A38: 50 | B38: Helen | C38: Goldthorpe | D38: Otley CC | E38: VW | G38: 0 | H38: 2 | I38: 1 | J38: 0 | K38: 0 | L38: 3 | N38: =SUM(G38:M38) -> 6 | P38: 0 | Q38: 1 | R38: 3 | S38: 0 | T38: 0 | U38: 0 | W38: =SUM(P38:V38) -> 4
A39: 51 | B39: Eleonor | C39: Hunt | D39: Otley CC | E39: U16 | G39: 0 | H39: 0 | I39: 0 | J39: 0 | K39: 8 | L39: 0 | N39: =SUM(G39:M39) -> 8 | P39: 0 | Q39: 0 | R39: 0 | S39: 0 | T39: 3 | U39: 0 | W39: =SUM(P39:V39) -> 3
A40: 46 | B40: Poppy | C40: Peacock | D40: Otley CC | E40: U14 | G40: 13 | H40: 8 | I40: 12 | J40: 10 | K40: 10 | L40: 12 | N40: =SUM(G40:M40) -> 65 | P40: 0 | Q40: 0 | R40: 0 | S40: 0 | T40: 0 | U40: 0 | W40: =SUM(P40:V40) -> 0
A41: 48 | B41: Anna | C41: Hobbs | D41: Valley Striders CC | E41: VW | G41: 0 | H41: 0 | I41: 0 | J41: 0 | K41: 7 | L41: 10 | N41: =SUM(G41:M41) -> 17 | P41: 0 | Q41: 0 | R41: 0 | S41: 0 | T41: 0 | U41: 0 | W41: =SUM(P41:V41) -> 0
