Workbook

Sheet Rider List
A1: Rider Details | M1: Scratch Race Points | V1: Handicap Race Points
A2: No. | B2: Forename | C2: Name | D2: M/F | E2: Club/Team Name | F2: Cat. | G2: B/G | H2: Group | I2: BC Licence No. | J2: H/Cap | K2: TT Time | M2: Week 1 | N2: Week 2 | O2: Week 3 | P2: Week 4 | Q2: Week 5 | R2: Week 6 | S2: Week 7 | T2: Total Points | V2: Week 1 | W2: Week 2 | X2: Week 3 | Y2: Week 4 | Z2: Week 5 | AA2: Week 6 | AB2: Week 7 | AC2: Total Points
A3: 1 | B3: Ruairdh | C3: Aylward | D3: M | E3: Otley CC | F3: U12 | G3: B | H3: 2B | I3: 982261 | J3: 80 | K3: 24.3 | M3: =SUMIFS('Week 1 13th May'!I$2:I$150,'Week 1 13th May'!D$2:D$150,'Rider List'!A3) -> 0 | N3: =SUMIFS('Week 2 20th May'!I$2:I$150,'Week 2 20th May'!D$2:D$150,'Rider List'!A3) -> 18 | O3: =SUMIFS('Week 3 3rd June'!I$2:I$200,'Week 3 3rd June'!D$2:D$200,'Rider List'!A3) -> 35 | P3: =SUMIFS('Week 4 8th July'!I$2:I$200,'Week 4 8th July'!D$2:D$200,'Rider List'!A3) -> 36 | Q3: =SUMIFS('Week 5 22nd July'!I$2:I$200,'Week 5 22nd July'!D$2:D$200,'Rider List'!A3) -> 0 | R3: =SUMIFS('Week 6 29th July'!I$2:I$200,'Week 6 29th July'!D$2:D$200,'Rider List'!A3) -> 0 | T3: =SUM(M3:S3) -> 89 | W3: =SUMIFS('Week 2 20th May'!J$2:J$150,'Week 2 20th May'!D$2:D$150,'Rider List'!A3) -> 0 | X3: =SUMIFS('Week 3 3rd June'!J$2:J$150,'Week 3 3rd June'!D$2:D$150,'Rider List'!A3) -> 2 | Y3: =SUMIFS('Week 4 8th July'!J$2:J$150,'Week 4 8th July'!D$2:D$150,'Rider List'!A3) -> 2 | Z3: =SUMIFS('Week 5 22nd July'!J$2:J$150,'Week 5 22nd July'!D$2:D$150,'Rider List'!A3) -> 0 | AA3: =SUMIFS('Week 6 29th July'!J$2:J$150,'Week 6 29th July'!D$2:D$150,'Rider List'!A3) -> 0 | AC3: =SUM(V3:AB3) -> 4 | AG3: Scratch Race Points
A4: 2 | B4: Isla | C4: Aylward | D4: F | E4: Otley CC | F4: U10 | G4: G | H4: 1G | I4: 1308717 | J4: 130 | K4: 27 | M4: =SUMIFS('Week 1 13th May'!I$2:I$150,'Week 1 13th May'!D$2:D$150,'Rider List'!A4) -> 36 | N4: =SUMIFS('Week 2 20th May'!I$2:I$150,'Week 2 20th May'!D$2:D$150,'Rider List'!A4) -> 65 | O4: =SUMIFS('Week 3 3rd June'!I$2:I$200,'Week 3 3rd June'!D$2:D$200,'Rider List'!A4) -> 82 | P4: =SUMIFS('Week 4 8th July'!I$2:I$200,'Week 4 8th July'!D$2:D$200,'Rider List'!A4) -> 87 | Q4: =SUMIFS('Week 5 22nd July'!I$2:I$200,'Week 5 22nd July'!D$2:D$200,'Rider List'!A4) -> 0 | R4: =SUMIFS('Week 6 29th July'!I$2:I$200,'Week 6 29th July'!D$2:D$200,'Rider List'!A4) -> 0 | T4: =SUM(M4:S4) -> 270 | W4: =SUMIFS('Week 2 20th May'!J$2:J$150,'Week 2 20th May'!D$2:D$150,'Rider List'!A4) -> 0 | X4: =SUMIFS('Week 3 3rd June'!J$2:J$150,'Week 3 3rd June'!D$2:D$150,'Rider List'!A4) -> 1 | Y4: =SUMIFS('Week 4 8th July'!J$2:J$150,'Week 4 8th July'!D$2:D$150,'Rider List'!A4) -> 1 | Z4: =SUMIFS('Week 5 22nd July'!J$2:J$150,'Week 5 22nd July'!D$2:D$150,'Rider List'!A4) -> 0 | AA4: =SUMIFS('Week 6 29th July'!J$2:J$150,'Week 6 29th July'!D$2:D$150,'Rider List'!A4) -> 0 | AC4: =SUM(V4:AB4) -> 2 | AH4: 1st | AI4: 2nd | AJ4: 3rd | AK4: 4th | AL4: 5th | AM4: 6th
A5: 3 | B5: Hannah | C5: Back | D5: F | E5: Leeds Mercury Cycling Club | F5: U12 | G5: G | H5: 1G | I5: 1462581 | J5: 120 | K5: 26.06 | M5: =SUMIFS('Week 1 13th May'!I$2:I$150,'Week 1 13th May'!D$2:D$150,'Rider List'!A5) -> 0 | N5: =SUMIFS('Week 2 20th May'!I$2:I$150,'Week 2 20th May'!D$2:D$150,'Rider List'!A5) -> 61 | O5: =SUMIFS('Week 3 3rd June'!I$2:I$200,'Week 3 3rd June'!D$2:D$200,'Rider List'!A5) -> 84 | P5: =SUMIFS('Week 4 8th July'!I$2:I$200,'Week 4 8th July'!D$2:D$200,'Rider List'!A5) -> 88 | Q5: =SUMIFS('Week 5 22nd July'!I$2:I$200,'Week 5 22nd July'!D$2:D$200,'Rider List'!A5) -> 0 | R5: =SUMIFS('Week 6 29th July'!I$2:I$200,'Week 6 29th July'!D$2:D$200,'Rider List'!A5) -> 0 | T5: =SUM(M5:S5) -> 233 | W5: =SUMIFS('Week 2 20th May'!J$2:J$150,'Week 2 20th May'!D$2:D$150,'Rider List'!A5) -> 0 | X5: =SUMIFS('Week 3 3rd June'!J$2:J$150,'Week 3 3rd June'!D$2:D$150,'Rider List'!A5) -> 0 | Y5: =SUMIFS('Week 4 8th July'!J$2:J$150,'Week 4 8th July'!D$2:D$150,'Rider List'!A5) -> 5 | Z5: =SUMIFS('Week 5 22nd July'!J$2:J$150,'Week 5 22nd July'!D$2:D$150,'Rider List'!A5) -> 0 | AA5: =SUMIFS('Week 6 29th July'!J$2:J$150,'Week 6 29th July'!D$2:D$150,'Rider List'!A5) -> 0 | AC5: =SUM(V5:AB5) -> 5 | AG5: Group 1 | AH5: 24 | AI5: 23 | AJ5: 22 | AK5: 21 | AL5: 20 | AM5: 19
A6: 4 | B6: Bertie | C6: Bell | D6: M | E6: Leeds Mercury Cycling Club | F6: U8 | G6: B | H6: 3B | I6: 1466770 | J6: 180 | K6: 33.77 | M6: =SUMIFS('Week 1 13th May'!I$2:I$150,'Week 1 13th May'!D$2:D$150,'Rider List'!A6) -> 18 | N6: =SUMIFS('Week 2 20th May'!I$2:I$150,'Week 2 20th May'!D$2:D$150,'Rider List'!A6) -> 19 | O6: =SUMIFS('Week 3 3rd June'!I$2:I$200,'Week 3 3rd June'!D$2:D$200,'Rider List'!A6) -> 7 | P6: =SUMIFS('Week 4 8th July'!I$2:I$200,'Week 4 8th July'!D$2:D$200,'Rider List'!A6) -> 18 | Q6: =SUMIFS('Week 5 22nd July'!I$2:I$200,'Week 5 22nd July'!D$2:D$200,'Rider List'!A6) -> 18 | R6: =SUMIFS('Week 6 29th July'!I$2:I$200,'Week 6 29th July'!D$2:D$200,'Rider List'!A6) -> 24 | T6: =SUM(M6:S6) -> 104 | W6: =SUMIFS('Week 2 20th May'!J$2:J$150,'Week 2 20th May'!D$2:D$150,'Rider List'!A6) -> 1 | X6: =SUMIFS('Week 3 3rd June'!J$2:J$150,'Week 3 3rd June'!D$2:D$150,'Rider List'!A6) -> 5 | Y6: =SUMIFS('Week 4 8th July'!J$2:J$150,'Week 4 8th July'!D$2:D$150,'Rider List'!A6) -> 3 | Z6: =SUMIFS('Week 5 22nd July'!J$2:J$150,'Week 5 22nd July'!D$2:D$150,'Rider List'!A6) -> 5 | AA6: =SUMIFS('Week 6 29th July'!J$2:J$150,'Week 6 29th July'!D$2:D$150,'Rider List'!A6) -> 5 | AC6: =SUM(V6:AB6) -> 19 | AG6: Group 2 | AH6: 18 | AI6: 17 | AJ6: 16 | AK6: 15 | AL6: 14 | AM6: 13
A7: 5 | B7: Florence | C7: Bell | D7: F | E7: West Riding Track League | F7: U8 | G7: G | H7: 2G | I7: 1466773 | J7: 170 | K7: 33.3 | M7: =SUMIFS('Week 1 13th May'!I$2:I$150,'Week 1 13th May'!D$2:D$150,'Rider List'!A7) -> 22 | N7: =SUMIFS('Week 2 20th May'!I$2:I$150,'Week 2 20th May'!D$2:D$150,'Rider List'!A7) -> 0 | O7: =SUMIFS('Week 3 3rd June'!I$2:I$200,'Week 3 3rd June'!D$2:D$200,'Rider List'!A7) -> 32 | P7: =SUMIFS('Week 4 8th July'!I$2:I$200,'Week 4 8th July'!D$2:D$200,'Rider List'!A7) -> 33 | Q7: =SUMIFS('Week 5 22nd July'!I$2:I$200,'Week 5 22nd July'!D$2:D$200,'Rider List'!A7) -> 0 | R7: =SUMIFS('Week 6 29th July'!I$2:I$200,'Week 6 29th July'!D$2:D$200,'Rider List'!A7) -> 34 | T7: =SUM(M7:S7) -> 121 | W7: =SUMIFS('Week 2 20th May'!J$2:J$150,'Week 2 20th May'!D$2:D$150,'Rider List'!A7) -> 1 | X7: =SUMIFS('Week 3 3rd June'!J$2:J$150,'Week 3 3rd June'!D$2:D$150,'Rider List'!A7) -> 1 | Y7: =SUMIFS('Week 4 8th July'!J$2:J$150,'Week 4 8th July'!D$2:D$150,'Rider List'!A7) -> 0 | Z7: =SUMIFS('Week 5 22nd July'!J$2:J$150,'Week 5 22nd July'!D$2:D$150,'Rider List'!A7) -> 0 | AA7: =SUMIFS('Week 6 29th July'!J$2:J$150,'Week 6 29th July'!D$2:D$150,'Rider List'!A7) -> 1 | AC7: =SUM(V7:AB7) -> 3 | AG7: Group 3 | AH7: 12 | AI7: 11 | AJ7: 10 | AK7: 9 | AL7: 8 | AM7: 7
A8: 6 | B8: Katherine | C8: Bucknell | D8: F | E8: Leeds Mercury Cycling Club | F8: U12 | G8: G | H8: 2G | I8: 1373520 | J8: 200 | K8: 37.57 | M8: =SUMIFS('Week 1 13th May'!I$2:I$150,'Week 1 13th May'!D$2:D$150,'Rider List'!A8) -> 69 | N8: =SUMIFS('Week 2 20th May'!I$2:I$150,'Week 2 20th May'!D$2:D$150,'Rider List'!A8) -> 68 | O8: =SUMIFS('Week 3 3rd June'!I$2:I$200,'Week 3 3rd June'!D$2:D$200,'Rider List'!A8) -> 92 | P8: =SUMIFS('Week 4 8th July'!I$2:I$200,'Week 4 8th July'!D$2:D$200,'Rider List'!A8) -> 96 | Q8: =SUMIFS('Week 5 22nd July'!I$2:I$200,'Week 5 22nd July'!D$2:D$200,'Rider List'!A8) -> 92 | R8: =SUMIFS('Week 6 29th July'!I$2:I$200,'Week 6 29th July'!D$2:D$200,'Rider List'!A8) -> 96 | T8: =SUM(M8:S8) -> 513 | W8: =SUMIFS('Week 2 20th May'!J$2:J$150,'Week 2 20th May'!D$2:D$150,'Rider List'!A8) -> 5 | X8: =SUMIFS('Week 3 3rd June'!J$2:J$150,'Week 3 3rd June'!D$2:D$150,'Rider List'!A8) -> 5 | Y8: =SUMIFS('Week 4 8th July'!J$2:J$150,'Week 4 8th July'!D$2:D$150,'Rider List'!A8) -> 3 | Z8: =SUMIFS('Week 5 22nd July'!J$2:J$150,'Week 5 22nd July'!D$2:D$150,'Rider List'!A8) -> 5 | AA8: =SUMIFS('Week 6 29th July'!J$2:J$150,'Week 6 29th July'!D$2:D$150,'Rider List'!A8) -> 3 | AC8: =SUM(V8:AB8) -> 21 | AG8: Group 4 | AH8: 6 | AI8: 5 | AJ8: 4 | AK8: 3 | AL8: 2 | AM8: 1
A9: 7 | B9: Ben | C9: Crowther | D9: M | E9: Leeds Mercury Cycling Club | F9: U10 | G9: B | H9: 4B | I9: 1252172 | J9: 220 | K9: 39.8 | M9: =SUMIFS('Week 1 13th May'!I$2:I$150,'Week 1 13th May'!D$2:D$150,'Rider List'!A9) -> 28 | N9: =SUMIFS('Week 2 20th May'!I$2:I$150,'Week 2 20th May'!D$2:D$150,'Rider List'!A9) -> 21 | O9: =SUMIFS('Week 3 3rd June'!I$2:I$200,'Week 3 3rd June'!D$2:D$200,'Rider List'!A9) -> 21 | P9: =SUMIFS('Week 4 8th July'!I$2:I$200,'Week 4 8th July'!D$2:D$200,'Rider List'!A9) -> 0 | Q9: =SUMIFS('Week 5 22nd July'!I$2:I$200,'Week 5 22nd July'!D$2:D$200,'Rider List'!A9) -> 11 | R9: =SUMIFS('Week 6 29th July'!I$2:I$200,'Week 6 29th July'!D$2:D$200,'Rider List'!A9) -> 0 | T9: =SUM(M9:S9) -> 81 | W9: =SUMIFS('Week 2 20th May'!J$2:J$150,'Week 2 20th May'!D$2:D$150,'Rider List'!A9) -> 0 | X9: =SUMIFS('Week 3 3rd June'!J$2:J$150,'Week 3 3rd June'!D$2:D$150,'Rider List'!A9) -> 1 | Y9: =SUMIFS('Week 4 8th July'!J$2:J$150,'Week 4 8th July'!D$2:D$150,'Rider List'!A9) -> 0 | Z9: =SUMIFS('Week 5 22nd July'!J$2:J$150,'Week 5 22nd July'!D$2:D$150,'Rider List'!A9) -> 2 | AA9: =SUMIFS('Week 6 29th July'!J$2:J$150,'Week 6 29th July'!D$2:D$150,'Rider List'!A9) -> 0 | AC9: =SUM(V9:AB9) -> 3
A10: 8 | B10: Vaughn | C10: Fitzgerald | D10: M | E10: Bronte Tykes Cycling Club | F10: U10 | G10: B | H10: 2B | I10: 1466646 | J10: 110 | K10: 27.98 | M10: =SUMIFS('Week 1 13th May'!I$2:I$150,'Week 1 13th May'!D$2:D$150,'Rider List'!A10) -> 30 | N10: =SUMIFS('Week 2 20th May'!I$2:I$150,'Week 2 20th May'!D$2:D$150,'Rider List'!A10) -> 15 | O10: =SUMIFS('Week 3 3rd June'!I$2:I$200,'Week 3 3rd June'!D$2:D$200,'Rider List'!A10) -> 0 | P10: =SUMIFS('Week 4 8th July'!I$2:I$200,'Week 4 8th July'!D$2:D$200,'Rider List'!A10) -> 0 | Q10: =SUMIFS('Week 5 22nd July'!I$2:I$200,'Week 5 22nd July'!D$2:D$200,'Rider List'!A10) -> 69 | R10: =SUMIFS('Week 6 29th July'!I$2:I$200,'Week 6 29th July'!D$2:D$200,'Rider List'!A10) -> 48 | T10: =SUM(M10:S10) -> 162 | W10: =SUMIFS('Week 2 20th May'!J$2:J$150,'Week 2 20th May'!D$2:D$150,'Rider List'!A10) -> 0 | X10: =SUMIFS('Week 3 3rd June'!J$2:J$150,'Week 3 3rd June'!D$2:D$150,'Rider List'!A10) -> 0 | Y10: =SUMIFS('Week 4 8th July'!J$2:J$150,'Week 4 8th July'!D$2:D$150,'Rider List'!A10) -> 0 | Z10: =SUMIFS('Week 5 22nd July'!J$2:J$150,'Week 5 22nd July'!D$2:D$150,'Rider List'!A10) -> 5 | AA10: =SUMIFS('Week 6 29th July'!J$2:J$150,'Week 6 29th July'!D$2:D$150,'Rider List'!A10) -> 5 | AC10: =SUM(V10:AB10) -> 10 | AG10: Handicap Race Points
A11: 9 | B11: Oscar | C11: Hall | D11: M | E11: Otley CC | F11: U12 | G11: B | H11: 1B | I11: 1308817 | J11: 50 | K11: 22.73 | M11: =SUMIFS('Week 1 13th May'!I$2:I$150,'Week 1 13th May'!D$2:D$150,'Rider List'!A11) -> 19 | N11: =SUMIFS('Week 2 20th May'!I$2:I$150,'Week 2 20th May'!D$2:D$150,'Rider List'!A11) -> 39 | O11: =SUMIFS('Week 3 3rd June'!I$2:I$200,'Week 3 3rd June'!D$2:D$200,'Rider List'!A11) -> 40 | P11: =SUMIFS('Week 4 8th July'!I$2:I$200,'Week 4 8th July'!D$2:D$200,'Rider List'!A11) -> 77 | Q11: =SUMIFS('Week 5 22nd July'!I$2:I$200,'Week 5 22nd July'!D$2:D$200,'Rider List'!A11) -> 0 | R11: =SUMIFS('Week 6 29th July'!I$2:I$200,'Week 6 29th July'!D$2:D$200,'Rider List'!A11) -> 85 | T11: =SUM(M11:S11) -> 260 | W11: =SUMIFS('Week 2 20th May'!J$2:J$150,'Week 2 20th May'!D$2:D$150,'Rider List'!A11) -> 0 | X11: =SUMIFS('Week 3 3rd June'!J$2:J$150,'Week 3 3rd June'!D$2:D$150,'Rider List'!A11) -> 2 | Y11: =SUMIFS('Week 4 8th July'!J$2:J$150,'Week 4 8th July'!D$2:D$150,'Rider List'!A11) -> 0 | Z11: =SUMIFS('Week 5 22nd July'!J$2:J$150,'Week 5 22nd July'!D$2:D$150,'Rider List'!A11) -> 0 | AA11: =SUMIFS('Week 6 29th July'!J$2:J$150,'Week 6 29th July'!D$2:D$150,'Rider List'!A11) -> 3 | AC11: =SUM(V11:AB11) -> 5 | AG11: 1st | AH11: 2nd | AI11: 3rd | AJ11: 4th
A12: 10 | B12: James | C12: Halls | D12: M | E12: West Riding Track League | F12: U8 | G12: B | I12: 1573984 | M12: =SUMIFS('Week 1 13th May'!I$2:I$150,'Week 1 13th May'!D$2:D$150,'Rider List'!A12) -> 0 | N12: =SUMIFS('Week 2 20th May'!I$2:I$150,'Week 2 20th May'!D$2:D$150,'Rider List'!A12) -> 0 | O12: =SUMIFS('Week 3 3rd June'!I$2:I$200,'Week 3 3rd June'!D$2:D$200,'Rider List'!A12) -> 0 | P12: =SUMIFS('Week 4 8th July'!I$2:I$200,'Week 4 8th July'!D$2:D$200,'Rider List'!A12) -> 0 | Q12: =SUMIFS('Week 5 22nd July'!I$2:I$200,'Week 5 22nd July'!D$2:D$200,'Rider List'!A12) -> 0 | R12: =SUMIFS('Week 6 29th July'!I$2:I$200,'Week 6 29th July'!D$2:D$200,'Rider List'!A12) -> 0 | T12: =SUM(M12:S12) -> 0 | W12: =SUMIFS('Week 2 20th May'!J$2:J$150,'Week 2 20th May'!D$2:D$150,'Rider List'!A12) -> 0 | X12: =SUMIFS('Week 3 3rd June'!J$2:J$150,'Week 3 3rd June'!D$2:D$150,'Rider List'!A12) -> 0 | Y12: =SUMIFS('Week 4 8th July'!J$2:J$150,'Week 4 8th July'!D$2:D$150,'Rider List'!A12) -> 0 | Z12: =SUMIFS('Week 5 22nd July'!J$2:J$150,'Week 5 22nd July'!D$2:D$150,'Rider List'!A12) -> 0 | AA12: =SUMIFS('Week 6 29th July'!J$2:J$150,'Week 6 29th July'!D$2:D$150,'Rider List'!A12) -> 0 | AC12: =SUM(V12:AB12) -> 0 | AG12: 5 | AH12: 3 | AI12: 2 | AJ12: 1
A13: 11 | B13: Thomas | C13: Hetherington | D13: M | E13: Leeds Mercury Cycling Club | F13: U8 | G13: B | H13: 3B | I13: 1472929 | J13: 150 | K13: 30.45 | M13: =SUMIFS('Week 1 13th May'!I$2:I$150,'Week 1 13th May'!D$2:D$150,'Rider List'!A13) -> 24 | N13: =SUMIFS('Week 2 20th May'!I$2:I$150,'Week 2 20th May'!D$2:D$150,'Rider List'!A13) -> 23 | O13: =SUMIFS('Week 3 3rd June'!I$2:I$200,'Week 3 3rd June'!D$2:D$200,'Rider List'!A13) -> 21 | P13: =SUMIFS('Week 4 8th July'!I$2:I$200,'Week 4 8th July'!D$2:D$200,'Rider List'!A13) -> 24 | Q13: =SUMIFS('Week 5 22nd July'!I$2:I$200,'Week 5 22nd July'!D$2:D$200,'Rider List'!A13) -> 21 | R13: =SUMIFS('Week 6 29th July'!I$2:I$200,'Week 6 29th July'!D$2:D$200,'Rider List'!A13) -> 43 | T13: =SUM(M13:S13) -> 156 | W13: =SUMIFS('Week 2 20th May'!J$2:J$150,'Week 2 20th May'!D$2:D$150,'Rider List'!A13) -> 0 | X13: =SUMIFS('Week 3 3rd June'!J$2:J$150,'Week 3 3rd June'!D$2:D$150,'Rider List'!A13) -> 0 | Y13: =SUMIFS('Week 4 8th July'!J$2:J$150,'Week 4 8th July'!D$2:D$150,'Rider List'!A13) -> 1 | Z13: =SUMIFS('Week 5 22nd July'!J$2:J$150,'Week 5 22nd July'!D$2:D$150,'Rider List'!A13) -> 3 | AA13: =SUMIFS('Week 6 29th July'!J$2:J$150,'Week 6 29th July'!D$2:D$150,'Rider List'!A13) -> 3 | AC13: =SUM(V13:AB13) -> 7
A14: 12 | B14: Dori | C14: Hindle | D14: F | E14: Shibden Cycling Club | F14: U8 | G14: G | H14: 2G | I14: 1266237 | J14: 280 | K14: 45.3 | M14: =SUMIFS('Week 1 13th May'!I$2:I$150,'Week 1 13th May'!D$2:D$150,'Rider List'!A14) -> 17 | N14: =SUMIFS('Week 2 20th May'!I$2:I$150,'Week 2 20th May'!D$2:D$150,'Rider List'!A14) -> 0 | O14: =SUMIFS('Week 3 3rd June'!I$2:I$200,'Week 3 3rd June'!D$2:D$200,'Rider List'!A14) -> 26 | P14: =SUMIFS('Week 4 8th July'!I$2:I$200,'Week 4 8th July'!D$2:D$200,'Rider List'!A14) -> 0 | Q14: =SUMIFS('Week 5 22nd July'!I$2:I$200,'Week 5 22nd July'!D$2:D$200,'Rider List'!A14) -> 0 | R14: =SUMIFS('Week 6 29th July'!I$2:I$200,'Week 6 29th July'!D$2:D$200,'Rider List'!A14) -> 0 | T14: =SUM(M14:S14) -> 43 | W14: =SUMIFS('Week 2 20th May'!J$2:J$150,'Week 2 20th May'!D$2:D$150,'Rider List'!A14) -> 0 | X14: =SUMIFS('Week 3 3rd June'!J$2:J$150,'Week 3 3rd June'!D$2:D$150,'Rider List'!A14) -> 0 | Y14: =SUMIFS('Week 4 8th July'!J$2:J$150,'Week 4 8th July'!D$2:D$150,'Rider List'!A14) -> 0 | Z14: =SUMIFS('Week 5 22nd July'!J$2:J$150,'Week 5 22nd July'!D$2:D$150,'Rider List'!A14) -> 0 | AA14: =SUMIFS('Week 6 29th July'!J$2:J$150,'Week 6 29th July'!D$2:D$150,'Rider List'!A14) -> 0 | AC14: =SUM(V14:AB14) -> 0
A15: 13 | B15: Ryden | C15: Hindle | D15: M | E15: Shibden Cycling Club | F15: U12 | G15: B | H15: 1B | I15: 1272326 | J15: 40 | K15: 21.51 | M15: =SUMIFS('Week 1 13th May'!I$2:I$150,'Week 1 13th May'!D$2:D$150,'Rider List'!A15) -> 46 | N15: =SUMIFS('Week 2 20th May'!I$2:I$150,'Week 2 20th May'!D$2:D$150,'Rider List'!A15) -> 0 | O15: =SUMIFS('Week 3 3rd June'!I$2:I$200,'Week 3 3rd June'!D$2:D$200,'Rider List'!A15) -> 64 | P15: =SUMIFS('Week 4 8th July'!I$2:I$200,'Week 4 8th July'!D$2:D$200,'Rider List'!A15) -> 0 | Q15: =SUMIFS('Week 5 22nd July'!I$2:I$200,'Week 5 22nd July'!D$2:D$200,'Rider List'!A15) -> 0 | R15: =SUMIFS('Week 6 29th July'!I$2:I$200,'Week 6 29th July'!D$2:D$200,'Rider List'!A15) -> 0 | T15: =SUM(M15:S15) -> 110 | W15: =SUMIFS('Week 2 20th May'!J$2:J$150,'Week 2 20th May'!D$2:D$150,'Rider List'!A15) -> 0 | X15: =SUMIFS('Week 3 3rd June'!J$2:J$150,'Week 3 3rd June'!D$2:D$150,'Rider List'!A15) -> 0 | Y15: =SUMIFS('Week 4 8th July'!J$2:J$150,'Week 4 8th July'!D$2:D$150,'Rider List'!A15) -> 0 | Z15: =SUMIFS('Week 5 22nd July'!J$2:J$150,'Week 5 22nd July'!D$2:D$150,'Rider List'!A15) -> 0 | AA15: =SUMIFS('Week 6 29th July'!J$2:J$150,'Week 6 29th July'!D$2:D$150,'Rider List'!A15) -> 0 | AC15: =SUM(V15:AB15) -> 0
A16: 14 | B16: Holly | C16: Hobbs | D16: F | E16: West Riding Track League | F16: U8 | G16: G | H16: 2G | I16: 1495061 | J16: 200 | K16: 36.69 | M16: =SUMIFS('Week 1 13th May'!I$2:I$150,'Week 1 13th May'!D$2:D$150,'Rider List'!A16) -> 20 | N16: =SUMIFS('Week 2 20th May'!I$2:I$150,'Week 2 20th May'!D$2:D$150,'Rider List'!A16) -> 34 | O16: =SUMIFS('Week 3 3rd June'!I$2:I$200,'Week 3 3rd June'!D$2:D$200,'Rider List'!A16) -> 30 | P16: =SUMIFS('Week 4 8th July'!I$2:I$200,'Week 4 8th July'!D$2:D$200,'Rider List'!A16) -> 30 | Q16: =SUMIFS('Week 5 22nd July'!I$2:I$200,'Week 5 22nd July'!D$2:D$200,'Rider List'!A16) -> 34 | R16: =SUMIFS('Week 6 29th July'!I$2:I$200,'Week 6 29th July'!D$2:D$200,'Rider List'!A16) -> 53 | T16: =SUM(M16:S16) -> 201 | W16: =SUMIFS('Week 2 20th May'!J$2:J$150,'Week 2 20th May'!D$2:D$150,'Rider List'!A16) -> 0 | X16: =SUMIFS('Week 3 3rd June'!J$2:J$150,'Week 3 3rd June'!D$2:D$150,'Rider List'!A16) -> 3 | Y16: =SUMIFS('Week 4 8th July'!J$2:J$150,'Week 4 8th July'!D$2:D$150,'Rider List'!A16) -> 5 | Z16: =SUMIFS('Week 5 22nd July'!J$2:J$150,'Week 5 22nd July'!D$2:D$150,'Rider List'!A16) -> 2 | AA16: =SUMIFS('Week 6 29th July'!J$2:J$150,'Week 6 29th July'!D$2:D$150,'Rider List'!A16) -> 3 | AC16: =SUM(V16:AB16) -> 13
A17: 15 | B17: Alex | C17: Hodgkins | D17: M | E17: Otley CC | F17: U12 | G17: B | H17: 1B | I17: 982258 | J17: 30 | K17: 20.97 | M17: =SUMIFS('Week 1 13th May'!I$2:I$150,'Week 1 13th May'!D$2:D$150,'Rider List'!A17) -> 0 | N17: =SUMIFS('Week 2 20th May'!I$2:I$150,'Week 2 20th May'!D$2:D$150,'Rider List'!A17) -> 64 | O17: =SUMIFS('Week 3 3rd June'!I$2:I$200,'Week 3 3rd June'!D$2:D$200,'Rider List'!A17) -> 89 | P17: =SUMIFS('Week 4 8th July'!I$2:I$200,'Week 4 8th July'!D$2:D$200,'Rider List'!A17) -> 85 | Q17: =SUMIFS('Week 5 22nd July'!I$2:I$200,'Week 5 22nd July'!D$2:D$200,'Rider List'!A17) -> 93 | R17: =SUMIFS('Week 6 29th July'!I$2:I$200,'Week 6 29th July'!D$2:D$200,'Rider List'!A17) -> 90 | T17: =SUM(M17:S17) -> 421 | W17: =SUMIFS('Week 2 20th May'!J$2:J$150,'Week 2 20th May'!D$2:D$150,'Rider List'!A17) -> 0 | X17: =SUMIFS('Week 3 3rd June'!J$2:J$150,'Week 3 3rd June'!D$2:D$150,'Rider List'!A17) -> 0 | Y17: =SUMIFS('Week 4 8th July'!J$2:J$150,'Week 4 8th July'!D$2:D$150,'Rider List'!A17) -> 2 | Z17: =SUMIFS('Week 5 22nd July'!J$2:J$150,'Week 5 22nd July'!D$2:D$150,'Rider List'!A17) -> 5 | AA17: =SUMIFS('Week 6 29th July'!J$2:J$150,'Week 6 29th July'!D$2:D$150,'Rider List'!A17) -> 1 | AC17: =SUM(V17:AB17) -> 8
A18: 16 | B18: Amy | C18: Hodgkins | D18: F | E18: Otley CC | F18: U10 | G18: G | H18: 1G | I18: 1247554 | J18: 150 | K18: 28.98 | M18: =SUMIFS('Week 1 13th May'!I$2:I$150,'Week 1 13th May'!D$2:D$150,'Rider List'!A18) -> 34 | N18: =SUMIFS('Week 2 20th May'!I$2:I$150,'Week 2 20th May'!D$2:D$150,'Rider List'!A18) -> 58 | O18: =SUMIFS('Week 3 3rd June'!I$2:I$200,'Week 3 3rd June'!D$2:D$200,'Rider List'!A18) -> 80 | P18: =SUMIFS('Week 4 8th July'!I$2:I$200,'Week 4 8th July'!D$2:D$200,'Rider List'!A18) -> 86 | Q18: =SUMIFS('Week 5 22nd July'!I$2:I$200,'Week 5 22nd July'!D$2:D$200,'Rider List'!A18) -> 64 | R18: =SUMIFS('Week 6 29th July'!I$2:I$200,'Week 6 29th July'!D$2:D$200,'Rider List'!A18) -> 92 | T18: =SUM(M18:S18) -> 414 | W18: =SUMIFS('Week 2 20th May'!J$2:J$150,'Week 2 20th May'!D$2:D$150,'Rider List'!A18) -> 0 | X18: =SUMIFS('Week 3 3rd June'!J$2:J$150,'Week 3 3rd June'!D$2:D$150,'Rider List'!A18) -> 2 | Y18: =SUMIFS('Week 4 8th July'!J$2:J$150,'Week 4 8th July'!D$2:D$150,'Rider List'!A18) -> 2 | Z18: =SUMIFS('Week 5 22nd July'!J$2:J$150,'Week 5 22nd July'!D$2:D$150,'Rider List'!A18) -> 2 | AA18: =SUMIFS('Week 6 29th July'!J$2:J$150,'Week 6 29th July'!D$2:D$150,'Rider List'!A18) -> 5 | AC18: =SUM(V18:AB18) -> 11
A19: 17 | B19: Theo | C19: Hutter | D19: M | E19: Leeds Mercury Cycling Club | F19: U12 | G19: B | H19: 2B | I19: 1139293 | J19: 80 | K19: 22.91 | M19: =SUMIFS('Week 1 13th May'!I$2:I$150,'Week 1 13th May'!D$2:D$150,'Rider List'!A19) -> 0 | N19: =SUMIFS('Week 2 20th May'!I$2:I$150,'Week 2 20th May'!D$2:D$150,'Rider List'!A19) -> 14 | O19: =SUMIFS('Week 3 3rd June'!I$2:I$200,'Week 3 3rd June'!D$2:D$200,'Rider List'!A19) -> 0 | P19: =SUMIFS('Week 4 8th July'!I$2:I$200,'Week 4 8th July'!D$2:D$200,'Rider List'!A19) -> 29 | Q19: =SUMIFS('Week 5 22nd July'!I$2:I$200,'Week 5 22nd July'!D$2:D$200,'Rider List'!A19) -> 33 | R19: =SUMIFS('Week 6 29th July'!I$2:I$200,'Week 6 29th July'!D$2:D$200,'Rider List'!A19) -> 47 | T19: =SUM(M19:S19) -> 123 | W19: =SUMIFS('Week 2 20th May'!J$2:J$150,'Week 2 20th May'!D$2:D$150,'Rider List'!A19) -> 0 | X19: =SUMIFS('Week 3 3rd June'!J$2:J$150,'Week 3 3rd June'!D$2:D$150,'Rider List'!A19) -> 0 | Y19: =SUMIFS('Week 4 8th July'!J$2:J$150,'Week 4 8th July'!D$2:D$150,'Rider List'!A19) -> 0 | Z19: =SUMIFS('Week 5 22nd July'!J$2:J$150,'Week 5 22nd July'!D$2:D$150,'Rider List'!A19) -> 1 | AA19: =SUMIFS('Week 6 29th July'!J$2:J$150,'Week 6 29th July'!D$2:D$150,'Rider List'!A19) -> 2 | AC19: =SUM(V19:AB19) -> 3
A20: 18 | B20: Billy | C20: Ladle | D20: M | E20: West Riding Track League | F20: U10 | G20: B | H20: 1B | I20: 1050681 | J20: 50 | K20: 22.78 | M20: =SUMIFS('Week 1 13th May'!I$2:I$150,'Week 1 13th May'!D$2:D$150,'Rider List'!A20) -> 42 | N20: =SUMIFS('Week 2 20th May'!I$2:I$150,'Week 2 20th May'!D$2:D$150,'Rider List'!A20) -> 65 | O20: =SUMIFS('Week 3 3rd June'!I$2:I$200,'Week 3 3rd June'!D$2:D$200,'Rider List'!A20) -> 86 | P20: =SUMIFS('Week 4 8th July'!I$2:I$200,'Week 4 8th July'!D$2:D$200,'Rider List'!A20) -> 86 | Q20: =SUMIFS('Week 5 22nd July'!I$2:I$200,'Week 5 22nd July'!D$2:D$200,'Rider List'!A20) -> 90 | R20: =SUMIFS('Week 6 29th July'!I$2:I$200,'Week 6 29th July'!D$2:D$200,'Rider List'!A20) -> 0 | T20: =SUM(M20:S20) -> 369 | W20: =SUMIFS('Week 2 20th May'!J$2:J$150,'Week 2 20th May'!D$2:D$150,'Rider List'!A20) -> 0 | X20: =SUMIFS('Week 3 3rd June'!J$2:J$150,'Week 3 3rd June'!D$2:D$150,'Rider List'!A20) -> 1 | Y20: =SUMIFS('Week 4 8th July'!J$2:J$150,'Week 4 8th July'!D$2:D$150,'Rider List'!A20) -> 0 | Z20: =SUMIFS('Week 5 22nd July'!J$2:J$150,'Week 5 22nd July'!D$2:D$150,'Rider List'!A20) -> 3 | AA20: =SUMIFS('Week 6 29th July'!J$2:J$150,'Week 6 29th July'!D$2:D$150,'Rider List'!A20) -> 0 | AC20: =SUM(V20:AB20) -> 4
A21: 19 | B21: Flynn | C21: Lambley | D21: M | E21: Huddersfield Star Wheelers | F21: U10 | G21: B | H21: 3B | I21: 1448572 | J21: 180 | K21: 33.36 | M21: =SUMIFS('Week 1 13th May'!I$2:I$150,'Week 1 13th May'!D$2:D$150,'Rider List'!A21) -> 26 | N21: =SUMIFS('Week 2 20th May'!I$2:I$150,'Week 2 20th May'!D$2:D$150,'Rider List'!A21) -> 16 | O21: =SUMIFS('Week 3 3rd June'!I$2:I$200,'Week 3 3rd June'!D$2:D$200,'Rider List'!A21) -> 15 | P21: =SUMIFS('Week 4 8th July'!I$2:I$200,'Week 4 8th July'!D$2:D$200,'Rider List'!A21) -> 22 | Q21: =SUMIFS('Week 5 22nd July'!I$2:I$200,'Week 5 22nd July'!D$2:D$200,'Rider List'!A21) -> 0 | R21: =SUMIFS('Week 6 29th July'!I$2:I$200,'Week 6 29th July'!D$2:D$200,'Rider List'!A21) -> 0 | T21: =SUM(M21:S21) -> 79 | W21: =SUMIFS('Week 2 20th May'!J$2:J$150,'Week 2 20th May'!D$2:D$150,'Rider List'!A21) -> 5 | X21: =SUMIFS('Week 3 3rd June'!J$2:J$150,'Week 3 3rd June'!D$2:D$150,'Rider List'!A21) -> 3 | Y21: =SUMIFS('Week 4 8th July'!J$2:J$150,'Week 4 8th July'!D$2:D$150,'Rider List'!A21) -> 5 | Z21: =SUMIFS('Week 5 22nd July'!J$2:J$150,'Week 5 22nd July'!D$2:D$150,'Rider List'!A21) -> 0 | AA21: =SUMIFS('Week 6 29th July'!J$2:J$150,'Week 6 29th July'!D$2:D$150,'Rider List'!A21) -> 0 | AC21: =SUM(V21:AB21) -> 13
A22: 20 | B22: Daniel | C22: Middlebrooke | D22: M | E22: Otley CC | F22: U10 | G22: B | H22: 2B | I22: 1111262 | J22: 60 | K22: 23.59 | M22: =SUMIFS('Week 1 13th May'!I$2:I$150,'Week 1 13th May'!D$2:D$150,'Rider List'!A22) -> 36 | N22: =SUMIFS('Week 2 20th May'!I$2:I$150,'Week 2 20th May'!D$2:D$150,'Rider List'!A22) -> 16 | O22: =SUMIFS('Week 3 3rd June'!I$2:I$200,'Week 3 3rd June'!D$2:D$200,'Rider List'!A22) -> 33 | P22: =SUMIFS('Week 4 8th July'!I$2:I$200,'Week 4 8th July'!D$2:D$200,'Rider List'!A22) -> 34 | Q22: =SUMIFS('Week 5 22nd July'!I$2:I$200,'Week 5 22nd July'!D$2:D$200,'Rider List'!A22) -> 76 | R22: =SUMIFS('Week 6 29th July'!I$2:I$200,'Week 6 29th July'!D$2:D$200,'Rider List'!A22) -> 77 | T22: =SUM(M22:S22) -> 272 | W22: =SUMIFS('Week 2 20th May'!J$2:J$150,'Week 2 20th May'!D$2:D$150,'Rider List'!A22) -> 0 | X22: =SUMIFS('Week 3 3rd June'!J$2:J$150,'Week 3 3rd June'!D$2:D$150,'Rider List'!A22) -> 0 | Y22: =SUMIFS('Week 4 8th July'!J$2:J$150,'Week 4 8th July'!D$2:D$150,'Rider List'!A22) -> 0 | Z22: =SUMIFS('Week 5 22nd July'!J$2:J$150,'Week 5 22nd July'!D$2:D$150,'Rider List'!A22) -> 0 | AA22: =SUMIFS('Week 6 29th July'!J$2:J$150,'Week 6 29th July'!D$2:D$150,'Rider List'!A22) -> 2 | AC22: =SUM(V22:AB22) -> 2
A23: 21 | B23: Abigail | C23: Miller | D23: F | E23: Clifton CC | F23: U12 | G23: G | H23: 1G | I23: 1195846 | J23: 60 | K23: 22.07 | M23: =SUMIFS('Week 1 13th May'!I$2:I$150,'Week 1 13th May'!D$2:D$150,'Rider List'!A23) -> 72 | N23: =SUMIFS('Week 2 20th May'!I$2:I$150,'Week 2 20th May'!D$2:D$150,'Rider List'!A23) -> 72 | O23: =SUMIFS('Week 3 3rd June'!I$2:I$200,'Week 3 3rd June'!D$2:D$200,'Rider List'!A23) -> 96 | P23: =SUMIFS('Week 4 8th July'!I$2:I$200,'Week 4 8th July'!D$2:D$200,'Rider List'!A23) -> 0 | Q23: =SUMIFS('Week 5 22nd July'!I$2:I$200,'Week 5 22nd July'!D$2:D$200,'Rider List'!A23) -> 96 | R23: =SUMIFS('Week 6 29th July'!I$2:I$200,'Week 6 29th July'!D$2:D$200,'Rider List'!A23) -> 0 | T23: =SUM(M23:S23) -> 336 | W23: =SUMIFS('Week 2 20th May'!J$2:J$150,'Week 2 20th May'!D$2:D$150,'Rider List'!A23) -> 0 | X23: =SUMIFS('Week 3 3rd June'!J$2:J$150,'Week 3 3rd June'!D$2:D$150,'Rider List'!A23) -> 0 | Y23: =SUMIFS('Week 4 8th July'!J$2:J$150,'Week 4 8th July'!D$2:D$150,'Rider List'!A23) -> 0 | Z23: =SUMIFS('Week 5 22nd July'!J$2:J$150,'Week 5 22nd July'!D$2:D$150,'Rider List'!A23) -> 3 | AA23: =SUMIFS('Week 6 29th July'!J$2:J$150,'Week 6 29th July'!D$2:D$150,'Rider List'!A23) -> 0 | AC23: =SUM(V23:AB23) -> 3
A24: 22 | B24: Jody | C24: Mills | D24: M | E24: Huddersfield Star Wheelers | F24: U12 | G24: B | H24: 1B | I24: 1090257 | J24: 80 | K24: 23.38 | M24: =SUMIFS('Week 1 13th May'!I$2:I$150,'Week 1 13th May'!D$2:D$150,'Rider List'!A24) -> 65 | N24: =SUMIFS('Week 2 20th May'!I$2:I$150,'Week 2 20th May'!D$2:D$150,'Rider List'!A24) -> 42 | O24: =SUMIFS('Week 3 3rd June'!I$2:I$200,'Week 3 3rd June'!D$2:D$200,'Rider List'!A24) -> 60 | P24: =SUMIFS('Week 4 8th July'!I$2:I$200,'Week 4 8th July'!D$2:D$200,'Rider List'!A24) -> 86 | Q24: =SUMIFS('Week 5 22nd July'!I$2:I$200,'Week 5 22nd July'!D$2:D$200,'Rider List'!A24) -> 0 | R24: =SUMIFS('Week 6 29th July'!I$2:I$200,'Week 6 29th July'!D$2:D$200,'Rider List'!A24) -> 0 | T24: =SUM(M24:S24) -> 253 | W24: =SUMIFS('Week 2 20th May'!J$2:J$150,'Week 2 20th May'!D$2:D$150,'Rider List'!A24) -> 0 | X24: =SUMIFS('Week 3 3rd June'!J$2:J$150,'Week 3 3rd June'!D$2:D$150,'Rider List'!A24) -> 0 | Y24: =SUMIFS('Week 4 8th July'!J$2:J$150,'Week 4 8th July'!D$2:D$150,'Rider List'!A24) -> 5 | Z24: =SUMIFS('Week 5 22nd July'!J$2:J$150,'Week 5 22nd July'!D$2:D$150,'Rider List'!A24) -> 0 | AA24: =SUMIFS('Week 6 29th July'!J$2:J$150,'Week 6 29th July'!D$2:D$150,'Rider List'!A24) -> 0 | AC24: =SUM(V24:AB24) -> 5
... A28: 26 | B28: Oliver | C28: Shimmin | D28: M | E28: Albarosa Cycling Club | F28: U8 | G28: B | H28: 4B | I28: 1563991 | J28: 210 | K28: 38.5 | M28: =SUMIFS('Week 1 13th May'!I$2:I$150,'Week 1 13th May'!D$2:D$150,'Rider List'!A28) -> 0 | N28: =SUMIFS('Week 2 20th May'!I$2:I$150,'Week 2 20th May'!D$2:D$150,'Rider List'!A28) -> 10 | O28: =SUMIFS('Week 3 3rd June'!I$2:I$200,'Week 3 3rd June'!D$2:D$200,'Rider List'!A28) -> 12 | P28: =SUMIFS('Week 4 8th July'!I$2:I$200,'Week 4 8th July'!D$2:D$200,'Rider List'!A28) -> 13 | Q28: =SUMIFS('Week 5 22nd July'!I$2:I$200,'Week 5 22nd July'!D$2:D$200,'Rider List'!A28) -> 0 | R28: =SUMIFS('Week 6 29th July'!I$2:I$200,'Week 6 29th July'!D$2:D$200,'Rider List'!A28) -> 0 | T28: =SUM(M28:S28) -> 35 | W28: =SUMIFS('Week 2 20th May'!J$2:J$150,'Week 2 20th May'!D$2:D$150,'Rider List'!A28) -> 2 | X28: =SUMIFS('Week 3 3rd June'!J$2:J$150,'Week 3 3rd June'!D$2:D$150,'Rider List'!A28) -> 3 | Y28: =SUMIFS('Week 4 8th July'!J$2:J$150,'Week 4 8th July'!D$2:D$150,'Rider List'!A28) -> 1 | Z28: =SUMIFS('Week 5 22nd July'!J$2:J$150,'Week 5 22nd July'!D$2:D$150,'Rider List'!A28) -> 0 | AA28: =SUMIFS('Week 6 29th July'!J$2:J$150,'Week 6 29th July'!D$2:D$150,'Rider List'!A28) -> 0 | AC28: =SUM(V28:AB28) -> 6
A29: 27 | B29: Luke | C29: Trafford | D29: M | E29: Holmfirth Cycling Club | F29: U10 | G29: B | I29: 1445280 | M29: =SUMIFS('Week 1 13th May'!I$2:I$150,'Week 1 13th May'!D$2:D$150,'Rider List'!A29) -> 0 | N29: =SUMIFS('Week 2 20th May'!I$2:I$150,'Week 2 20th May'!D$2:D$150,'Rider List'!A29) -> 0 | O29: =SUMIFS('Week 3 3rd June'!I$2:I$200,'Week 3 3rd June'!D$2:D$200,'Rider List'!A29) -> 0 | P29: =SUMIFS('Week 4 8th July'!I$2:I$200,'Week 4 8th July'!D$2:D$200,'Rider List'!A29) -> 0 | Q29: =SUMIFS('Week 5 22nd July'!I$2:I$200,'Week 5 22nd July'!D$2:D$200,'Rider List'!A29) -> 0 | R29: =SUMIFS('Week 6 29th July'!I$2:I$200,'Week 6 29th July'!D$2:D$200,'Rider List'!A29) -> 0 | T29: =SUM(M29:S29) -> 0 | W29: =SUMIFS('Week 2 20th May'!J$2:J$150,'Week 2 20th May'!D$2:D$150,'Rider List'!A29) -> 0 | X29: =SUMIFS('Week 3 3rd June'!J$2:J$150,'Week 3 3rd June'!D$2:D$150,'Rider List'!A29) -> 0 | Y29: =SUMIFS('Week 4 8th July'!J$2:J$150,'Week 4 8th July'!D$2:D$150,'Rider List'!A29) -> 0 | Z29: =SUMIFS('Week 5 22nd July'!J$2:J$150,'Week 5 22nd July'!D$2:D$150,'Rider List'!A29) -> 0 | AA29: =SUMIFS('Week 6 29th July'!J$2:J$150,'Week 6 29th July'!D$2:D$150,'Rider List'!A29) -> 0 | AC29: =SUM(V29:AB29) -> 0
A30: 28 | B30: Mary | C30: Venning | D30: F | E30: Leeds Mercury Cycling Club | F30: U8 | G30: G | H30: 2G | I30: 1416365 | J30: 170 | K30: 33.12 | M30: =SUMIFS('Week 1 13th May'!I$2:I$150,'Week 1 13th May'!D$2:D$150,'Rider List'!A30) -> 24 | N30: =SUMIFS('Week 2 20th May'!I$2:I$150,'Week 2 20th May'!D$2:D$150,'Rider List'!A30) -> 0 | O30: =SUMIFS('Week 3 3rd June'!I$2:I$200,'Week 3 3rd June'!D$2:D$200,'Rider List'!A30) -> 34 | P30: =SUMIFS('Week 4 8th July'!I$2:I$200,'Week 4 8th July'!D$2:D$200,'Rider List'!A30) -> 33 | Q30: =SUMIFS('Week 5 22nd July'!I$2:I$200,'Week 5 22nd July'!D$2:D$200,'Rider List'!A30) -> 0 | R30: =SUMIFS('Week 6 29th July'!I$2:I$200,'Week 6 29th July'!D$2:D$200,'Rider List'!A30) -> 58 | T30: =SUM(M30:S30) -> 149 | W30: =SUMIFS('Week 2 20th May'!J$2:J$150,'Week 2 20th May'!D$2:D$150,'Rider List'!A30) -> 3 | X30: =SUMIFS('Week 3 3rd June'!J$2:J$150,'Week 3 3rd June'!D$2:D$150,'Rider List'!A30) -> 2 | Y30: =SUMIFS('Week 4 8th July'!J$2:J$150,'Week 4 8th July'!D$2:D$150,'Rider List'!A30) -> 3 | Z30: =SUMIFS('Week 5 22nd July'!J$2:J$150,'Week 5 22nd July'!D$2:D$150,'Rider List'!A30) -> 0 | AA30: =SUMIFS('Week 6 29th July'!J$2:J$150,'Week 6 29th July'!D$2:D$150,'Rider List'!A30) -> 2 | AC30: =SUM(V30:AB30) -> 10
A31: 29 | B31: Arthur | C31: Venning | D31: M | E31: Leeds Mercury Cycling Club | F31: U8 | G31: B | H31: 4B | I31: 1503357 | J31: 300 | K31: 48.85 | M31: =SUMIFS('Week 1 13th May'!I$2:I$150,'Week 1 13th May'!D$2:D$150,'Rider List'!A31) -> 0 | N31: =SUMIFS('Week 2 20th May'!I$2:I$150,'Week 2 20th May'!D$2:D$150,'Rider List'!A31) -> 8 | O31: =SUMIFS('Week 3 3rd June'!I$2:I$200,'Week 3 3rd June'!D$2:D$200,'Rider List'!A31) -> 8 | P31: =SUMIFS('Week 4 8th July'!I$2:I$200,'Week 4 8th July'!D$2:D$200,'Rider List'!A31) -> 6 | Q31: =SUMIFS('Week 5 22nd July'!I$2:I$200,'Week 5 22nd July'!D$2:D$200,'Rider List'!A31) -> 0 | R31: =SUMIFS('Week 6 29th July'!I$2:I$200,'Week 6 29th July'!D$2:D$200,'Rider List'!A31) -> 3 | T31: =SUM(M31:S31) -> 25 | W31: =SUMIFS('Week 2 20th May'!J$2:J$150,'Week 2 20th May'!D$2:D$150,'Rider List'!A31) -> 3 | X31: =SUMIFS('Week 3 3rd June'!J$2:J$150,'Week 3 3rd June'!D$2:D$150,'Rider List'!A31) -> 5 | Y31: =SUMIFS('Week 4 8th July'!J$2:J$150,'Week 4 8th July'!D$2:D$150,'Rider List'!A31) -> 2 | Z31: =SUMIFS('Week 5 22nd July'!J$2:J$150,'Week 5 22nd July'!D$2:D$150,'Rider List'!A31) -> 0 | AA31: =SUMIFS('Week 6 29th July'!J$2:J$150,'Week 6 29th July'!D$2:D$150,'Rider List'!A31) -> 5 | AC31: =SUM(V31:AB31) -> 15
A32: 30 | B32: Jack | C32: Wilks | D32: M | E32: Otley CC | F32: U12 | G32: B | H32: 1B | I32: 1067079 | J32: 50 | K32: 22.89 | M32: =SUMIFS('Week 1 13th May'!I$2:I$150,'Week 1 13th May'!D$2:D$150,'Rider List'!A32) -> 42 | N32: =SUMIFS('Week 2 20th May'!I$2:I$150,'Week 2 20th May'!D$2:D$150,'Rider List'!A32) -> 44 | O32: =SUMIFS('Week 3 3rd June'!I$2:I$200,'Week 3 3rd June'!D$2:D$200,'Rider List'!A32) -> 63 | P32: =SUMIFS('Week 4 8th July'!I$2:I$200,'Week 4 8th July'!D$2:D$200,'Rider List'!A32) -> 87 | Q32: =SUMIFS('Week 5 22nd July'!I$2:I$200,'Week 5 22nd July'!D$2:D$200,'Rider List'!A32) -> 93 | R32: =SUMIFS('Week 6 29th July'!I$2:I$200,'Week 6 29th July'!D$2:D$200,'Rider List'!A32) -> 89 | T32: =SUM(M32:S32) -> 418 | W32: =SUMIFS('Week 2 20th May'!J$2:J$150,'Week 2 20th May'!D$2:D$150,'Rider List'!A32) -> 0 | X32: =SUMIFS('Week 3 3rd June'!J$2:J$150,'Week 3 3rd June'!D$2:D$150,'Rider List'!A32) -> 5 | Y32: =SUMIFS('Week 4 8th July'!J$2:J$150,'Week 4 8th July'!D$2:D$150,'Rider List'!A32) -> 3 | Z32: =SUMIFS('Week 5 22nd July'!J$2:J$150,'Week 5 22nd July'!D$2:D$150,'Rider List'!A32) -> 2 | AA32: =SUMIFS('Week 6 29th July'!J$2:J$150,'Week 6 29th July'!D$2:D$150,'Rider List'!A32) -> 0 | AC32: =SUM(V32:AB32) -> 10
A33: 31 | B33: Iona | C33: Jackson | D33: F | E33: Albarosa Cycling Club | F33: U12 | G33: G | H33: 1G | I33: 1088556 | J33: 110 | K33: 27.9 | M33: =SUMIFS('Week 1 13th May'!I$2:I$150,'Week 1 13th May'!D$2:D$150,'Rider List'!A33) -> 44 | N33: =SUMIFS('Week 2 20th May'!I$2:I$150,'Week 2 20th May'!D$2:D$150,'Rider List'!A33) -> 44 | O33: =SUMIFS('Week 3 3rd June'!I$2:I$200,'Week 3 3rd June'!D$2:D$200,'Rider List'!A33) -> 44 | P33: =SUMIFS('Week 4 8th July'!I$2:I$200,'Week 4 8th July'!D$2:D$200,'Rider List'!A33) -> 43 | Q33: =SUMIFS('Week 5 22nd July'!I$2:I$200,'Week 5 22nd July'!D$2:D$200,'Rider List'!A33) -> 0 | R33: =SUMIFS('Week 6 29th July'!I$2:I$200,'Week 6 29th July'!D$2:D$200,'Rider List'!A33) -> 0 | T33: =SUM(M33:S33) -> 175 | W33: =SUMIFS('Week 2 20th May'!J$2:J$150,'Week 2 20th May'!D$2:D$150,'Rider List'!A33) -> 0 | X33: =SUMIFS('Week 3 3rd June'!J$2:J$150,'Week 3 3rd June'!D$2:D$150,'Rider List'!A33) -> 3 | Y33: =SUMIFS('Week 4 8th July'!J$2:J$150,'Week 4 8th July'!D$2:D$150,'Rider List'!A33) -> 0 | Z33: =SUMIFS('Week 5 22nd July'!J$2:J$150,'Week 5 22nd July'!D$2:D$150,'Rider List'!A33) -> 0 | AA33: =SUMIFS('Week 6 29th July'!J$2:J$150,'Week 6 29th July'!D$2:D$150,'Rider List'!A33) -> 0 | AC33: =SUM(V33:AB33) -> 3
A34: 32 | B34: Billy | C34: Wise | D34: M | E34: Northern Outlaws | F34: U8 | G34: B | H34: 4B | I34: 1447767 | J34: 200 | K34: 37.97 | M34: =SUMIFS('Week 1 13th May'!I$2:I$150,'Week 1 13th May'!D$2:D$150,'Rider List'!A34) -> 15 | N34: =SUMIFS('Week 2 20th May'!I$2:I$150,'Week 2 20th May'!D$2:D$150,'Rider List'!A34) -> 0 | O34: =SUMIFS('Week 3 3rd June'!I$2:I$200,'Week 3 3rd June'!D$2:D$200,'Rider List'!A34) -> 0 | P34: =SUMIFS('Week 4 8th July'!I$2:I$200,'Week 4 8th July'!D$2:D$200,'Rider List'!A34) -> 0 | Q34: =SUMIFS('Week 5 22nd July'!I$2:I$200,'Week 5 22nd July'!D$2:D$200,'Rider List'!A34) -> 0 | R34: =SUMIFS('Week 6 29th July'!I$2:I$200,'Week 6 29th July'!D$2:D$200,'Rider List'!A34) -> 0 | T34: =SUM(M34:S34) -> 15 | W34: =SUMIFS('Week 2 20th May'!J$2:J$150,'Week 2 20th May'!D$2:D$150,'Rider List'!A34) -> 0 | X34: =SUMIFS('Week 3 3rd June'!J$2:J$150,'Week 3 3rd June'!D$2:D$150,'Rider List'!A34) -> 0 | Y34: =SUMIFS('Week 4 8th July'!J$2:J$150,'Week 4 8th July'!D$2:D$150,'Rider List'!A34) -> 0 | Z34: =SUMIFS('Week 5 22nd July'!J$2:J$150,'Week 5 22nd July'!D$2:D$150,'Rider List'!A34) -> 0 | AA34: =SUMIFS('Week 6 29th July'!J$2:J$150,'Week 6 29th July'!D$2:D$150,'Rider List'!A34) -> 0 | AC34: =SUM(V34:AB34) -> 0
A35: 33 | B35: Jacob | C35: Rook | D35: M | E35: East Bradford CC | F35: U10 | G35: B | H35: 2B | I35: 1235819 | J35: 80 | K35: 24.32 | M35: =SUMIFS('Week 1 13th May'!I$2:I$150,'Week 1 13th May'!D$2:D$150,'Rider List'!A35) -> 33 | N35: =SUMIFS('Week 2 20th May'!I$2:I$150,'Week 2 20th May'!D$2:D$150,'Rider List'!A35) -> 15 | O35: =SUMIFS('Week 3 3rd June'!I$2:I$200,'Week 3 3rd June'!D$2:D$200,'Rider List'!A35) -> 32 | P35: =SUMIFS('Week 4 8th July'!I$2:I$200,'Week 4 8th July'!D$2:D$200,'Rider List'!A35) -> 32 | Q35: =SUMIFS('Week 5 22nd July'!I$2:I$200,'Week 5 22nd July'!D$2:D$200,'Rider List'!A35) -> 73 | R35: =SUMIFS('Week 6 29th July'!I$2:I$200,'Week 6 29th July'!D$2:D$200,'Rider List'!A35) -> 36 | T35: =SUM(M35:S35) -> 221 | W35: =SUMIFS('Week 2 20th May'!J$2:J$150,'Week 2 20th May'!D$2:D$150,'Rider List'!A35) -> 0 | X35: =SUMIFS('Week 3 3rd June'!J$2:J$150,'Week 3 3rd June'!D$2:D$150,'Rider List'!A35) -> 0 | Y35: =SUMIFS('Week 4 8th July'!J$2:J$150,'Week 4 8th July'!D$2:D$150,'Rider List'!A35) -> 0 | Z35: =SUMIFS('Week 5 22nd July'!J$2:J$150,'Week 5 22nd July'!D$2:D$150,'Rider List'!A35) -> 3 | AA35: =SUMIFS('Week 6 29th July'!J$2:J$150,'Week 6 29th July'!D$2:D$150,'Rider List'!A35) -> 0 | AC35: =SUM(V35:AB35) -> 3
A36: 34 | B36: Arpita | C36: Kaulgud | D36: F | F36: U8 | G36: G | H36: 2G | J36: 310 | K36: 57.04 | M36: =SUMIFS('Week 1 13th May'!I$2:I$150,'Week 1 13th May'!D$2:D$150,'Rider List'!A36) -> 17 | N36: =SUMIFS('Week 2 20th May'!I$2:I$150,'Week 2 20th May'!D$2:D$150,'Rider List'!A36) -> 30 | O36: =SUMIFS('Week 3 3rd June'!I$2:I$200,'Week 3 3rd June'!D$2:D$200,'Rider List'!A36) -> 28 | P36: =SUMIFS('Week 4 8th July'!I$2:I$200,'Week 4 8th July'!D$2:D$200,'Rider List'!A36) -> 0 | Q36: =SUMIFS('Week 5 22nd July'!I$2:I$200,'Week 5 22nd July'!D$2:D$200,'Rider List'!A36) -> 57 | R36: =SUMIFS('Week 6 29th July'!I$2:I$200,'Week 6 29th July'!D$2:D$200,'Rider List'!A36) -> 30 | T36: =SUM(M36:S36) -> 162 | W36: =SUMIFS('Week 2 20th May'!J$2:J$150,'Week 2 20th May'!D$2:D$150,'Rider List'!A36) -> 0 | X36: =SUMIFS('Week 3 3rd June'!J$2:J$150,'Week 3 3rd June'!D$2:D$150,'Rider List'!A36) -> 0 | Y36: =SUMIFS('Week 4 8th July'!J$2:J$150,'Week 4 8th July'!D$2:D$150,'Rider List'!A36) -> 0 | Z36: =SUMIFS('Week 5 22nd July'!J$2:J$150,'Week 5 22nd July'!D$2:D$150,'Rider List'!A36) -> 5 | AA36: =SUMIFS('Week 6 29th July'!J$2:J$150,'Week 6 29th July'!D$2:D$150,'Rider List'!A36) -> 5 | AC36: =SUM(V36:AB36) -> 10
A37: 35 | B37: Joshua | C37: Daly | D37: M | E37: Shibden Cycling Club | F37: U10 | G37: B | H37: 1B | J37: 60 | K37: 23.1 | M37: =SUMIFS('Week 1 13th May'!I$2:I$150,'Week 1 13th May'!D$2:D$150,'Rider List'!A37) -> 71 | N37: =SUMIFS('Week 2 20th May'!I$2:I$150,'Week 2 20th May'!D$2:D$150,'Rider List'!A37) -> 42 | O37: =SUMIFS('Week 3 3rd June'!I$2:I$200,'Week 3 3rd June'!D$2:D$200,'Rider List'!A37) -> 21 | P37: =SUMIFS('Week 4 8th July'!I$2:I$200,'Week 4 8th July'!D$2:D$200,'Rider List'!A37) -> 0 | Q37: =SUMIFS('Week 5 22nd July'!I$2:I$200,'Week 5 22nd July'!D$2:D$200,'Rider List'!A37) -> 0 | R37: =SUMIFS('Week 6 29th July'!I$2:I$200,'Week 6 29th July'!D$2:D$200,'Rider List'!A37) -> 0 | T37: =SUM(M37:S37) -> 134 | W37: =SUMIFS('Week 2 20th May'!J$2:J$150,'Week 2 20th May'!D$2:D$150,'Rider List'!A37) -> 1 | X37: =SUMIFS('Week 3 3rd June'!J$2:J$150,'Week 3 3rd June'!D$2:D$150,'Rider List'!A37) -> 0 | Y37: =SUMIFS('Week 4 8th July'!J$2:J$150,'Week 4 8th July'!D$2:D$150,'Rider List'!A37) -> 0 | Z37: =SUMIFS('Week 5 22nd July'!J$2:J$150,'Week 5 22nd July'!D$2:D$150,'Rider List'!A37) -> 0 | AA37: =SUMIFS('Week 6 29th July'!J$2:J$150,'Week 6 29th July'!D$2:D$150,'Rider List'!A37) -> 0 | AC37: =SUM(V37:AB37) -> 1
A38: 36 | B38: Joseph | C38: Friend | D38: M | F38: U12 | G38: B | H38: 2B | J38: 130 | K38: 28.34 | M38: =SUMIFS('Week 1 13th May'!I$2:I$150,'Week 1 13th May'!D$2:D$150,'Rider List'!A38) -> 0 | N38: =SUMIFS('Week 2 20th May'!I$2:I$150,'Week 2 20th May'!D$2:D$150,'Rider List'!A38) -> 17 | O38: =SUMIFS('Week 3 3rd June'!I$2:I$200,'Week 3 3rd June'!D$2:D$200,'Rider List'!A38) -> 14 | P38: =SUMIFS('Week 4 8th July'!I$2:I$200,'Week 4 8th July'!D$2:D$200,'Rider List'!A38) -> 0 | Q38: =SUMIFS('Week 5 22nd July'!I$2:I$200,'Week 5 22nd July'!D$2:D$200,'Rider List'!A38) -> 26 | R38: =SUMIFS('Week 6 29th July'!I$2:I$200,'Week 6 29th July'!D$2:D$200,'Rider List'!A38) -> 0 | T38: =SUM(M38:S38) -> 57 | W38: =SUMIFS('Week 2 20th May'!J$2:J$150,'Week 2 20th May'!D$2:D$150,'Rider List'!A38) -> 3 | X38: =SUMIFS('Week 3 3rd June'!J$2:J$150,'Week 3 3rd June'!D$2:D$150,'Rider List'!A38) -> 5 | Y38: =SUMIFS('Week 4 8th July'!J$2:J$150,'Week 4 8th July'!D$2:D$150,'Rider List'!A38) -> 5 | Z38: =SUMIFS('Week 5 22nd July'!J$2:J$150,'Week 5 22nd July'!D$2:D$150,'Rider List'!A38) -> 2 | AA38: =SUMIFS('Week 6 29th July'!J$2:J$150,'Week 6 29th July'!D$2:D$150,'Rider List'!A38) -> 0 | AC38: =SUM(V38:AB38) -> 15
A39: 37 | B39: Ruth | C39: Friend | D39: F | F39: U10 | G39: G | H39: 2G | J39: 190 | K39: 34.18 | M39: =SUMIFS('Week 1 13th May'!I$2:I$150,'Week 1 13th May'!D$2:D$150,'Rider List'!A39) -> 32 | N39: =SUMIFS('Week 2 20th May'!I$2:I$150,'Week 2 20th May'!D$2:D$150,'Rider List'!A39) -> 36 | O39: =SUMIFS('Week 3 3rd June'!I$2:I$200,'Week 3 3rd June'!D$2:D$200,'Rider List'!A39) -> 36 | P39: =SUMIFS('Week 4 8th July'!I$2:I$200,'Week 4 8th July'!D$2:D$200,'Rider List'!A39) -> 56 | Q39: =SUMIFS('Week 5 22nd July'!I$2:I$200,'Week 5 22nd July'!D$2:D$200,'Rider List'!A39) -> 79 | R39: =SUMIFS('Week 6 29th July'!I$2:I$200,'Week 6 29th July'!D$2:D$200,'Rider List'!A39) -> 0 | T39: =SUM(M39:S39) -> 239 | W39: =SUMIFS('Week 2 20th May'!J$2:J$150,'Week 2 20th May'!D$2:D$150,'Rider List'!A39) -> 0 | X39: =SUMIFS('Week 3 3rd June'!J$2:J$150,'Week 3 3rd June'!D$2:D$150,'Rider List'!A39) -> 5 | Y39: =SUMIFS('Week 4 8th July'!J$2:J$150,'Week 4 8th July'!D$2:D$150,'Rider List'!A39) -> 1 | Z39: =SUMIFS('Week 5 22nd July'!J$2:J$150,'Week 5 22nd July'!D$2:D$150,'Rider List'!A39) -> 3 | AA39: =SUMIFS('Week 6 29th July'!J$2:J$150,'Week 6 29th July'!D$2:D$150,'Rider List'!A39) -> 0 | AC39: =SUM(V39:AB39) -> 9
A40: 38 | B40: George | C40: Charlton | D40: M | E40: Otley CC | F40: U8 | G40: B | H40: 3B | J40: 180 | K40: 33.49 | M40: =SUMIFS('Week 1 13th May'!I$2:I$150,'Week 1 13th May'!D$2:D$150,'Rider List'!A40) -> 20 | N40: =SUMIFS('Week 2 20th May'!I$2:I$150,'Week 2 20th May'!D$2:D$150,'Rider List'!A40) -> 18 | O40: =SUMIFS('Week 3 3rd June'!I$2:I$200,'Week 3 3rd June'!D$2:D$200,'Rider List'!A40) -> 8 | P40: =SUMIFS('Week 4 8th July'!I$2:I$200,'Week 4 8th July'!D$2:D$200,'Rider List'!A40) -> 0 | Q40: =SUMIFS('Week 5 22nd July'!I$2:I$200,'Week 5 22nd July'!D$2:D$200,'Rider List'!A40) -> 0 | R40: =SUMIFS('Week 6 29th July'!I$2:I$200,'Week 6 29th July'!D$2:D$200,'Rider List'!A40) -> 0 | T40: =SUM(M40:S40) -> 46 | W40: =SUMIFS('Week 2 20th May'!J$2:J$150,'Week 2 20th May'!D$2:D$150,'Rider List'!A40) -> 0 | X40: =SUMIFS('Week 3 3rd June'!J$2:J$150,'Week 3 3rd June'!D$2:D$150,'Rider List'!A40) -> 2 | Y40: =SUMIFS('Week 4 8th July'!J$2:J$150,'Week 4 8th July'!D$2:D$150,'Rider List'!A40) -> 0 | Z40: =SUMIFS('Week 5 22nd July'!J$2:J$150,'Week 5 22nd July'!D$2:D$150,'Rider List'!A40) -> 0 | AA40: =SUMIFS('Week 6 29th July'!J$2:J$150,'Week 6 29th July'!D$2:D$150,'Rider List'!A40) -> 0 | AC40: =SUM(V40:AB40) -> 2
A41: 40 | B41: Mark | C41: Ketteringham | D41: M | E41: Harrogate Nova CC | F41: U12 | G41: B | H41: 1B | I41: 1252192 | J41: 50 | K41: 22.65 | M41: =SUMIFS('Week 1 13th May'!I$2:I$150,'Week 1 13th May'!D$2:D$150,'Rider List'!A41) -> 63 | N41: =SUMIFS('Week 2 20th May'!I$2:I$150,'Week 2 20th May'!D$2:D$150,'Rider List'!A41) -> 72 | O41: =SUMIFS('Week 3 3rd June'!I$2:I$200,'Week 3 3rd June'!D$2:D$200,'Rider List'!A41) -> 93 | P41: =SUMIFS('Week 4 8th July'!I$2:I$200,'Week 4 8th July'!D$2:D$200,'Rider List'!A41) -> 95 | Q41: =SUMIFS('Week 5 22nd July'!I$2:I$200,'Week 5 22nd July'!D$2:D$200,'Rider List'!A41) -> 0 | R41: =SUMIFS('Week 6 29th July'!I$2:I$200,'Week 6 29th July'!D$2:D$200,'Rider List'!A41) -> 96 | T41: =SUM(M41:S41) -> 419 | W41: =SUMIFS('Week 2 20th May'!J$2:J$150,'Week 2 20th May'!D$2:D$150,'Rider List'!A41) -> 2 | X41: =SUMIFS('Week 3 3rd June'!J$2:J$150,'Week 3 3rd June'!D$2:D$150,'Rider List'!A41) -> 3 | Y41: =SUMIFS('Week 4 8th July'!J$2:J$150,'Week 4 8th July'!D$2:D$150,'Rider List'!A41) -> 1 | Z41: =SUMIFS('Week 5 22nd July'!J$2:J$150,'Week 5 22nd July'!D$2:D$150,'Rider List'!A41) -> 0 | AA41: =SUMIFS('Week 6 29th July'!J$2:J$150,'Week 6 29th July'!D$2:D$150,'Rider List'!A41) -> 5 | AC41: =SUM(V41:AB41) -> 11
A42: 41 | B42: Elliot | C42: Islip | D42: M | F42: U8 | G42: B | H42: 4B | J42: 220 | K42: 39.06 | M42: =SUMIFS('Week 1 13th May'!I$2:I$150,'Week 1 13th May'!D$2:D$150,'Rider List'!A42) -> 20 | N42: =SUMIFS('Week 2 20th May'!I$2:I$150,'Week 2 20th May'!D$2:D$150,'Rider List'!A42) -> 12 | O42: =SUMIFS('Week 3 3rd June'!I$2:I$200,'Week 3 3rd June'!D$2:D$200,'Rider List'!A42) -> 0 | P42: =SUMIFS('Week 4 8th July'!I$2:I$200,'Week 4 8th July'!D$2:D$200,'Rider List'!A42) -> 9 | Q42: =SUMIFS('Week 5 22nd July'!I$2:I$200,'Week 5 22nd July'!D$2:D$200,'Rider List'!A42) -> 0 | R42: =SUMIFS('Week 6 29th July'!I$2:I$200,'Week 6 29th July'!D$2:D$200,'Rider List'!A42) -> 0 | T42: =SUM(M42:S42) -> 41 | W42: =SUMIFS('Week 2 20th May'!J$2:J$150,'Week 2 20th May'!D$2:D$150,'Rider List'!A42) -> 5 | X42: =SUMIFS('Week 3 3rd June'!J$2:J$150,'Week 3 3rd June'!D$2:D$150,'Rider List'!A42) -> 0 | Y42: =SUMIFS('Week 4 8th July'!J$2:J$150,'Week 4 8th July'!D$2:D$150,'Rider List'!A42) -> 5 | Z42: =SUMIFS('Week 5 22nd July'!J$2:J$150,'Week 5 22nd July'!D$2:D$150,'Rider List'!A42) -> 0 | AA42: =SUMIFS('Week 6 29th July'!J$2:J$150,'Week 6 29th July'!D$2:D$150,'Rider List'!A42) -> 0 | AC42: =SUM(V42:AB42) -> 10
A43: 42 | B43: Lennart | C43: Rost | D43: M | E43: Leeds Mercury Cycling Club | F43: U12 | G43: B | H43: 2B | J43: 140 | K43: 29.38 | M43: =SUMIFS('Week 1 13th May'!I$2:I$150,'Week 1 13th May'!D$2:D$150,'Rider List'!A43) -> 0 | N43: =SUMIFS('Week 2 20th May'!I$2:I$150,'Week 2 20th May'!D$2:D$150,'Rider List'!A43) -> 18 | O43: =SUMIFS('Week 3 3rd June'!I$2:I$200,'Week 3 3rd June'!D$2:D$200,'Rider List'!A43) -> 0 | P43: =SUMIFS('Week 4 8th July'!I$2:I$200,'Week 4 8th July'!D$2:D$200,'Rider List'!A43) -> 27 | Q43: =SUMIFS('Week 5 22nd July'!I$2:I$200,'Week 5 22nd July'!D$2:D$200,'Rider List'!A43) -> 29 | R43: =SUMIFS('Week 6 29th July'!I$2:I$200,'Week 6 29th July'!D$2:D$200,'Rider List'!A43) -> 0 | T43: =SUM(M43:S43) -> 74 | W43: =SUMIFS('Week 2 20th May'!J$2:J$150,'Week 2 20th May'!D$2:D$150,'Rider List'!A43) -> 5 | X43: =SUMIFS('Week 3 3rd June'!J$2:J$150,'Week 3 3rd June'!D$2:D$150,'Rider List'!A43) -> 0 | Y43: =SUMIFS('Week 4 8th July'!J$2:J$150,'Week 4 8th July'!D$2:D$150,'Rider List'!A43) -> 1 | Z43: =SUMIFS('Week 5 22nd July'!J$2:J$150,'Week 5 22nd July'!D$2:D$150,'Rider List'!A43) -> 0 | AA43: =SUMIFS('Week 6 29th July'!J$2:J$150,'Week 6 29th July'!D$2:D$150,'Rider List'!A43) -> 0 | AC43: =SUM(V43:AB43) -> 6
A44: 43 | B44: Chloe | C44: Coldwell | D44: F | E44: Bramley Wheelers | F44: U12 | G44: G | H44: 2G | J44: 210 | K44: 38.82 | M44: =SUMIFS('Week 1 13th May'!I$2:I$150,'Week 1 13th May'!D$2:D$150,'Rider List'!A44) -> 21 | N44: =SUMIFS('Week 2 20th May'!I$2:I$150,'Week 2 20th May'!D$2:D$150,'Rider List'!A44) -> 0 | O44: =SUMIFS('Week 3 3rd June'!I$2:I$200,'Week 3 3rd June'!D$2:D$200,'Rider List'!A44) -> 0 | P44: =SUMIFS('Week 4 8th July'!I$2:I$200,'Week 4 8th July'!D$2:D$200,'Rider List'!A44) -> 0 | Q44: =SUMIFS('Week 5 22nd July'!I$2:I$200,'Week 5 22nd July'!D$2:D$200,'Rider List'!A44) -> 0 | R44: =SUMIFS('Week 6 29th July'!I$2:I$200,'Week 6 29th July'!D$2:D$200,'Rider List'!A44) -> 0 | T44: =SUM(M44:S44) -> 21 | W44: =SUMIFS('Week 2 20th May'!J$2:J$150,'Week 2 20th May'!D$2:D$150,'Rider List'!A44) -> 0 | X44: =SUMIFS('Week 3 3rd June'!J$2:J$150,'Week 3 3rd June'!D$2:D$150,'Rider List'!A44) -> 0 | Y44: =SUMIFS('Week 4 8th July'!J$2:J$150,'Week 4 8th July'!D$2:D$150,'Rider List'!A44) -> 0 | Z44: =SUMIFS('Week 5 22nd July'!J$2:J$150,'Week 5 22nd July'!D$2:D$150,'Rider List'!A44) -> 0 | AA44: =SUMIFS('Week 6 29th July'!J$2:J$150,'Week 6 29th July'!D$2:D$150,'Rider List'!A44) -> 0 | AC44: =SUM(V44:AB44) -> 0
A45: 44 | B45: Olivia | C45: Coldwell | D45: F | E45: Bramley Wheelers | F45: U10 | G45: G | H45: 2G | M45: =SUMIFS('Week 1 13th May'!I$2:I$150,'Week 1 13th May'!D$2:D$150,'Rider List'!A45) -> 15 | N45: =SUMIFS('Week 2 20th May'!I$2:I$150,'Week 2 20th May'!D$2:D$150,'Rider List'!A45) -> 32 | O45: =SUMIFS('Week 3 3rd June'!I$2:I$200,'Week 3 3rd June'!D$2:D$200,'Rider List'!A45) -> 0 | P45: =SUMIFS('Week 4 8th July'!I$2:I$200,'Week 4 8th July'!D$2:D$200,'Rider List'!A45) -> 28 | Q45: =SUMIFS('Week 5 22nd July'!I$2:I$200,'Week 5 22nd July'!D$2:D$200,'Rider List'!A45) -> 0 | R45: =SUMIFS('Week 6 29th July'!I$2:I$200,'Week 6 29th July'!D$2:D$200,'Rider List'!A45) -> 0 | T45: =SUM(M45:S45) -> 75 | W45: =SUMIFS('Week 2 20th May'!J$2:J$150,'Week 2 20th May'!D$2:D$150,'Rider List'!A45) -> 2 | X45: =SUMIFS('Week 3 3rd June'!J$2:J$150,'Week 3 3rd June'!D$2:D$150,'Rider List'!A45) -> 0 | Y45: =SUMIFS('Week 4 8th July'!J$2:J$150,'Week 4 8th July'!D$2:D$150,'Rider List'!A45) -> 2 | Z45: =SUMIFS('Week 5 22nd July'!J$2:J$150,'Week 5 22nd July'!D$2:D$150,'Rider List'!A45) -> 0 | AA45: =SUMIFS('Week 6 29th July'!J$2:J$150,'Week 6 29th July'!D$2:D$150,'Rider List'!A45) -> 0 | AC45: =SUM(V45:AB45) -> 4
A46: 45 | B46: Cameron | C46: Corrington | D46: M | E46: Leeds Mercury Cycling Club | F46: U12 | G46: B | H46: 2B | J46: 130 | K46: 28.06 | M46: =SUMIFS('Week 1 13th May'!I$2:I$150,'Week 1 13th May'!D$2:D$150,'Rider List'!A46) -> 0 | N46: =SUMIFS('Week 2 20th May'!I$2:I$150,'Week 2 20th May'!D$2:D$150,'Rider List'!A46) -> 0 | O46: =SUMIFS('Week 3 3rd June'!I$2:I$200,'Week 3 3rd June'!D$2:D$200,'Rider List'!A46) -> 0 | P46: =SUMIFS('Week 4 8th July'!I$2:I$200,'Week 4 8th July'!D$2:D$200,'Rider List'!A46) -> 0 | Q46: =SUMIFS('Week 5 22nd July'!I$2:I$200,'Week 5 22nd July'!D$2:D$200,'Rider List'!A46) -> 0 | R46: =SUMIFS('Week 6 29th July'!I$2:I$200,'Week 6 29th July'!D$2:D$200,'Rider List'!A46) -> 0 | T46: =SUM(M46:S46) -> 0 | W46: =SUMIFS('Week 2 20th May'!J$2:J$150,'Week 2 20th May'!D$2:D$150,'Rider List'!A46) -> 0 | X46: =SUMIFS('Week 3 3rd June'!J$2:J$150,'Week 3 3rd June'!D$2:D$150,'Rider List'!A46) -> 0 | Y46: =SUMIFS('Week 4 8th July'!J$2:J$150,'Week 4 8th July'!D$2:D$150,'Rider List'!A46) -> 0 | Z46: =SUMIFS('Week 5 22nd July'!J$2:J$150,'Week 5 22nd July'!D$2:D$150,'Rider List'!A46) -> 0 | AA46: =SUMIFS('Week 6 29th July'!J$2:J$150,'Week 6 29th July'!D$2:D$150,'Rider List'!A46) -> 0 | AC46: =SUM(V46:AB46) -> 0
A47: 46 | B47: Joshua | C47: Turton | D47: M | E47: East Bradford CC | F47: U10 | G47: B | H47: 2B | J47: 90 | K47: 23.31 | M47: =SUMIFS('Week 1 13th May'!I$2:I$150,'Week 1 13th May'!D$2:D$150,'Rider List'!A47) -> 0 | N47: =SUMIFS('Week 2 20th May'!I$2:I$150,'Week 2 20th May'!D$2:D$150,'Rider List'!A47) -> 17 | O47: =SUMIFS('Week 3 3rd June'!I$2:I$200,'Week 3 3rd June'!D$2:D$200,'Rider List'!A47) -> 32 | P47: =SUMIFS('Week 4 8th July'!I$2:I$200,'Week 4 8th July'!D$2:D$200,'Rider List'!A47) -> 0 | Q47: =SUMIFS('Week 5 22nd July'!I$2:I$200,'Week 5 22nd July'!D$2:D$200,'Rider List'!A47) -> 0 | R47: =SUMIFS('Week 6 29th July'!I$2:I$200,'Week 6 29th July'!D$2:D$200,'Rider List'!A47) -> 87 | T47: =SUM(M47:S47) -> 136 | W47: =SUMIFS('Week 2 20th May'!J$2:J$150,'Week 2 20th May'!D$2:D$150,'Rider List'!A47) -> 0 | X47: =SUMIFS('Week 3 3rd June'!J$2:J$150,'Week 3 3rd June'!D$2:D$150,'Rider List'!A47) -> 3 | Y47: =SUMIFS('Week 4 8th July'!J$2:J$150,'Week 4 8th July'!D$2:D$150,'Rider List'!A47) -> 0 | Z47: =SUMIFS('Week 5 22nd July'!J$2:J$150,'Week 5 22nd July'!D$2:D$150,'Rider List'!A47) -> 0 | AA47: =SUMIFS('Week 6 29th July'!J$2:J$150,'Week 6 29th July'!D$2:D$150,'Rider List'!A47) -> 1 | AC47: =SUM(V47:AB47) -> 4
A48: 47 | B48: Jack | C48: Wormwell | D48: M | F48: U8 | G48: B | H48: 4B | K48: 34.58 | M48: =SUMIFS('Week 1 13th May'!I$2:I$150,'Week 1 13th May'!D$2:D$150,'Rider List'!A48) -> 0 | N48: =SUMIFS('Week 2 20th May'!I$2:I$150,'Week 2 20th May'!D$2:D$150,'Rider List'!A48) -> 0 | O48: =SUMIFS('Week 3 3rd June'!I$2:I$200,'Week 3 3rd June'!D$2:D$200,'Rider List'!A48) -> 10 | P48: =SUMIFS('Week 4 8th July'!I$2:I$200,'Week 4 8th July'!D$2:D$200,'Rider List'!A48) -> 11 | Q48: =SUMIFS('Week 5 22nd July'!I$2:I$200,'Week 5 22nd July'!D$2:D$200,'Rider List'!A48) -> 12 | R48: =SUMIFS('Week 6 29th July'!I$2:I$200,'Week 6 29th July'!D$2:D$200,'Rider List'!A48) -> 12 | T48: =SUM(M48:S48) -> 45 | W48: =SUMIFS('Week 2 20th May'!J$2:J$150,'Week 2 20th May'!D$2:D$150,'Rider List'!A48) -> 0 | X48: =SUMIFS('Week 3 3rd June'!J$2:J$150,'Week 3 3rd June'!D$2:D$150,'Rider List'!A48) -> 2 | Y48: =SUMIFS('Week 4 8th July'!J$2:J$150,'Week 4 8th July'!D$2:D$150,'Rider List'!A48) -> 3 | Z48: =SUMIFS('Week 5 22nd July'!J$2:J$150,'Week 5 22nd July'!D$2:D$150,'Rider List'!A48) -> 5 | AA48: =SUMIFS('Week 6 29th July'!J$2:J$150,'Week 6 29th July'!D$2:D$150,'Rider List'!A48) -> 3 | AC48: =SUM(V48:AB48) -> 13
A49: 48 | B49: Arthur | C49: Bairstow | D49: M | E49: East Bradford CC | F49: U8 | G49: B | H49: 2B | K49: 23.18 | M49: =SUMIFS('Week 1 13th May'!I$2:I$150,'Week 1 13th May'!D$2:D$150,'Rider List'!A49) -> 0 | N49: =SUMIFS('Week 2 20th May'!I$2:I$150,'Week 2 20th May'!D$2:D$150,'Rider List'!A49) -> 0 | O49: =SUMIFS('Week 3 3rd June'!I$2:I$200,'Week 3 3rd June'!D$2:D$200,'Rider List'!A49) -> 39 | P49: =SUMIFS('Week 4 8th July'!I$2:I$200,'Week 4 8th July'!D$2:D$200,'Rider List'!A49) -> 0 | Q49: =SUMIFS('Week 5 22nd July'!I$2:I$200,'Week 5 22nd July'!D$2:D$200,'Rider List'!A49) -> 0 | R49: =SUMIFS('Week 6 29th July'!I$2:I$200,'Week 6 29th July'!D$2:D$200,'Rider List'!A49) -> 0 | T49: =SUM(M49:S49) -> 39 | W49: =SUMIFS('Week 2 20th May'!J$2:J$150,'Week 2 20th May'!D$2:D$150,'Rider List'!A49) -> 0 | X49: =SUMIFS('Week 3 3rd June'!J$2:J$150,'Week 3 3rd June'!D$2:D$150,'Rider List'!A49) -> 1 | Y49: =SUMIFS('Week 4 8th July'!J$2:J$150,'Week 4 8th July'!D$2:D$150,'Rider List'!A49) -> 0 | Z49: =SUMIFS('Week 5 22nd July'!J$2:J$150,'Week 5 22nd July'!D$2:D$150,'Rider List'!A49) -> 0 | AA49: =SUMIFS('Week 6 29th July'!J$2:J$150,'Week 6 29th July'!D$2:D$150,'Rider List'!A49) -> 0 | AC49: =SUM(V49:AB49) -> 1
A50: 49 | B50: Henry | C50: Bairstow | D50: M | E50: East Bradford CC | F50: U8 | G50: B | H50: 2B | K50: 23.3 | M50: =SUMIFS('Week 1 13th May'!I$2:I$150,'Week 1 13th May'!D$2:D$150,'Rider List'!A50) -> 0 | N50: =SUMIFS('Week 2 20th May'!I$2:I$150,'Week 2 20th May'!D$2:D$150,'Rider List'!A50) -> 0 | O50: =SUMIFS('Week 3 3rd June'!I$2:I$200,'Week 3 3rd June'!D$2:D$200,'Rider List'!A50) -> 20 | P50: =SUMIFS('Week 4 8th July'!I$2:I$200,'Week 4 8th July'!D$2:D$200,'Rider List'!A50) -> 0 | Q50: =SUMIFS('Week 5 22nd July'!I$2:I$200,'Week 5 22nd July'!D$2:D$200,'Rider List'!A50) -> 24 | R50: =SUMIFS('Week 6 29th July'!I$2:I$200,'Week 6 29th July'!D$2:D$200,'Rider List'!A50) -> 0 | T50: =SUM(M50:S50) -> 44 | W50: =SUMIFS('Week 2 20th May'!J$2:J$150,'Week 2 20th May'!D$2:D$150,'Rider List'!A50) -> 0 | X50: =SUMIFS('Week 3 3rd June'!J$2:J$150,'Week 3 3rd June'!D$2:D$150,'Rider List'!A50) -> 0 | Y50: =SUMIFS('Week 4 8th July'!J$2:J$150,'Week 4 8th July'!D$2:D$150,'Rider List'!A50) -> 0 | Z50: =SUMIFS('Week 5 22nd July'!J$2:J$150,'Week 5 22nd July'!D$2:D$150,'Rider List'!A50) -> 1 | AA50: =SUMIFS('Week 6 29th July'!J$2:J$150,'Week 6 29th July'!D$2:D$150,'Rider List'!A50) -> 0 | AC50: =SUM(V50:AB50) -> 1
A51: 50 | B51: Logan | C51: Render | D51: M | E51: West Riding Track League | F51: U8 | G51: B | H51: 4B | K51: 36.73 | M51: =SUMIFS('Week 1 13th May'!I$2:I$150,'Week 1 13th May'!D$2:D$150,'Rider List'!A51) -> 0 | N51: =SUMIFS('Week 2 20th May'!I$2:I$150,'Week 2 20th May'!D$2:D$150,'Rider List'!A51) -> 0 | O51: =SUMIFS('Week 3 3rd June'!I$2:I$200,'Week 3 3rd June'!D$2:D$200,'Rider List'!A51) -> 0 | P51: =SUMIFS('Week 4 8th July'!I$2:I$200,'Week 4 8th July'!D$2:D$200,'Rider List'!A51) -> 0 | Q51: =SUMIFS('Week 5 22nd July'!I$2:I$200,'Week 5 22nd July'!D$2:D$200,'Rider List'!A51) -> 7 | R51: =SUMIFS('Week 6 29th July'!I$2:I$200,'Week 6 29th July'!D$2:D$200,'Rider List'!A51) -> 0 | T51: =SUM(M51:S51) -> 7 | W51: =SUMIFS('Week 2 20th May'!J$2:J$150,'Week 2 20th May'!D$2:D$150,'Rider List'!A51) -> 0 | X51: =SUMIFS('Week 3 3rd June'!J$2:J$150,'Week 3 3rd June'!D$2:D$150,'Rider List'!A51) -> 0 | Y51: =SUMIFS('Week 4 8th July'!J$2:J$150,'Week 4 8th July'!D$2:D$150,'Rider List'!A51) -> 0 | Z51: =SUMIFS('Week 5 22nd July'!J$2:J$150,'Week 5 22nd July'!D$2:D$150,'Rider List'!A51) -> 1 | AA51: =SUMIFS('Week 6 29th July'!J$2:J$150,'Week 6 29th July'!D$2:D$150,'Rider List'!A51) -> 0 | AC51: =SUM(V51:AB51) -> 1
A52: 51 | B52: Barney | C52: Hobbs | D52: M | E52: West Riding Track League | F52: U8 | G52: B | H52: 4B | K52: 33.28 | M52: =SUMIFS('Week 1 13th May'!I$2:I$150,'Week 1 13th May'!D$2:D$150,'Rider List'!A52) -> 0 | N52: =SUMIFS('Week 2 20th May'!I$2:I$150,'Week 2 20th May'!D$2:D$150,'Rider List'!A52) -> 0 | O52: =SUMIFS('Week 3 3rd June'!I$2:I$200,'Week 3 3rd June'!D$2:D$200,'Rider List'!A52) -> 0 | P52: =SUMIFS('Week 4 8th July'!I$2:I$200,'Week 4 8th July'!D$2:D$200,'Rider List'!A52) -> 0 | Q52: =SUMIFS('Week 5 22nd July'!I$2:I$200,'Week 5 22nd July'!D$2:D$200,'Rider List'!A52) -> 7 | R52: =SUMIFS('Week 6 29th July'!I$2:I$200,'Week 6 29th July'!D$2:D$200,'Rider List'!A52) -> 7 | T52: =SUM(M52:S52) -> 14 | W52: =SUMIFS('Week 2 20th May'!J$2:J$150,'Week 2 20th May'!D$2:D$150,'Rider List'!A52) -> 0 | X52: =SUMIFS('Week 3 3rd June'!J$2:J$150,'Week 3 3rd June'!D$2:D$150,'Rider List'!A52) -> 0 | Y52: =SUMIFS('Week 4 8th July'!J$2:J$150,'Week 4 8th July'!D$2:D$150,'Rider List'!A52) -> 0 | Z52: =SUMIFS('Week 5 22nd July'!J$2:J$150,'Week 5 22nd July'!D$2:D$150,'Rider List'!A52) -> 2 | AA52: =SUMIFS('Week 6 29th July'!J$2:J$150,'Week 6 29th July'!D$2:D$150,'Rider List'!A52) -> 0 | AC52: =SUM(V52:AB52) -> 2
A53: 52 | B53: Ted | C53: Burbidge | D53: M | E53: West Riding Track League | F53: U8 | G53: B | H53: 4B | K53: 32.12 | M53: =SUMIFS('Week 1 13th May'!I$2:I$150,'Week 1 13th May'!D$2:D$150,'Rider List'!A53) -> 0 | N53: =SUMIFS('Week 2 20th May'!I$2:I$150,'Week 2 20th May'!D$2:D$150,'Rider List'!A53) -> 0 | O53: =SUMIFS('Week 3 3rd June'!I$2:I$200,'Week 3 3rd June'!D$2:D$200,'Rider List'!A53) -> 0 | P53: =SUMIFS('Week 4 8th July'!I$2:I$200,'Week 4 8th July'!D$2:D$200,'Rider List'!A53) -> 0 | Q53: =SUMIFS('Week 5 22nd July'!I$2:I$200,'Week 5 22nd July'!D$2:D$200,'Rider List'!A53) -> 10 | R53: =SUMIFS('Week 6 29th July'!I$2:I$200,'Week 6 29th July'!D$2:D$200,'Rider List'!A53) -> 10 | T53: =SUM(M53:S53) -> 20 | W53: =SUMIFS('Week 2 20th May'!J$2:J$150,'Week 2 20th May'!D$2:D$150,'Rider List'!A53) -> 0 | X53: =SUMIFS('Week 3 3rd June'!J$2:J$150,'Week 3 3rd June'!D$2:D$150,'Rider List'!A53) -> 0 | Y53: =SUMIFS('Week 4 8th July'!J$2:J$150,'Week 4 8th July'!D$2:D$150,'Rider List'!A53) -> 0 | Z53: =SUMIFS('Week 5 22nd July'!J$2:J$150,'Week 5 22nd July'!D$2:D$150,'Rider List'!A53) -> 3 | AA53: =SUMIFS('Week 6 29th July'!J$2:J$150,'Week 6 29th July'!D$2:D$150,'Rider List'!A53) -> 1 | AC53: =SUM(V53:AB53) -> 4
A54: 53 | B54: Jacob | C54: Crossley-Wood | D54: M | E54: West Riding Track League | F54: U8 | G54: B | K54: 41.52 | M54: =SUMIFS('Week 1 13th May'!I$2:I$150,'Week 1 13th May'!D$2:D$150,'Rider List'!A54) -> 0 | N54: =SUMIFS('Week 2 20th May'!I$2:I$150,'Week 2 20th May'!D$2:D$150,'Rider List'!A54) -> 0 | O54: =SUMIFS('Week 3 3rd June'!I$2:I$200,'Week 3 3rd June'!D$2:D$200,'Rider List'!A54) -> 0 | P54: =SUMIFS('Week 4 8th July'!I$2:I$200,'Week 4 8th July'!D$2:D$200,'Rider List'!A54) -> 0 | Q54: =SUMIFS('Week 5 22nd July'!I$2:I$200,'Week 5 22nd July'!D$2:D$200,'Rider List'!A54) -> 0 | R54: =SUMIFS('Week 6 29th July'!I$2:I$200,'Week 6 29th July'!D$2:D$200,'Rider List'!A54) -> 7 | T54: =SUM(M54:S54) -> 7 | W54: =SUMIFS('Week 2 20th May'!J$2:J$150,'Week 2 20th May'!D$2:D$150,'Rider List'!A54) -> 0 | X54: =SUMIFS('Week 3 3rd June'!J$2:J$150,'Week 3 3rd June'!D$2:D$150,'Rider List'!A54) -> 0 | Y54: =SUMIFS('Week 4 8th July'!J$2:J$150,'Week 4 8th July'!D$2:D$150,'Rider List'!A54) -> 0 | Z54: =SUMIFS('Week 5 22nd July'!J$2:J$150,'Week 5 22nd July'!D$2:D$150,'Rider List'!A54) -> 0 | AA54: =SUMIFS('Week 6 29th July'!J$2:J$150,'Week 6 29th July'!D$2:D$150,'Rider List'!A54) -> 2 | AC54: =SUM(V54:AB54) -> 2
A55: 54 | B55: Jacob | C55: Wormwell | D55: M | E55: West Riding Track League | F55: U8 | G55: B | K55: 41.34 | M55: =SUMIFS('Week 1 13th May'!I$2:I$150,'Week 1 13th May'!D$2:D$150,'Rider List'!A55) -> 0 | N55: =SUMIFS('Week 2 20th May'!I$2:I$150,'Week 2 20th May'!D$2:D$150,'Rider List'!A55) -> 0 | O55: =SUMIFS('Week 3 3rd June'!I$2:I$200,'Week 3 3rd June'!D$2:D$200,'Rider List'!A55) -> 0 | P55: =SUMIFS('Week 4 8th July'!I$2:I$200,'Week 4 8th July'!D$2:D$200,'Rider List'!A55) -> 0 | Q55: =SUMIFS('Week 5 22nd July'!I$2:I$200,'Week 5 22nd July'!D$2:D$200,'Rider List'!A55) -> 0 | R55: =SUMIFS('Week 6 29th July'!I$2:I$200,'Week 6 29th July'!D$2:D$200,'Rider List'!A55) -> 3 | T55: =SUM(M55:S55) -> 3 | W55: =SUMIFS('Week 2 20th May'!J$2:J$150,'Week 2 20th May'!D$2:D$150,'Rider List'!A55) -> 0 | X55: =SUMIFS('Week 3 3rd June'!J$2:J$150,'Week 3 3rd June'!D$2:D$150,'Rider List'!A55) -> 0 | Y55: =SUMIFS('Week 4 8th July'!J$2:J$150,'Week 4 8th July'!D$2:D$150,'Rider List'!A55) -> 0 | Z55: =SUMIFS('Week 5 22nd July'!J$2:J$150,'Week 5 22nd July'!D$2:D$150,'Rider List'!A55) -> 0 | AA55: =SUMIFS('Week 6 29th July'!J$2:J$150,'Week 6 29th July'!D$2:D$150,'Rider List'!A55) -> 0 | AC55: =SUM(V55:AB55) -> 0

Sheet Week 1 13th May
A1: Race No. | B1: Event Name | C1: Position | D1: Rider No | E1: Name | F1: Surname | G1: Club | H1: Age | I1: Points | J1: Handicap Points
A2: 2 | B2: Freewheel U8 Girls 1 Lap Sprint | C2: 1 | D2: 28 | E2: Mary | F2: Venning | G2: Leeds Mercury Cycling Club | H2: U8 | I2: 12
C3: 2 | D3: 5 | E3: Florence | F3: Bell | G3: West Riding Track League | H3: U8 | I3: 11
C4: 3 | D4: 14 | E4: Holly | F4: Hobbs | G4: West Riding Track League | H4: U8 | I4: 10
C5: 4 | D5: 12 | E5: Dori | F5: Hindle | G5: Shibden Cycling Club | H5: U8 | I5: 9
C6: 5 | D6: 34 | E6: Arpita | F6: Kaulgud | H6: U8 | I6: 8
A8: 3 | B8: Freewheel U8 Boys 1 Lap Sprint | C8: 1 | D8: 11 | E8: Thomas | F8: Hetherington | G8: Leeds Mercury Cycling Club | H8: U8 | I8: 12
C9: 2 | D9: 38 | E9: George | F9: Charlton | G9: Otley CC | H9: U8 | I9: 11
C10: 3 | D10: 41 | E10: Elliot | F10: Islip | H10: U8 | I10: 10
C11: 4 | D11: 24 | E11: Ewan | F11: Plumb | G11: Huddersfield Star Wheelers | H11: U8 | I11: 9
C12: 5 | D12: 32 | E12: Billy | F12: Wise | G12: Northern Outlaws | H12: U8 | I12: 8
C13: 6 | D13: 4 | E13: Bertie | F13: Bell | G13: Leeds Mercury Cycling Club | H13: U8 | I13: 7
C14: 7 | D14: 26 | E14: Oliver | F14: Shimmin | G14: Albarosa Cycling Club | H14: U8
C15: 8 | D15: 29 | E15: Arthur | F15: Venning | G15: Leeds Mercury Cycling Club | H15: U8
A17: 4 | B17: Freewheel U10 Girls 1 Lap Sprint | C17: 1 | D17: 2 | E17: Isla | F17: Aylward | G17: Otley CC | H17: U10 | I17: 18
C18: 2 | D18: 16 | E18: Amy | F18: Hodgkins | G18: Otley CC | H18: U10 | I18: 17
C19: 3 | D19: 37 | E19: Ruth | F19: Friend | H19: U10 | I19: 16
C20: 4 | D20: 44 | E20: Olivia | F20: Coldwell | G20: Bramley Wheelers | H20: U10 | I20: 15
A22: 5 | B22: Freewheel U10 Boys 1 Lap Sprint | C22: 1 | D22: 20 | E22: Daniel | F22: Middlebrooke | G22: Otley CC | H22: U10 | I22: 18
C23: 2 | D23: 33 | E23: Jacob | F23: Rook | G23: East Bradford CC | H23: U10 | I23: 17
C24: 3 | D24: 25 | E24: Henry | F24: Shimmin | G24: Albarosa Cycling Club | H24: U10 | I24: 16
C25: 4 | D25: 8 | E25: Vaughn | F25: Fitzgerald | G25: Bronte Tykes Cycling Club | H25: U10 | I25: 15
C26: 5 | D26: 7 | E26: Ben | F26: Crowther | G26: Leeds Mercury Cycling Club | H26: U10 | I26: 14
C27: 6 | D27: 19 | E27: Flynn | F27: Lambley | G27: Huddersfield Star Wheelers | H27: U10 | I27: 13
C28: 7 | D28: 23 | E28: Sam | F28: Omar | G28: West Riding Track League | H28: U10
A30: 6 | B30: Freewheel U12 Girls 1 Lap Sprint | C30: 1 | D30: 21 | E30: Abigail | F30: Miller | G30: Clifton CC | H30: U12 | I30: 24
C31: 2 | D31: 6 | E31: Katherine | F31: Bucknell | G31: Leeds Mercury Cycling Club | H31: U12 | I31: 23
C32: 3 | D32: 31 | E32: Iona | F32: Jackson | G32: Albarosa Cycling Club | H32: U12 | I32: 22
C33: 4 | D33: 43 | E33: Chloe | F33: Coldwell | G33: Bramley Wheelers | H33: U12 | I33: 21
A35: 7 | B35: Freewheel U12 Boys 1 Lap Sprint | C35: 1 | D35: 35 | E35: Joshua | F35: Daly | G35: Shibden Cycling Club | H35: U10 | I35: 24
C36: 2 | D36: 22 | E36: Jody | F36: Mills | G36: Huddersfield Star Wheelers | H36: U12 | I36: 23
C37: 3 | D37: 13 | E37: Ryden | F37: Hindle | G37: Shibden Cycling Club | H37: U12 | I37: 22
C38: 4 | D38: 40 | E38: Mark | F38: Ketteringham | G38: Harrogate Nova CC | H38: U12 | I38: 21
A40: 8 | B40: Freewheel U8 Girls 1 Lap Scratch | C40: 1 | D40: 28 | E40: Mary | F40: Venning | G40: Leeds Mercury Cycling Club | H40: U8 | I40: 12
C41: 2 | D41: 5 | E41: Florence | F41: Bell | G41: West Riding Track League | H41: U8 | I41: 11
C42: 3 | D42: 14 | E42: Holly | F42: Hobbs | G42: West Riding Track League | H42: U8 | I42: 10
C43: 4 | D43: 34 | E43: Arpita | F43: Kaulgud | H43: U8 | I43: 9
C44: 5 | D44: 12 | E44: Dori | F44: Hindle | G44: Shibden Cycling Club | H44: U8 | I44: 8
A46: 9 | B46: Freewheel U8 Boys 1 Lap Scratch | C46: 1 | D46: 11 | E46: Thomas | F46: Hetherington | G46: Leeds Mercury Cycling Club | H46: U8 | I46: 12
C47: 2 | D47: 4 | E47: Bertie | F47: Bell | G47: Leeds Mercury Cycling Club | H47: U8 | I47: 11
C48: 3 | D48: 41 | E48: Elliot | F48: Islip | H48: U8 | I48: 10
C49: 4 | D49: 38 | E49: George | F49: Charlton | G49: Otley CC | H49: U8 | I49: 9
C50: 5 | D50: 24 | E50: Ewan | F50: Plumb | G50: Huddersfield Star Wheelers | H50: U8 | I50: 8
C51: 6 | D51: 32 | E51: Billy | F51: Wise | G51: Northern Outlaws | H51: U8 | I51: 7
C52: 7 | D52: 26 | E52: Oliver | F52: Shimmin | G52: Albarosa Cycling Club | H52: U8
C53: 8 | D53: 29 | E53: Arthur | F53: Venning | G53: Leeds Mercury Cycling Club | H53: U8
A55: 12 | B55: Freewheel U10 Girls 2 Lap Scratch | C55: 1 | D55: 2 | E55: Isla | F55: Aylward | G55: Otley CC | H55: U10 | I55: 18
C56: 2 | D56: 16 | E56: Amy | F56: Hodgkins | G56: Otley CC | H56: U10 | I56: 17
C57: 3 | D57: 37 | E57: Ruth | F57: Friend | H57: U10 | I57: 16
A59: 13 | B59: Freewheel U10 Boys 2 Lap Scratch | C59: 1 | D59: 20 | E59: Daniel | F59: Middlebrooke | G59: Otley CC | H59: U10 | I59: 18
C60: 2 | D60: 25 | E60: Henry | F60: Shimmin | G60: Albarosa Cycling Club | H60: U10 | I60: 17
C61: 3 | D61: 33 | E61: Jacob | F61: Rook | G61: East Bradford CC | H61: U10 | I61: 16
C62: 4 | D62: 8 | E62: Vaughn | F62: Fitzgerald | G62: Bronte Tykes Cycling Club | H62: U10 | I62: 15
C63: 5 | D63: 7 | E63: Ben | F63: Crowther | G63: Leeds Mercury Cycling Club | H63: U10 | I63: 14
C64: 6 | D64: 19 | E64: Flynn | F64: Lambley | G64: Huddersfield Star Wheelers | H64: U10 | I64: 13
A66: 14 | B66: Freewheel U12 Girls 3 Lap Scratch | C66: 1 | D66: 21 | E66: Abigail | F66: Miller | G66: Clifton CC | H66: U12 | I66: 24
C67: 2 | D67: 6 | E67: Katherine | F67: Bucknell | G67: Leeds Mercury Cycling Club | H67: U12 | I67: 23
C68: 3 | D68: 31 | E68: Iona | F68: Jackson | G68: Albarosa Cycling Club | H68: U12 | I68: 22
A70: 15 | B70: Freewheel U12 Boys 3 Lap Scratch | C70: 1 | D70: 35 | E70: Joshua | F70: Daly | G70: Shibden Cycling Club | H70: U10 | I70: 24
C71: 2 | D71: 18 | E71: Billy | F71: Ladle | G71: West Riding Track League | H71: U10 | I71: 23
C72: 3 | D72: 40 | E72: Mark | F72: Ketteringham | G72: Harrogate Nova CC | H72: U12 | I72: 22
C73: 4 | D73: 30 | E73: Jack | F73: Wilks | G73: Otley CC | H73: U12 | I73: 21
C74: 5 | D74: 22 | E74: Jody | F74: Mills | G74: Huddersfield Star Wheelers | H74: U12 | I74: 20
C75: 6 | D75: 9 | E75: Oscar | F75: Hall | G75: Otley CC | H75: U12 | I75: 19
C76: 7 | D76: 13 | E76: Ryden | F76: Hindle | G76: Shibden Cycling Club | H76: U12
C77: 8 | D77: 15 | E77: Alex | F77: Hodgkins | G77: Otley CC | H77: U12
C78: 9 | D78: 1 | E78: Ruairdh | F78: Aylward | G78: Otley CC | H78: U12
C79: 10 | D79: 36 | E79: Joseph | F79: Friend | H79: U12
C80: 11 | D80: 42 | E80: Lennart | F80: Rost | G80: Leeds Mercury Cycling Club | H80: U12
C81: 12 | D81: 45 | E81: Cameron | F81: Corrington | G81: Leeds Mercury Cycling Club | H81: U12
A83: 20 | B83: Freewheel U12 Girls 2 Lap Scratch | C83: 1 | D83: 21 | E83: Abigail | F83: Miller | G83: Clifton CC | H83: U12 | I83: 24
C84: 2 | D84: 6 | E84: Katherine | F84: Bucknell | G84: Leeds Mercury Cycling Club | H84: U12 | I84: 23
A86: 21 | B86: Freewheel U12 Boys 2 Lap Scratch | C86: 1 | D86: 13 | E86: Ryden | F86: Hindle | G86: Shibden Cycling Club | H86: U12 | I86: 24
C87: 2 | D87: 35 | E87: Joshua | F87: Daly | G87: Shibden Cycling Club | H87: U10 | I87: 23
C88: 3 | D88: 22 | E88: Jody | F88: Mills | G88: Huddersfield Star Wheelers | H88: U12 | I88: 22
C89: 4 | D89: 30 | E89: Jack | F89: Wilks | G89: Otley CC | H89: U12 | I89: 21
C90: 5 | D90: 40 | E90: Mark | F90: Ketteringham | G90: Harrogate Nova CC | H90: U12 | I90: 20
C91: 6 | D91: 18 | E91: Billy | F91: Ladle | G91: West Riding Track League | H91: U10 | I91: 19
C92: 7 | D92: 15 | E92: Alex | F92: Hodgkins | G92: Otley CC | H92: U12
C93: 8 | D93: 9 | E93: Oscar | F93: Hall | G93: Otley CC | H93: U12
C94: 9 | D94: 1 | E94: Ruairdh | F94: Aylward | G94: Otley CC | H94: U12
C95: 10 | D95: 45 | E95: Cameron | F95: Corrington | G95: Leeds Mercury Cycling Club | H95: U12

Sheet Week 2 20th May
A1: Race No. | B1: Event Name | C1: Position | D1: Rider No | E1: Name | F1: Surname | G1: Club | H1: Age | I1: Points | J1: Handicap Points
A2: 2 | B2: Group 4 Boys 1 Lap Scratch | C2: 1 | D2: 41 | E2: Elliot | F2: Islip | H2: U8 | I2: 6
C3: 2 | D3: 26 | E3: Oliver | F3: Shimmin | G3: Albarosa Cycling Club | H3: U8 | I3: 5
C4: 3 | D4: 29 | E4: Arthur | F4: Venning | G4: Leeds Mercury Cycling Club | H4: U8 | I4: 4
A6: 3 | B6: Group 2 Girls 1 Lap Scratch | C6: 1 | D6: 37 | E6: Ruth | F6: Friend | H6: U10 | I6: 18
C7: 2 | D7: 14 | E7: Holly | F7: Hobbs | G7: West Riding Track League | H7: U8 | I7: 17
C8: 3 | D8: 44 | E8: Olivia | F8: Coldwell | G8: Bramley Wheelers | H8: U10 | I8: 16
C9: 4 | D9: 34 | E9: Arpita | F9: Kaulgud | H9: U8 | I9: 15
A11: 4 | B11: Group 3 Boys 2 Lap Scratch | C11: 1 | D11: 11 | E11: Thomas | F11: Hetherington | G11: Leeds Mercury Cycling Club | H11: U8 | I11: 12
C12: 2 | D12: 38 | E12: George | F12: Charlton | G12: Otley CC | H12: U8 | I12: 11
C13: 3 | D13: 4 | E13: Bertie | F13: Bell | G13: Leeds Mercury Cycling Club | H13: U8 | I13: 10
C14: 4 | D14: 7 | E14: Ben | F14: Crowther | G14: Leeds Mercury Cycling Club | H14: U10 | I14: 9
C15: 5 | D15: 19 | E15: Flynn | F15: Lambley | G15: Huddersfield Star Wheelers | H15: U10 | I15: 8
C16: 6 | D16: 24 | E16: Ewan | F16: Plumb | G16: Huddersfield Star Wheelers | H16: U8 | I16: 7
A18: 5 | B18: Group 2 Boys 2 Lap Scratch | C18: 1 | D18: 42 | E18: Lennart | F18: Rost | G18: Leeds Mercury Cycling Club | H18: U12 | I18: 18
C19: 2 | D19: 36 | E19: Joseph | F19: Friend | H19: U12 | I19: 17
C20: 3 | D20: 25 | E20: Henry | F20: Shimmin | G20: Albarosa Cycling Club | H20: U10 | I20: 16
C21: 4 | D21: 8 | E21: Vaughn | F21: Fitzgerald | G21: Bronte Tykes Cycling Club | H21: U10 | I21: 15
A23: 6 | B23: Group 1 Boys 2 Lap Scratch | C23: 1 | D23: 40 | E23: Mark | F23: Ketteringham | G23: Harrogate Nova CC | H23: U12 | I23: 24
C24: 2 | D24: 22 | E24: Jody | F24: Mills | G24: Huddersfield Star Wheelers | H24: U12 | I24: 23
C25: 3 | D25: 15 | E25: Alex | F25: Hodgkins | G25: Otley CC | H25: U12 | I25: 22
C26: 4 | D26: 30 | E26: Jack | F26: Wilks | G26: Otley CC | H26: U12 | I26: 21
C27: 5 | D27: 18 | E27: Billy | F27: Ladle | G27: West Riding Track League | H27: U10 | I27: 20
C28: 6 | D28: 9 | E28: Oscar | F28: Hall | G28: Otley CC | H28: U12 | I28: 19
C29: 7 | D29: 35 | E29: Joshua | F29: Daly | G29: Shibden Cycling Club | H29: U10
C30: 8 | D30: 20 | E30: Daniel | F30: Middlebrooke | G30: Otley CC | H30: U10
C31: 9 | D31: 1 | E31: Ruairdh | F31: Aylward | G31: Otley CC | H31: U12
C32: 10 | D32: 17 | E32: Theo | F32: Hutter | G32: Leeds Mercury Cycling Club | H32: U12
C33: 11 | D33: 33 | E33: Jacob | F33: Rook | G33: East Bradford CC | H33: U10
C34: 12 | D34: 46 | E34: Joshua | F34: Turton | G34: East Bradford CC | H34: U10
A36: 7 | B36: Group 1 Girls 2 Lap Scratch | C36: 1 | D36: 21 | E36: Abigail | F36: Miller | G36: Clifton CC | H36: U12 | I36: 24
C37: 2 | D37: 6 | E37: Katherine | F37: Bucknell | G37: Leeds Mercury Cycling Club | H37: U12 | I37: 23
C38: 3 | D38: 2 | E38: Isla | F38: Aylward | G38: Otley CC | H38: U10 | I38: 22
C39: 4 | D39: 31 | E39: Iona | F39: Jackson | G39: Albarosa Cycling Club | H39: U12 | I39: 21
C40: 5 | D40: 3 | E40: Hannah | F40: Back | G40: Leeds Mercury Cycling Club | H40: U12 | I40: 20
C41: 6 | D41: 16 | E41: Amy | F41: Hodgkins | G41: Otley CC | H41: U10 | I41: 19
C42: 7 | D42: 28 | E42: Mary | F42: Venning | G42: Leeds Mercury Cycling Club | H42: U8
C43: 8 | D43: 5 | E43: Florence | F43: Bell | G43: West Riding Track League | H43: U8
A45: 8 | B45: Group 4 Boys 1 Lap Sprint | C45: 1 | D45: 41 | E45: Elliot | F45: Islip | H45: U8 | I45: 6
C46: 2 | D46: 26 | E46: Oliver | F46: Shimmin | G46: Albarosa Cycling Club | H46: U8 | I46: 5
C47: 3 | D47: 29 | E47: Arthur | F47: Venning | G47: Leeds Mercury Cycling Club | H47: U8 | I47: 4
A49: 9 | B49: Group 2 Girls 1 Lap Sprint | C49: 1 | D49: 37 | E49: Ruth | F49: Friend | H49: U10 | I49: 18
C50: 2 | D50: 14 | E50: Holly | F50: Hobbs | G50: West Riding Track League | H50: U8 | I50: 17
C51: 3 | D51: 44 | E51: Olivia | F51: Coldwell | G51: Bramley Wheelers | H51: U10 | I51: 16
C52: 4 | D52: 34 | E52: Arpita | F52: Kaulgud | H52: U8 | I52: 15
A54: 10 | B54: Group 3 Boys 1 Lap Sprint | C54: 1 | D54: 7 | E54: Ben | F54: Crowther | G54: Leeds Mercury Cycling Club | H54: U10 | I54: 12
C55: 2 | D55: 11 | E55: Thomas | F55: Hetherington | G55: Leeds Mercury Cycling Club | H55: U8 | I55: 11
C56: 3 | D56: 24 | E56: Ewan | F56: Plumb | G56: Huddersfield Star Wheelers | H56: U8 | I56: 10
C57: 4 | D57: 4 | E57: Bertie | F57: Bell | G57: Leeds Mercury Cycling Club | H57: U8 | I57: 9
C58: 5 | D58: 19 | E58: Flynn | F58: Lambley | G58: Huddersfield Star Wheelers | H58: U10 | I58: 8
C59: 6 | D59: 38 | E59: George | F59: Charlton | G59: Otley CC | H59: U8 | I59: 7
A61: 11 | B61: Group 2 Boys 1 Lap Sprint | C61: 1 | D61: 1 | E61: Ruairdh | F61: Aylward | G61: Otley CC | H61: U12 | I61: 18
C62: 2 | D62: 46 | E62: Joshua | F62: Turton | G62: East Bradford CC | H62: U10 | I62: 17
C63: 3 | D63: 20 | E63: Daniel | F63: Middlebrooke | G63: Otley CC | H63: U10 | I63: 16
C64: 4 | D64: 33 | E64: Jacob | F64: Rook | G64: East Bradford CC | H64: U10 | I64: 15
C65: 5 | D65: 17 | E65: Theo | F65: Hutter | G65: Leeds Mercury Cycling Club | H65: U12 | I65: 14
C66: 6 | D66: 25 | E66: Henry | F66: Shimmin | G66: Albarosa Cycling Club | H66: U10 | I66: 13
C67: 7 | D67: 36 | E67: Joseph | F67: Friend | H67: U12
C68: 8 | D68: 8 | E68: Vaughn | F68: Fitzgerald | G68: Bronte Tykes Cycling Club | H68: U10
C69: 9 | D69: 42 | E69: Lennart | F69: Rost | G69: Leeds Mercury Cycling Club | H69: U12
A71: 12 | B71: Group 1 Boys 1 Lap Sprint | C71: 1 | D71: 40 | E71: Mark | F71: Ketteringham | G71: Harrogate Nova CC | H71: U12 | I71: 24
C72: 2 | D72: 30 | E72: Jack | F72: Wilks | G72: Otley CC | H72: U12 | I72: 23
C73: 3 | D73: 18 | E73: Billy | F73: Ladle | G73: West Riding Track League | H73: U10 | I73: 22
C74: 4 | D74: 35 | E74: Joshua | F74: Daly | G74: Shibden Cycling Club | H74: U10 | I74: 21
C75: 5 | D75: 15 | E75: Alex | F75: Hodgkins | G75: Otley CC | H75: U12 | I75: 20
C76: 6 | D76: 22 | E76: Jody | F76: Mills | G76: Huddersfield Star Wheelers | H76: U12 | I76: 19
C77: 7 | D77: 9 | E77: Oscar | F77: Hall | G77: Otley CC | H77: U12
A79: 13 | B79: Group 1 Girls 1 Lap Scratch | C79: 1 | D79: 21 | E79: Abigail | F79: Miller | G79: Clifton CC | H79: U12 | I79: 24
C80: 2 | D80: 31 | E80: Iona | F80: Jackson | G80: Albarosa Cycling Club | H80: U12 | I80: 23
C81: 3 | D81: 6 | E81: Katherine | F81: Bucknell | G81: Leeds Mercury Cycling Club | H81: U12 | I81: 22
C82: 4 | D82: 2 | E82: Isla | F82: Aylward | G82: Otley CC | H82: U10 | I82: 21
C83: 5 | D83: 3 | E83: Hannah | F83: Back | G83: Leeds Mercury Cycling Club | H83: U12 | I83: 20
C84: 6 | D84: 16 | E84: Amy | F84: Hodgkins | G84: Otley CC | H84: U10 | I84: 19
C85: 7 | D85: 28 | E85: Mary | F85: Venning | G85: Leeds Mercury Cycling Club | H85: U8
C86: 8 | D86: 5 | E86: Florence | F86: Bell | G86: West Riding Track League | H86: U8
A88: 16 | B88: Group 3 & 4 Boys 500m Handicap | C88: 1 | D88: 41 | E88: Elliot | F88: Islip | H88: U8 | J88: 5
C89: 2 | D89: 29 | E89: Arthur | F89: Venning | G89: Leeds Mercury Cycling Club | H89: U8 | J89: 3
C90: 3 | D90: 26 | E90: Oliver | F90: Shimmin | G90: Albarosa Cycling Club | H90: U8 | J90: 2
C91: 4 | D91: 4 | E91: Bertie | F91: Bell | G91: Leeds Mercury Cycling Club | H91: U8 | J91: 1
C92: 5 | D92: 38 | E92: George | F92: Charlton | G92: Otley CC | H92: U8
C93: 6 | D93: 11 | E93: Thomas | F93: Hetherington | G93: Leeds Mercury Cycling Club | H93: U8
C94: 7 | D94: 7 | E94: Ben | F94: Crowther | G94: Leeds Mercury Cycling Club | H94: U10
A96: 17 | B96: Group 1 & 2 Boys 500m Handicap | C96: 1 | D96: 42 | E96: Lennart | F96: Rost | G96: Leeds Mercury Cycling Club | H96: U12 | J96: 5
C97: 2 | D97: 36 | E97: Joseph | F97: Friend | H97: U12 | J97: 3
C98: 3 | D98: 40 | E98: Mark | F98: Ketteringham | G98: Harrogate Nova CC | H98: U12 | J98: 2
C99: 4 | D99: 35 | E99: Joshua | F99: Daly | G99: Shibden Cycling Club | H99: U10 | J99: 1
C100: 5 | D100: 30 | E100: Jack | F100: Wilks | G100: Otley CC | H100: U12
C101: 6 | D101: 25 | E101: Henry | F101: Shimmin | G101: Albarosa Cycling Club | H101: U10
C102: 7 | D102: 15 | E102: Alex | F102: Hodgkins | G102: Otley CC | H102: U12
C103: 8 | D103: 1 | E103: Ruairdh | F103: Aylward | G103: Otley CC | H103: U12
A105: 17A | B105: Group 3 & 4 Boys 500m Handicap | C105: 1 | D105: 19 | E105: Flynn | F105: Lambley | G105: Huddersfield Star Wheelers | H105: U10 | J105: 5
B106: (Extra Handicap Race) | C106: 2 | D106: 24 | E106: Ewan | F106: Plumb | G106: Huddersfield Star Wheelers | H106: U8 | J106: 3
A108: 18 | B108: Group 1 & 2 Girls 500m Handicap | C108: 1 | D108: 6 | E108: Katherine | F108: Bucknell | G108: Leeds Mercury Cycling Club | H108: U12 | J108: 5
C109: 2 | D109: 28 | E109: Mary | F109: Venning | G109: Leeds Mercury Cycling Club | H109: U8 | J109: 3
C110: 3 | D110: 44 | E110: Olivia | F110: Coldwell | G110: Bramley Wheelers | H110: U10 | J110: 2
C111: 4 | D111: 5 | E111: Florence | F111: Bell | G111: West Riding Track League | H111: U8 | J111: 1
C112: 5 | D112: 14 | E112: Holly | F112: Hobbs | G112: West Riding Track League | H112: U8
C113: 6 | D113: 31 | E113: Iona | F113: Jackson | G113: Albarosa Cycling Club | H113: U12
C114: 7 | D114: 37 | E114: Ruth | F114: Friend | H114: U10
C115: 8 | D115: 3 | E115: Hannah | F115: Back | G115: Leeds Mercury Cycling Club | H115: U12
...

Sheet Week 3 3rd June
A1: Race No. | B1: Event Name | C1: Position | D1: Rider No | E1: Name | F1: Surname | G1: Club | H1: Age | I1: Points | J1: Handicap Points
A2: 2 | B2: Group 4 Boys 1 Lap Scratch | C2: 1 | D2: 26 | E2: Oliver | F2: Shimmin | G2: Albarosa Cycling Club | H2: U8 | I2: 6
C3: 2 | D3: 47 | E3: Jack | F3: Wormwell | H3: U8 | I3: 5
C4: 3 | D4: 29 | E4: Arthur | F4: Venning | G4: Leeds Mercury Cycling Club | H4: U8 | I4: 4
A6: 3 | B6: Group 2 Girls 1 Lap Scratch | C6: 1 | D6: 37 | E6: Ruth | F6: Friend | H6: U10 | I6: 18
C7: 2 | D7: 28 | E7: Mary | F7: Venning | G7: Leeds Mercury Cycling Club | H7: U8 | I7: 17
C8: 3 | D8: 5 | E8: Florence | F8: Bell | G8: West Riding Track League | H8: U8 | I8: 16
C9: 4 | D9: 14 | E9: Holly | F9: Hobbs | G9: West Riding Track League | H9: U8 | I9: 15
C10: 5 | D10: 34 | E10: Arpita | F10: Kaulgud | H10: U8 | I10: 14
C11: 6 | D11: 12 | E11: Dori | F11: Hindle | G11: Shibden Cycling Club | H11: U8 | I11: 13
A13: 4 | B13: Group 3 Boys 2 Lap Scratch | C13: 1 | D13: 48 | E13: Arthur | F13: Bairstow | G13: East Bradford CC | H13: U8 | I13: 12
C14: 2 | D14: 49 | E14: Henry | F14: Bairstow | G14: East Bradford CC | H14: U8 | I14: 11
C15: 3 | D15: 11 | E15: Thomas | F15: Hetherington | G15: Leeds Mercury Cycling Club | H15: U8 | I15: 10
C16: 4 | D16: 7 | E16: Ben | F16: Crowther | G16: Leeds Mercury Cycling Club | H16: U10 | I16: 9
C17: 5 | D17: 38 | E17: George | F17: Charlton | G17: Otley CC | H17: U8 | I17: 8
C18: 6 | D18: 19 | E18: Flynn | F18: Lambley | G18: Huddersfield Star Wheelers | H18: U10 | I18: 7
C19: 7 | D19: 24 | E19: Ewan | F19: Plumb | G19: Huddersfield Star Wheelers | H19: U8
C20: 8 | D20: 4 | E20: Bertie | F20: Bell | G20: Leeds Mercury Cycling Club | H20: U8
A22: 5 | B22: Group 2 Boys 2 Lap Scratch | C22: 1 | D22: 20 | E22: Daniel | F22: Middlebrooke | G22: Otley CC | H22: U10 | I22: 18
C23: 2 | D23: 1 | E23: Ruairdh | F23: Aylward | G23: Otley CC | H23: U12 | I23: 17
C24: 3 | D24: 46 | E24: Joshua | F24: Turton | G24: East Bradford CC | H24: U10 | I24: 16
C25: 4 | D25: 33 | E25: Jacob | F25: Rook | G25: East Bradford CC | H25: U10 | I25: 15
C26: 5 | D26: 36 | E26: Joseph | F26: Friend | H26: U12 | I26: 14
C27: 6 | D27: 48 | E27: Arthur | F27: Bairstow | G27: East Bradford CC | H27: U8 | I27: 13
C28: 7 | D28: 17 | E28: Theo | F28: Hutter | G28: Leeds Mercury Cycling Club | H28: U12
C29: 8 | D29: 25 | E29: Henry | F29: Shimmin | G29: Albarosa Cycling Club | H29: U10
C30: 9 | D30: 49 | E30: Henry | F30: Bairstow | G30: East Bradford CC | H30: U8
A32: 6 | B32: Group 1 Boys 2 Lap Scratch | C32: 1 | D32: 40 | E32: Mark | F32: Ketteringham | G32: Harrogate Nova CC | H32: U12 | I32: 24
C33: 2 | D33: 18 | E33: Billy | F33: Ladle | G33: West Riding Track League | H33: U10 | I33: 23
C34: 3 | D34: 15 | E34: Alex | F34: Hodgkins | G34: Otley CC | H34: U12 | I34: 22
C35: 4 | D35: 35 | E35: Joshua | F35: Daly | G35: Shibden Cycling Club | H35: U10 | I35: 21
C36: 5 | D36: 9 | E36: Oscar | F36: Hall | G36: Otley CC | H36: U12 | I36: 20
C37: 6 | D37: 30 | E37: Jack | F37: Wilks | G37: Otley CC | H37: U12 | I37: 19
C38: 7 | D38: 22 | E38: Jody | F38: Mills | G38: Huddersfield Star Wheelers | H38: U12
C39: 8 | D39: 13 | E39: Ryden | F39: Hindle | G39: Shibden Cycling Club | H39: U12
A41: 7 | B41: Group 1 Girls 2 Lap Scratch | C41: 1 | D41: 21 | E41: Abigail | F41: Miller | G41: Clifton CC | H41: U12 | I41: 24
C42: 2 | D42: 6 | E42: Katherine | F42: Bucknell | G42: Leeds Mercury Cycling Club | H42: U12 | I42: 23
C43: 3 | D43: 31 | E43: Iona | F43: Jackson | G43: Albarosa Cycling Club | H43: U12 | I43: 22
C44: 4 | D44: 3 | E44: Hannah | F44: Back | G44: Leeds Mercury Cycling Club | H44: U12 | I44: 21
C45: 5 | D45: 2 | E45: Isla | F45: Aylward | G45: Otley CC | H45: U10 | I45: 20
C46: 6 | D46: 16 | E46: Amy | F46: Hodgkins | G46: Otley CC | H46: U10 | I46: 19
A48: 8 | B48: Group 4 Boys 1 Lap Sprint | C48: 1 | D48: 26 | E48: Oliver | F48: Shimmin | G48: Albarosa Cycling Club | H48: U8 | I48: 6
C49: 2 | D49: 47 | E49: Jack | F49: Wormwell | H49: U8 | I49: 5
C50: 3 | D50: 29 | E50: Arthur | F50: Venning | G50: Leeds Mercury Cycling Club | H50: U8 | I50: 4
A52: 9 | B52: Group 2 Girls 1 Lap Sprint | C52: 1 | D52: 37 | E52: Ruth | F52: Friend | H52: U10 | I52: 18
C53: 2 | D53: 28 | E53: Mary | F53: Venning | G53: Leeds Mercury Cycling Club | H53: U8 | I53: 17
C54: 3 | D54: 5 | E54: Florence | F54: Bell | G54: West Riding Track League | H54: U8 | I54: 16
C55: 4 | D55: 14 | E55: Holly | F55: Hobbs | G55: West Riding Track League | H55: U8 | I55: 15
C56: 5 | D56: 34 | E56: Arpita | F56: Kaulgud | H56: U8 | I56: 14
C57: 6 | D57: 12 | E57: Dori | F57: Hindle | G57: Shibden Cycling Club | H57: U8 | I57: 13
A59: 10 | B59: Group 3 Boys 1 Lap Sprint | C59: 1 | D59: 7 | E59: Ben | F59: Crowther | G59: Leeds Mercury Cycling Club | H59: U10 | I59: 12
C60: 2 | D60: 11 | E60: Thomas | F60: Hetherington | G60: Leeds Mercury Cycling Club | H60: U8 | I60: 11
C61: 3 | D61: 24 | E61: Ewan | F61: Plumb | G61: Huddersfield Star Wheelers | H61: U8 | I61: 10
C62: 4 | D62: 49 | E62: Henry | F62: Bairstow | G62: East Bradford CC | H62: U8 | I62: 9
C63: 5 | D63: 19 | E63: Flynn | F63: Lambley | G63: Huddersfield Star Wheelers | H63: U10 | I63: 8
C64: 6 | D64: 4 | E64: Bertie | F64: Bell | G64: Leeds Mercury Cycling Club | H64: U8 | I64: 7
C65: 7 | D65: 38 | E65: George | F65: Charlton | G65: Otley CC | H65: U8
A67: 11 | B67: Group 2 Boys 1 Lap Sprint | C67: 1 | D67: 1 | E67: Ruairdh | F67: Aylward | G67: Otley CC | H67: U12 | I67: 18
C68: 2 | D68: 33 | E68: Jacob | F68: Rook | G68: East Bradford CC | H68: U10 | I68: 17
C69: 3 | D69: 46 | E69: Joshua | F69: Turton | G69: East Bradford CC | H69: U10 | I69: 16
C70: 4 | D70: 20 | E70: Daniel | F70: Middlebrooke | G70: Otley CC | H70: U10 | I70: 15
C71: 5 | D71: 48 | E71: Arthur | F71: Bairstow | G71: East Bradford CC | H71: U8 | I71: 14
C72: 6 | D72: 25 | E72: Henry | F72: Shimmin | G72: Albarosa Cycling Club | H72: U10 | I72: 13
C73: 7 | D73: 17 | E73: Theo | F73: Hutter | G73: Leeds Mercury Cycling Club | H73: U12
C74: 8 | D74: 36 | E74: Joseph | F74: Friend | H74: U12
A76: 12 | B76: Group 1 Boys 1 Lap Sprint | C76: 1 | D76: 13 | E76: Ryden | F76: Hindle | G76: Shibden Cycling Club | H76: U12 | I76: 24
C77: 2 | D77: 40 | E77: Mark | F77: Ketteringham | G77: Harrogate Nova CC | H77: U12 | I77: 23
C78: 3 | D78: 18 | E78: Billy | F78: Ladle | G78: West Riding Track League | H78: U10 | I78: 22
C79: 4 | D79: 15 | E79: Alex | F79: Hodgkins | G79: Otley CC | H79: U12 | I79: 21
C80: 5 | D80: 30 | E80: Jack | F80: Wilks | G80: Otley CC | H80: U12 | I80: 20
C81: 6 | D81: 22 | E81: Jody | F81: Mills | G81: Huddersfield Star Wheelers | H81: U12 | I81: 19
C82: 7 | D82: 35 | E82: Joshua | F82: Daly | G82: Shibden Cycling Club | H82: U10
C83: 8 | D83: 9 | E83: Oscar | F83: Hall | G83: Otley CC | H83: U12
A85: 13 | B85: Group 1 Girls 1 Lap Scratch | C85: 1 | D85: 21 | E85: Abigail | F85: Miller | G85: Clifton CC | H85: U12 | I85: 24
C86: 2 | D86: 6 | E86: Katherine | F86: Bucknell | G86: Leeds Mercury Cycling Club | H86: U12 | I86: 23
C87: 3 | D87: 31 | E87: Iona | F87: Jackson | G87: Albarosa Cycling Club | H87: U12 | I87: 22
C88: 4 | D88: 3 | E88: Hannah | F88: Back | G88: Leeds Mercury Cycling Club | H88: U12 | I88: 21
C89: 5 | D89: 2 | E89: Isla | F89: Aylward | G89: Otley CC | H89: U10 | I89: 20
C90: 6 | D90: 16 | E90: Amy | F90: Hodgkins | G90: Otley CC | H90: U10 | I90: 19
A92: 16 | B92: Group 4 Boys 500m Handicap | C92: 1 | D92: 29 | E92: Arthur | F92: Venning | G92: Leeds Mercury Cycling Club | H92: U8 | J92: 5
C93: 2 | D93: 26 | E93: Oliver | F93: Shimmin | G93: Albarosa Cycling Club | H93: U8 | J93: 3
C94: 3 | D94: 47 | E94: Jack | F94: Wormwell | H94: U8 | J94: 2
A96: 17 | B96: Group 3 Boys 500m Handicap | C96: 1 | D96: 4 | E96: Bertie | F96: Bell | G96: Leeds Mercury Cycling Club | H96: U8 | J96: 5
C97: 2 | D97: 19 | E97: Flynn | F97: Lambley | G97: Huddersfield Star Wheelers | H97: U10 | J97: 3
C98: 3 | D98: 38 | E98: George | F98: Charlton | G98: Otley CC | H98: U8 | J98: 2
C99: 4 | D99: 7 | E99: Ben | F99: Crowther | G99: Leeds Mercury Cycling Club | H99: U10 | J99: 1
C100: 5 | D100: 24 | E100: Ewan | F100: Plumb | G100: Huddersfield Star Wheelers | H100: U8
C101: 6 | D101: 11 | E101: Thomas | F101: Hetherington | G101: Leeds Mercury Cycling Club | H101: U8
C102: 7 | D102: 49 | E102: Henry | F102: Bairstow | G102: East Bradford CC | H102: U8
A104: 18 | B104: Group 2 Boys 500m Handicap | C104: 1 | D104: 36 | E104: Joseph | F104: Friend | H104: U12 | J104: 5
C105: 2 | D105: 46 | E105: Joshua | F105: Turton | G105: East Bradford CC | H105: U10 | J105: 3
C106: 3 | D106: 1 | E106: Ruairdh | F106: Aylward | G106: Otley CC | H106: U12 | J106: 2
C107: 4 | D107: 48 | E107: Arthur | F107: Bairstow | G107: East Bradford CC | H107: U8 | J107: 1
C108: 5 | D108: 25 | E108: Henry | F108: Shimmin | G108: Albarosa Cycling Club | H108: U10
C109: 6 | D109: 33 | E109: Jacob | F109: Rook | G109: East Bradford CC | H109: U10
C110: 7 | D110: 20 | E110: Daniel | F110: Middlebrooke | G110: Otley CC | H110: U10
C111: 8 | D111: 17 | E111: Theo | F111: Hutter | G111: Leeds Mercury Cycling Club | H111: U12
A113: 19 | B113: Group 1 Boys 500m Handicap | C113: 1 | D113: 30 | E113: Jack | F113: Wilks | G113: Otley CC | H113: U12 | J113: 5
C114: 2 | D114: 40 | E114: Mark | F114: Ketteringham | G114: Harrogate Nova CC | H114: U12 | J114: 3
C115: 3 | D115: 9 | E115: Oscar | F115: Hall | G115: Otley CC | H115: U12 | J115: 2
...

Sheet Standings after 3 weeks
A1: West Riding Track League 2019 Free Wheel
A3: Rider Details | N3: Scratch Race Points | W3: Handicap Race Points
A4: Position | B4: No. | C4: Forename | D4: Name | E4: M/F | F4: Club/Team Name | G4: Cat. | H4: B/G | I4: Group | J4: BC Licence No. | K4: H/Cap | L4: TT Time | N4: Week 1 | O4: Week 2 | P4: Week 3 | Q4: Week 4 | R4: Week 5 | S4: Week 6 | T4: Week 7 | U4: Total Points | W4: Week 1 | X4: Week 2 | Y4: Week 3 | Z4: Week 4 | AA4: Week 5 | AB4: Week 6 | AC4: Week 7 | AD4: Total Points
A5: Under 8 Boys
A6: 1 | B6: 11 | C6: Thomas | D6: Hetherington | E6: M | F6: Leeds Mercury Cycling Club | G6: U8 | H6: B | I6: 3B | J6: 1472929 | K6: 150 | L6: 30.45 | N6: 24 | O6: 23 | P6: 21 | U6: 68 | X6: 0 | Y6: 0 | AD6: 0
A7: 2 | B7: 38 | C7: George | D7: Charlton | E7: M | F7: Otley CC | G7: U8 | H7: B | I7: 3B | K7: 180 | L7: 33.49 | N7: 20 | O7: 18 | P7: 8 | U7: 46 | X7: 0 | Y7: 2 | AD7: 2
A8: 3 | B8: 4 | C8: Bertie | D8: Bell | E8: M | F8: Leeds Mercury Cycling Club | G8: U8 | H8: B | I8: 3B | J8: 1466770 | K8: 180 | L8: 33.77 | N8: 18 | O8: 19 | P8: 7 | U8: 44 | X8: 1 | Y8: 5 | AD8: 6
A9: 4 | B9: 24 | C9: Ewan | D9: Plumb | E9: M | F9: Huddersfield Star Wheelers | G9: U8 | H9: B | I9: 3B | J9: 1312817 | K9: 150 | L9: 30.09 | N9: 17 | O9: 17 | P9: 10 | U9: 44 | X9: 3 | Y9: 0 | AD9: 3
A10: 5 | B10: 48 | C10: Arthur | D10: Bairstow | E10: M | F10: East Bradford CC | G10: U8 | H10: B | I10: 2B | L10: 23.18 | N10: 0 | O10: 0 | P10: 39 | U10: 39 | X10: 0 | Y10: 1 | AD10: 1
A11: 6 | B11: 41 | C11: Elliot | D11: Islip | E11: M | G11: U8 | H11: B | I11: 4B | K11: 220 | L11: 39.06 | N11: 20 | O11: 12 | P11: 0 | U11: 32 | X11: 5 | Y11: 0 | AD11: 5
A12: 7 | B12: 26 | C12: Oliver | D12: Shimmin | E12: M | F12: Albarosa Cycling Club | G12: U8 | H12: B | I12: 4B | J12: 1563991 | K12: 210 | L12: 38.5 | N12: 0 | O12: 10 | P12: 12 | U12: 22 | X12: 2 | Y12: 3 | AD12: 5
A13: 8 | B13: 49 | C13: Henry | D13: Bairstow | E13: M | F13: East Bradford CC | G13: U8 | H13: B | I13: 2B | L13: 23.3 | N13: 0 | O13: 0 | P13: 20 | U13: 20 | X13: 0 | Y13: 0 | AD13: 0
A14: 9 | B14: 29 | C14: Arthur | D14: Venning | E14: M | F14: Leeds Mercury Cycling Club | G14: U8 | H14: B | I14: 4B | J14: 1503357 | K14: 300 | L14: 48.85 | N14: 0 | O14: 8 | P14: 8 | U14: 16 | X14: 3 | Y14: 5 | AD14: 8
A15: 10 | B15: 32 | C15: Billy | D15: Wise | E15: M | F15: Northern Outlaws | G15: U8 | H15: B | I15: 4B | J15: 1447767 | K15: 200 | L15: 37.97 | N15: 15 | O15: 0 | P15: 0 | U15: 15 | X15: 0 | Y15: 0 | AD15: 0
A16: 11 | B16: 47 | C16: Jack | D16: Wormwell | E16: M | G16: U8 | H16: B | I16: 4B | L16: 34.58 | N16: 0 | O16: 0 | P16: 10 | U16: 10 | X16: 0 | Y16: 2 | AD16: 2
A17: 12 | B17: 10 | C17: James | D17: Halls | E17: M | F17: West Riding Track League | G17: U8 | H17: B | J17: 1573984 | N17: 0 | O17: 0 | P17: 0 | U17: 0 | X17: 0 | Y17: 0 | AD17: 0
A18: Under 8 Girls
A19: 1 | B19: 14 | C19: Holly | D19: Hobbs | E19: F | F19: West Riding Track League | G19: U8 | H19: G | I19: 2G | J19: 1495061 | K19: 200 | L19: 36.69 | N19: 20 | O19: 34 | P19: 30 | U19: 84 | X19: 0 | Y19: 3 | AD19: 3
A20: 2 | B20: 34 | C20: Arpita | D20: Kaulgud | E20: F | G20: U8 | H20: G | I20: 2G | K20: 310 | L20: 57.04 | N20: 17 | O20: 30 | P20: 28 | U20: 75 | X20: 0 | Y20: 0 | AD20: 0
A21: 3 | B21: 28 | C21: Mary | D21: Venning | E21: F | F21: Leeds Mercury Cycling Club | G21: U8 | H21: G | I21: 2G | J21: 1416365 | K21: 170 | L21: 33.12 | N21: 24 | O21: 0 | P21: 34 | U21: 58 | X21: 3 | Y21: 2 | AD21: 5
A22: 4 | B22: 5 | C22: Florence | D22: Bell | E22: F | F22: West Riding Track League | G22: U8 | H22: G | I22: 2G | J22: 1466773 | K22: 170 | L22: 33.3 | N22: 22 | O22: 0 | P22: 32 | U22: 54 | X22: 1 | Y22: 1 | AD22: 2
A23: 5 | B23: 12 | C23: Dori | D23: Hindle | E23: F | F23: Shibden Cycling Club | G23: U8 | H23: G | I23: 2G | J23: 1266237 | K23: 280 | L23: 45.3 | N23: 17 | O23: 0 | P23: 26 | U23: 43 | X23: 0 | Y23: 0 | AD23: 0
A24: Under 10 Boys
A25: 1 | B25: 18 | C25: Billy | D25: Ladle | E25: M | F25: West Riding Track League | G25: U10 | H25: B | I25: 1B | J25: 1050681 | K25: 50 | L25: 22.78 | N25: 42 | O25: 65 | P25: 86 | U25: 193 | X25: 0 | Y25: 1 | AD25: 1
A26: 2 | B26: 35 | C26: Joshua | D26: Daly | E26: M | F26: Shibden Cycling Club | G26: U10 | H26: B | I26: 1B | K26: 60 | L26: 23.1 | N26: 71 | O26: 41 | P26: 21 | U26: 133 | X26: 1 | Y26: 0 | AD26: 1
A27: 3 | B27: 20 | C27: Daniel | D27: Middlebrooke | E27: M | F27: Otley CC | G27: U10 | H27: B | I27: 2B | J27: 1111262 | K27: 60 | L27: 23.59 | N27: 36 | O27: 16 | P27: 33 | U27: 85 | X27: 0 | Y27: 0 | AD27: 0
A28: 4 | B28: 33 | C28: Jacob | D28: Rook | E28: M | F28: East Bradford CC | G28: U10 | H28: B | I28: 2B | J28: 1235819 | K28: 80 | L28: 24.32 | N28: 33 | O28: 15 | P28: 32 | U28: 80 | X28: 0 | Y28: 0 | AD28: 0
A29: 5 | B29: 25 | C29: Henry | D29: Shimmin | E29: M | F29: Albarosa Cycling Club | G29: U10 | H29: B | I29: 2B | J29: 1032358 | K29: 90 | L29: 25.04 | N29: 33 | O29: 29 | P29: 13 | U29: 75 | X29: 0 | Y29: 0 | AD29: 0
A30: 6 | B30: 7 | C30: Ben | D30: Crowther | E30: M | F30: Leeds Mercury Cycling Club | G30: U10 | H30: B | I30: 4B | J30: 1252172 | K30: 220 | L30: 39.8 | N30: 28 | O30: 21 | P30: 21 | U30: 70 | X30: 0 | Y30: 1 | AD30: 1
A31: 7 | B31: 19 | C31: Flynn | D31: Lambley | E31: M | F31: Huddersfield Star Wheelers | G31: U10 | H31: B | I31: 3B | J31: 1448572 | K31: 180 | L31: 33.36 | N31: 26 | O31: 16 | P31: 15 | U31: 57 | X31: 5 | Y31: 3 | AD31: 8
A32: 8 | B32: 46 | C32: Joshua | D32: Turton | E32: M | F32: East Bradford CC | G32: U10 | H32: B | I32: 2B | K32: 90 | L32: 23.31 | N32: 0 | O32: 17 | P32: 32 | U32: 49 | X32: 0 | Y32: 3 | AD32: 3
A33: 9 | B33: 8 | C33: Vaughn | D33: Fitzgerald | E33: M | F33: Bronte Tykes Cycling Club | G33: U10 | H33: B | I33: 2B | J33: 1466646 | K33: 110 | L33: 27.98 | N33: 30 | O33: 15 | P33: 0 | U33: 45 | X33: 0 | Y33: 0 | AD33: 0
A34: 10 | B34: 23 | C34: Sam | D34: Omar | E34: M | F34: West Riding Track League | G34: U10 | H34: B | I34: 3B | J34: 1472627 | K34: 150 | L34: 30.95 | N34: 0 | O34: 0 | P34: 0 | U34: 0 | X34: 0 | Y34: 0 | AD34: 0
A35: 11 | B35: 27 | C35: Luke | D35: Trafford | E35: M | F35: Holmfirth Cycling Club | G35: U10 | H35: B | J35: 1445280 | N35: 0 | O35: 0 | P35: 0 | U35: 0 | X35: 0 | Y35: 0 | AD35: 0
A36: Under 10 Girls
A37: 1 | B37: 2 | C37: Isla | D37: Aylward | E37: F | F37: Otley CC | G37: U10 | H37: G | I37: 1G | J37: 1308717 | K37: 130 | L37: 27 | N37: 36 | O37: 43 | P37: 82 | U37: 161 | X37: 0 | Y37: 1 | AD37: 1
A38: 2 | B38: 16 | C38: Amy | D38: Hodgkins | E38: F | F38: Otley CC | G38: U10 | H38: G | I38: 1G | J38: 1247554 | K38: 150 | L38: 28.98 | N38: 34 | O38: 38 | P38: 80 | U38: 152 | X38: 0 | Y38: 2 | AD38: 2
A39: 3 | B39: 37 | C39: Ruth | D39: Friend | E39: F | G39: U10 | H39: G | I39: 2G | K39: 190 | L39: 34.18 | N39: 32 | O39: 36 | P39: 36 | U39: 104 | X39: 0 | Y39: 5 | AD39: 5
A40: 4 | B40: 44 | C40: Olivia | D40: Coldwell | E40: F | F40: Bramley Wheelers | G40: U10 | H40: G | I40: 2G | N40: 15 | O40: 32 | P40: 0 | U40: 47 | X40: 2 | Y40: 0 | AD40: 2
A41: Under 12 Boys
A42: 1 | B42: 40 | C42: Mark | D42: Ketteringham | E42: M | F42: Harrogate Nova CC | G42: U12 | H42: B | I42: 1B | J42: 1252192 | K42: 50 | L42: 22.65 | N42: 63 | O42: 72 | P42: 93 | U42: 228 | X42: 2 | Y42: 3 | AD42: 5
A43: 2 | B43: 22 | C43: Jody | D43: Mills | E43: M | F43: Huddersfield Star Wheelers | G43: U12 | H43: B | I43: 1B | J43: 1090257 | K43: 80 | L43: 23.38 | N43: 65 | O43: 42 | P43: 60 | U43: 167 | X43: 0 | Y43: 0 | AD43: 0
A44: 3 | B44: 15 | C44: Alex | D44: Hodgkins | E44: M | F44: Otley CC | G44: U12 | H44: B | I44: 1B | J44: 982258 | K44: 30 | L44: 20.97 | N44: 0 | O44: 63 | P44: 89 | U44: 152 | X44: 0 | Y44: 0 | AD44: 0
A45: 4 | B45: 30 | C45: Jack | D45: Wilks | E45: M | F45: Otley CC | G45: U12 | H45: B | I45: 1B | J45: 1067079 | K45: 50 | L45: 22.89 | N45: 42 | O45: 44 | P45: 63 | U45: 149 | X45: 0 | Y45: 5 | AD45: 5
A46: 5 | B46: 13 | C46: Ryden | D46: Hindle | E46: M | F46: Shibden Cycling Club | G46: U12 | H46: B | I46: 1B | J46: 1272326 | K46: 40 | L46: 21.51 | N46: 46 | O46: 0 | P46: 64 | U46: 110 | X46: 0 | Y46: 0 | AD46: 0
A47: 6 | B47: 9 | C47: Oscar | D47: Hall | E47: M | F47: Otley CC | G47: U12 | H47: B | I47: 1B | J47: 1308817 | K47: 50 | L47: 22.73 | N47: 19 | O47: 38 | P47: 40 | U47: 97 | X47: 0 | Y47: 2 | AD47: 2
A48: 7 | B48: 1 | C48: Ruairdh | D48: Aylward | E48: M | F48: Otley CC | G48: U12 | H48: B | I48: 2B | J48: 982261 | K48: 80 | L48: 24.3 | N48: 0 | O48: 18 | P48: 35 | U48: 53 | X48: 0 | Y48: 2 | AD48: 2
A49: 8 | B49: 36 | C49: Joseph | D49: Friend | E49: M | G49: U12 | H49: B | I49: 2B | K49: 130 | L49: 28.34 | N49: 0 | O49: 17 | P49: 14 | U49: 31 | X49: 3 | Y49: 5 | AD49: 8
A50: 9 | B50: 42 | C50: Lennart | D50: Rost | E50: M | F50: Leeds Mercury Cycling Club | G50: U12 | H50: B | I50: 2B | K50: 140 | L50: 29.38 | N50: 0 | O50: 18 | P50: 0 | U50: 18 | X50: 5 | Y50: 0 | AD50: 5
A51: 10 | B51: 17 | C51: Theo | D51: Hutter | E51: M | F51: Leeds Mercury Cycling Club | G51: U12 | H51: B | I51: 2B | J51: 1139293 | K51: 80 | L51: 22.91 | N51: 0 | O51: 14 | P51: 0 | U51: 14 | X51: 0 | Y51: 0 | AD51: 0
A52: 11 | B52: 45 | C52: Cameron | D52: Corrington | E52: M | F52: Leeds Mercury Cycling Club | G52: U12 | H52: B | I52: 2B | K52: 130 | L52: 28.06 | N52: 0 | O52: 0 | P52: 0 | U52: 0 | X52: 0 | Y52: 0 | AD52: 0
A53: Under 12 Girls
A54: 1 | B54: 21 | C54: Abigail | D54: Miller | E54: F | F54: Clifton CC | G54: U12 | H54: G | I54: 1G | J54: 1195846 | K54: 60 | L54: 22.07 | N54: 72 | O54: 70 | P54: 96 | U54: 238 | X54: 0 | Y54: 0 | AD54: 0
A55: 2 | B55: 6 | C55: Katherine | D55: Bucknell | E55: F | F55: Leeds Mercury Cycling Club | G55: U12 | H55: G | I55: 2G | J55: 1373520 | K55: 200 | L55: 37.57 | N55: 69 | O55: 45 | P55: 92 | U55: 206 | X55: 5 | Y55: 5 | AD55: 10
A56: 3 | B56: 31 | C56: Iona | D56: Jackson | E56: F | F56: Albarosa Cycling Club | G56: U12 | H56: G | I56: 1G | J56: 1088556 | K56: 110 | L56: 27.9 | N56: 44 | O56: 44 | P56: 44 | U56: 132 | X56: 0 | Y56: 3 | AD56: 3
A57: 4 | B57: 3 | C57: Hannah | D57: Back | E57: F | F57: Leeds Mercury Cycling Club | G57: U12 | H57: G | I57: 1G | J57: 1462581 | K57: 120 | L57: 26.06 | N57: 0 | O57: 40 | P57: 84 | U57: 124 | X57: 0 | Y57: 0 | AD57: 0
A58: 5 | B58: 43 | C58: Chloe | D58: Coldwell | E58: F | F58: Bramley Wheelers | G58: U12 | H58: G | I58: 2G | K58: 210 | L58: 38.82 | N58: 21 | O58: 0 | P58: 0 | U58: 21 | X58: 0 | Y58: 0 | AD58: 0

Sheet Freewheel Champs
A1: Position | B1: Name | C1: Surname | D1: Club | E1: Sprint | F1: TT Time | G1: Points | H1: Scratch | I1: Total Points
A2: Under 8 Boys
A3: 1 | B3: Arthur | C3: Bairstow | D3: East Bradford C C | E3: 1 | F3: 0:45.29 | G3: 1 | H3: 1 | I3: =E3+G3+H3 -> 3
A4: 2 | B4: Thomas | C4: Hetherington | D4: Leeds Mercury | E4: 4 | F4: 0:51.77 | G4: 2 | H4: 2 | I4: =E4+G4+H4 -> 8
A5: 3 | B5: Ewan | C5: Plumb | D5: HSW | E5: 5 | F5: 0:57.43 | G5: 5 | H5: 3 | I5: =E5+G5+H5 -> 13
A6: 4 | B6: Elliot | C6: Islip | D6: East Bradford C C | E6: 3 | F6: 0:57.28 | G6: 4 | H6: 7 | I6: =E6+G6+H6 -> 14
A7: 4 | B7: Jack | C7: Wormwell | E7: 2 | F7: 1:00.06 | G7: 6 | H7: 6 | I7: =E7+G7+H7 -> 14
A8: 6 | B8: George | C8: Charlton | D8: Otley CC | E8: 7 | F8: 0:56.84 | G8: 3 | H8: 5 | I8: =E8+G8+H8 -> 15
A9: 7 | B9: Bertie | C9: Bell | D9: Leeds Mercury | E9: 6 | F9: 1:03.19 | G9: 7 | H9: 4 | I9: =E9+G9+H9 -> 17
A10: 8 | B10: Arthur | C10: Venning | D10: Leeds Mercury | E10: 8 | F10: 1:24.63 | G10: 8 | H10: 8 | I10: =E10+G10+H10 -> 24
A11: 9 | B11: Oliver | C11: Shimmin | D11: Alba Rosa | E11: DNS
A12: Under 8 Girls
A13: 1 | B13: Mary | C13: Venning | D13: Leeds Mercury Cycling Club | E13: 1 | F13: 0:52.25 | G13: 1 | H13: 1 | I13: =E13+G13+H13 -> 3
A14: 2 | B14: Florence | C14: Bell | D14: Leeds Mercury Cycling Club | E14: 2 | F14: 0:56.21 | G14: 2 | H14: 2 | I14: =E14+G14+H14 -> 6
A15: 3 | B15: Holly | C15: Hobbs | D15: Wrtl | E15: 3 | F15: 1:07.05 | G15: 3 | H15: 3 | I15: =E15+G15+H15 -> 9
A16: Under 10 Boys
A17: 1 | B17: Billy | C17: Ladle | D17: West Riding Track League | E17: 1 | F17: 1:26.46 | G17: 1 | H17: 1 | I17: =E17+G17+H17 -> 3
A18: 2 | B18: Henry | C18: Shimmin | D18: Alba Rosa | E18: 2 | F18: 1:37.23 | G18: 2 | H18: 2 | I18: =E18+G18+H18 -> 6
A19: 3 | B19: Jacob | C19: Rook | D19: East Bradford CC | E19: 3 | F19: 1:39.60 | G19: 3 | H19: 4 | I19: =E19+G19+H19 -> 10
A20: 4 | B20: Vaughn | C20: Fitzgerald | D20: Bronte Tykes | E20: 4 | F20: 1:43.48 | G20: 4 | H20: 3 | I20: =E20+G20+H20 -> 11
A21: 4 | B21: Ben | C21: Crowther | D21: Leeds Mercury | E21: 5 | F21: 1:49.94 | G21: 5 | H21: 6 | I21: =E21+G21+H21 -> 16
A22: 6 | B22: Flynn | C22: Lambley | D22: HSW | E22: 6 | F22: 1:53.18 | G22: 6 | H22: 5 | I22: =E22+G22+H22 -> 17
B23: Daniel | C23: Middlebrooke | D23: Otley CC | E23: DNS
B24: Joseph | C24: Friend | E24: DNS
A25: Under 10 Girls
A26: 1 | B26: Isla | C26: Aylward | D26: Otley CC | E26: 1 | F26: 1:40.55 | G26: 1 | H26: 1 | I26: =E26+G26+H26 -> 3
A27: 2 | B27: Ruth | C27: Friend | E27: 3 | F27: 1:51.73 | G27: 2 | H27: 2 | I27: =E27+G27+H27 -> 7
A28: 3 | B28: Amy | C28: Hodgkins | D28: Otley CC | E28: 2 | F28: 1:51.74 | G28: 3 | H28: 3 | I28: =E28+G28+H28 -> 8
A29: Under 12 Boys
A30: 1 | B30: Mark | C30: Ketteringham | D30: Harrogate Nova | E30: 1 | F30: 2:00.47 | G30: 1 | H30: 1 | I30: =E30+G30+H30 -> 3
A31: 2 | B31: Jack | C31: Wilks | D31: Otley CC | E31: 2 | F31: 2:06.47 | G31: 2 | H31: 2 | I31: =E31+G31+H31 -> 6
A32: 3 | B32: Alex | C32: Hodgkins | D32: Otley CC | E32: 3 | F32: 2:11.59 | G32: 3 | H32: 3 | I32: =E32+G32+H32 -> 9
A33: 4 | B33: Oscar | C33: Hall | D33: Otley CC | E33: 4 | F33: 2:12.60 | G33: 4 | H33: 4 | I33: =E33+G33+H33 -> 12
A34: 5 | B34: Theo | C34: Hutter | D34: Leeds Mercury | E34: 5 | F34: 2:36.38 | G34: 5 | H34: 6 | I34: =E34+G34+H34 -> 16
A35: 6 | B35: Joseph | C35: Friend | E35: 6 | F35: 2:36.54 | G35: 6 | H35: 5 | I35: =E35+G35+H35 -> 17
A36: Under 12 Girls
A37: 1 | B37: Abigail | C37: Miller | D37: Clifton CC | E37: 1 | F37: 2:13.88 | G37: 1 | H37: 1 | I37: =E37+G37+H37 -> 3
A38: 2 | B38: Katherine | C38: Bucknell | D38: Leeds Mercury Cycling Club | E38: 2 | F38: 2:25.15 | G38: 2 | H38: 2 | I38: =E38+G38+H38 -> 6
A39: 3 | B39: Hannah | C39: Back | D39: Leeds Mercury Cycling Club | E39: 3 | F39: 2:37.13 | G39: 3 | H39: 4 | I39: =E39+G39+H39 -> 10
A40: 4 | B40: Iona | C40: Jackson | D40: Alba Rosa | E40: 4 | F40: 2:38.49 | G40: 4 | H40: 3 | I40: =E40+G40+H40 -> 11

Sheet Week 4 8th July
A1: Race No. | B1: Event Name | C1: Position | D1: Rider No | E1: Name | F1: Surname | G1: Club | H1: Age | I1: Points | J1: Handicap Points
A2: 2 | B2: Group 4 Boys 1 Lap Scratch | C2: 1 | D2: 26 | E2: Oliver | F2: Shimmin | G2: Albarosa Cycling Club | H2: U8 | I2: 9
C3: 2 | D3: 47 | E3: Jack | F3: Wormwell | H3: U8 | I3: 5
C4: 3 | D4: 41 | E4: Elliot | F4: Islip | H4: U8 | I4: 4
C5: 4 | D5: 29 | E5: Arthur | F5: Venning | G5: Leeds Mercury Cycling Club | H5: U8 | I5: 3
A7: 3 | B7: Group 2 Girls 1 Lap Scratch | C7: 1 | D7: 37 | E7: Ruth | F7: Friend | H7: U10 | I7: 18
C8: 2 | D8: 5 | E8: Florence | F8: Bell | G8: West Riding Track League | H8: U8 | I8: 17
C9: 3 | D9: 28 | E9: Mary | F9: Venning | G9: Leeds Mercury Cycling Club | H9: U8 | I9: 16
C10: 4 | D10: 14 | E10: Holly | F10: Hobbs | G10: West Riding Track League | H10: U8 | I10: 15
C11: 5 | D11: 44 | E11: Olivia | F11: Coldwell | G11: Bramley Wheelers | H11: U10 | I11: 14
A13: 4 | B13: Group 3 Boys 2 Lap Scratch | C13: 1 | D13: 11 | E13: Thomas | F13: Hetherington | G13: Leeds Mercury Cycling Club | H13: U8 | I13: 12
C14: 2 | D14: 19 | E14: Flynn | F14: Lambley | G14: Huddersfield Star Wheelers | H14: U10 | I14: 11
C15: 3 | D15: 24 | E15: Ewan | F15: Plumb | G15: Huddersfield Star Wheelers | H15: U8 | I15: 10
C16: 4 | D16: 4 | E16: Bertie | F16: Bell | G16: Leeds Mercury Cycling Club | H16: U8 | I16: 9
A18: 5 | B18: Group 2 Boys 2 Lap Scratch | C18: 1 | D18: 1 | E18: Ruairdh | F18: Aylward | G18: Otley CC | H18: U12 | I18: 18
C19: 2 | D19: 20 | E19: Daniel | F19: Middlebrooke | G19: Otley CC | H19: U10 | I19: 17
C20: 3 | D20: 33 | E20: Jacob | F20: Rook | G20: East Bradford CC | H20: U10 | I20: 16
C21: 4 | D21: 25 | E21: Henry | F21: Shimmin | G21: Albarosa Cycling Club | H21: U10 | I21: 15
C22: 5 | D22: 17 | E22: Theo | F22: Hutter | G22: Leeds Mercury Cycling Club | H22: U12 | I22: 14
C23: 6 | D23: 42 | E23: Lennart | F23: Rost | G23: Leeds Mercury Cycling Club | H23: U12 | I23: 13
C24: 7 | D24: 48 | E24: Arthur | F24: Bairstow | G24: East Bradford CC | H24: U8
C25: 8 | D25: 36 | E25: Joseph | F25: Friend | H25: U12
A27: 6 | B27: Group 1 Boys 2 Lap Scratch | C27: 1 | D27: 40 | E27: Mark | F27: Ketteringham | G27: Harrogate Nova CC | H27: U12 | I27: 24
C28: 2 | D28: 30 | E28: Jack | F28: Wilks | G28: Otley CC | H28: U12 | I28: 23
C29: 3 | D29: 15 | E29: Alex | F29: Hodgkins | G29: Otley CC | H29: U12 | I29: 22
C30: 4 | D30: 18 | E30: Billy | F30: Ladle | G30: West Riding Track League | H30: U10 | I30: 21
C31: 5 | D31: 9 | E31: Oscar | F31: Hall | G31: Otley CC | H31: U12 | I31: 20
C32: 6 | D32: 22 | E32: Jody | F32: Mills | G32: Huddersfield Star Wheelers | H32: U12 | I32: 19
A34: 7 | B34: Group 1 Girls 2 Lap Scratch | C34: 1 | D34: 6 | E34: Katherine | F34: Bucknell | G34: Leeds Mercury Cycling Club | H34: U12 | I34: 24
C35: 2 | D35: 2 | E35: Isla | F35: Aylward | G35: Otley CC | H35: U10 | I35: 23
C36: 3 | D36: 16 | E36: Amy | F36: Hodgkins | G36: Otley CC | H36: U10 | I36: 22
C37: 4 | D37: 3 | E37: Hannah | F37: Back | G37: Leeds Mercury Cycling Club | H37: U12 | I37: 21
C38: 5 | D38: 31 | E38: Iona | F38: Jackson | G38: Albarosa Cycling Club | H38: U12 | I38: 20
A40: 8 | B40: Group 4 Boys 1 Lap Sprint | C40: 1 | D40: 47 | E40: Jack | F40: Wormwell | H40: U8 | I40: 6
C41: 2 | D41: 41 | E41: Elliot | F41: Islip | H41: U8 | I41: 5
C42: 3 | D42: 26 | E42: Oliver | F42: Shimmin | G42: Albarosa Cycling Club | H42: U8 | I42: 4
C43: 4 | D43: 29 | E43: Arthur | F43: Venning | G43: Leeds Mercury Cycling Club | H43: U8 | I43: 3
A45: 9 | B45: Group 2 Girls 1 Lap Sprint | C45: 1 | D45: 37 | E45: Ruth | F45: Friend | H45: U10 | I45: 18
C46: 2 | D46: 28 | E46: Mary | F46: Venning | G46: Leeds Mercury Cycling Club | H46: U8 | I46: 17
C47: 3 | D47: 5 | E47: Florence | F47: Bell | G47: West Riding Track League | H47: U8 | I47: 16
C48: 4 | D48: 14 | E48: Holly | F48: Hobbs | G48: West Riding Track League | H48: U8 | I48: 15
C49: 5 | D49: 44 | E49: Olivia | F49: Coldwell | G49: Bramley Wheelers | H49: U10 | I49: 14
A51: 10 | B51: Group 3 Boys 1 Lap Sprint | C51: 1 | D51: 11 | E51: Thomas | F51: Hetherington | G51: Leeds Mercury Cycling Club | H51: U8 | I51: 12
C52: 2 | D52: 19 | E52: Flynn | F52: Lambley | G52: Huddersfield Star Wheelers | H52: U10 | I52: 11
C53: 3 | D53: 24 | E53: Ewan | F53: Plumb | G53: Huddersfield Star Wheelers | H53: U8 | I53: 10
C54: 4 | D54: 4 | E54: Bertie | F54: Bell | G54: Leeds Mercury Cycling Club | H54: U8 | I54: 9
A56: 11 | B56: Group 2 Boys 1 Lap Sprint | C56: 1 | D56: 1 | E56: Ruairdh | F56: Aylward | G56: Otley CC | H56: U12 | I56: 18
C57: 2 | D57: 20 | E57: Daniel | F57: Middlebrooke | G57: Otley CC | H57: U10 | I57: 17
C58: 3 | D58: 33 | E58: Jacob | F58: Rook | G58: East Bradford CC | H58: U10 | I58: 16
C59: 4 | D59: 17 | E59: Theo | F59: Hutter | G59: Leeds Mercury Cycling Club | H59: U12 | I59: 15
C60: 5 | D60: 42 | E60: Lennart | F60: Rost | G60: Leeds Mercury Cycling Club | H60: U12 | I60: 14
C61: 6 | D61: 25 | E61: Henry | F61: Shimmin | G61: Albarosa Cycling Club | H61: U10 | I61: 13
C62: 7 | D62: 48 | E62: Arthur | F62: Bairstow | G62: East Bradford CC | H62: U8
C63: 8 | D63: 36 | E63: Joseph | F63: Friend | H63: U12
A65: 12 | B65: Group 1 Boys 1 Lap Sprint | C65: 1 | D65: 40 | E65: Mark | F65: Ketteringham | G65: Harrogate Nova CC | H65: U12 | I65: 24
C66: 2 | D66: 22 | E66: Jody | F66: Mills | G66: Huddersfield Star Wheelers | H66: U12 | I66: 23
C67: 3 | D67: 30 | E67: Jack | F67: Wilks | G67: Otley CC | H67: U12 | I67: 22
C68: 4 | D68: 15 | E68: Alex | F68: Hodgkins | G68: Otley CC | H68: U12 | I68: 21
C69: 5 | D69: 18 | E69: Billy | F69: Ladle | G69: West Riding Track League | H69: U10 | I69: 20
C70: 6 | D70: 9 | E70: Oscar | F70: Hall | G70: Otley CC | H70: U12 | I70: 19
A72: 13 | B72: Group 1 Girls 1 Lap Scratch | C72: 1 | D72: 6 | E72: Katherine | F72: Bucknell | G72: Leeds Mercury Cycling Club | H72: U12 | I72: 24
C73: 2 | D73: 31 | E73: Iona | F73: Jackson | G73: Albarosa Cycling Club | H73: U12 | I73: 23
C74: 3 | D74: 16 | E74: Amy | F74: Hodgkins | G74: Otley CC | H74: U10 | I74: 22
C75: 4 | D75: 3 | E75: Hannah | F75: Back | G75: Leeds Mercury Cycling Club | H75: U12 | I75: 21
C76: 5 | D76: 2 | E76: Isla | F76: Aylward | G76: Otley CC | H76: U10 | I76: 20
A78: 16 | B78: Group 4 Boys 500m Handicap | C78: 1 | D78: 41 | E78: Elliot | F78: Islip | H78: U8 | J78: 5
C79: 2 | D79: 47 | E79: Jack | F79: Wormwell | H79: U8 | J79: 3
C80: 3 | D80: 29 | E80: Arthur | F80: Venning | G80: Leeds Mercury Cycling Club | H80: U8 | J80: 2
C81: 4 | D81: 26 | E81: Oliver | F81: Shimmin | G81: Albarosa Cycling Club | H81: U8 | J81: 1
A83: 17 | B83: Group 3 Boys 500m Handicap | C83: 1 | D83: 19 | E83: Flynn | F83: Lambley | G83: Huddersfield Star Wheelers | H83: U10 | J83: 5
C84: 2 | D84: 4 | E84: Bertie | F84: Bell | G84: Leeds Mercury Cycling Club | H84: U8 | J84: 3
C85: 3 | D85: 24 | E85: Ewan | F85: Plumb | G85: Huddersfield Star Wheelers | H85: U8 | J85: 2
C86: 4 | D86: 11 | E86: Thomas | F86: Hetherington | G86: Leeds Mercury Cycling Club | H86: U8 | J86: 1
A88: 18 | B88: Group 2 Boys 500m Handicap | C88: 1 | D88: 36 | E88: Joseph | F88: Friend | H88: U12 | J88: 5
C89: 2 | D89: 25 | E89: Henry | F89: Shimmin | G89: Albarosa Cycling Club | H89: U10 | J89: 3
C90: 3 | D90: 1 | E90: Ruairdh | F90: Aylward | G90: Otley CC | H90: U12 | J90: 2
C91: 4 | D91: 42 | E91: Lennart | F91: Rost | G91: Leeds Mercury Cycling Club | H91: U12 | J91: 1
C92: 5 | D92: 20 | E92: Daniel | F92: Middlebrooke | G92: Otley CC | H92: U10
C93: 6 | D93: 33 | E93: Jacob | F93: Rook | G93: East Bradford CC | H93: U10
C94: 7 | D94: 48 | E94: Arthur | F94: Bairstow | G94: East Bradford CC | H94: U8
C95: 8 | D95: 17 | E95: Theo | F95: Hutter | G95: Leeds Mercury Cycling Club | H95: U12
A97: 19 | B97: Group 1 Boys 500m Handicap | C97: 1 | D97: 22 | E97: Jody | F97: Mills | G97: Huddersfield Star Wheelers | H97: U12 | J97: 5
C98: 2 | D98: 30 | E98: Jack | F98: Wilks | G98: Otley CC | H98: U12 | J98: 3
C99: 3 | D99: 15 | E99: Alex | F99: Hodgkins | G99: Otley CC | H99: U12 | J99: 2
C100: 4 | D100: 40 | E100: Mark | F100: Ketteringham | G100: Harrogate Nova CC | H100: U12 | J100: 1
C101: 5 | D101: 9 | E101: Oscar | F101: Hall | G101: Otley CC | H101: U12
C102: 6 | D102: 18 | E102: Billy | F102: Ladle | G102: West Riding Track League | H102: U10
A104: 20 | B104: Group 2 Girls 500m Handicap | C104: 1 | D104: 14 | E104: Holly | F104: Hobbs | G104: West Riding Track League | H104: U8 | J104: 5
C105: 2 | D105: 28 | E105: Mary | F105: Venning | G105: Leeds Mercury Cycling Club | H105: U8 | J105: 3
C106: 3 | D106: 44 | E106: Olivia | F106: Coldwell | G106: Bramley Wheelers | H106: U10 | J106: 2
C107: 4 | D107: 37 | E107: Ruth | F107: Friend | H107: U10 | J107: 1
C108: 5 | D108: 5 | E108: Florence | F108: Bell | G108: West Riding Track League | H108: U8
A110: 21 | B110: Group 1 Girls 500m Handicap | C110: 1 | D110: 3 | E110: Hannah | F110: Back | G110: Leeds Mercury Cycling Club | H110: U12 | J110: 5
C111: 2 | D111: 6 | E111: Katherine | F111: Bucknell | G111: Leeds Mercury Cycling Club | H111: U12 | J111: 3
C112: 3 | D112: 16 | E112: Amy | F112: Hodgkins | G112: Otley CC | H112: U10 | J112: 2
C113: 4 | D113: 2 | E113: Isla | F113: Aylward | G113: Otley CC | H113: U10 | J113: 1
C114: 5 | D114: 31 | E114: Iona | F114: Jackson | G114: Albarosa Cycling Club | H114: U12
A116: 24 | B116: Group 1&2 Boys Devil | C116: 1 | D116: 22 | E116: Jody | F116: Mills | G116: Huddersfield Star Wheelers | H116: U12 | I116: 24
C117: 2 | D117: 40 | E117: Mark | F117: Ketteringham | G117: Harrogate Nova CC | H117: U12 | I117: 23
C118: 3 | D118: 18 | E118: Billy | F118: Ladle | G118: West Riding Track League | H118: U10 | I118: 22
...

Sheet Week 5 22nd July
A1: Race No. | B1: Event Name | C1: Position | D1: Rider No | E1: Name | F1: Surname | G1: Club | H1: Age | I1: Points | J1: Handicap Points
A2: 2 | B2: Group 4 Boys 1 Lap Scratch | C2: 1 | D2: 47 | E2: Jack | F2: Wormwell | H2: U8 | I2: 6
C3: 2 | D3: 52 | E3: Ted | F3: Burbidge | G3: West Riding Track League | H3: U8 | I3: 5
C4: 3 | D4: 51 | E4: Barney | F4: Hobbs | G4: West Riding Track League | H4: U8 | I4: 4
C5: 4 | D5: 50 | E5: Logan | F5: Render | G5: West Riding Track League | H5: U8 | I5: 3
A7: 3 | B7: Group 2 Girls 1 Lap Scratch | C7: 1 | D7: 37 | E7: Ruth | F7: Friend | H7: U10 | I7: 18
C8: 2 | D8: 14 | E8: Holly | F8: Hobbs | G8: West Riding Track League | H8: U8 | I8: 17
A10: 4 | B10: Group 3 Boys 2 Lap Scratch | C10: 1 | D10: 49 | E10: Henry | F10: Bairstow | G10: East Bradford CC | H10: U8 | I10: 12
C11: 2 | D11: 11 | E11: Thomas | F11: Hetherington | G11: Leeds Mercury Cycling Club | H11: U8 | I11: 11
C12: 3 | D12: 24 | E12: Ewan | F12: Plumb | G12: Huddersfield Star Wheelers | H12: U8 | I12: 10
C13: 4 | D13: 4 | E13: Bertie | F13: Bell | G13: Leeds Mercury Cycling Club | H13: U8 | I13: 9
A15: 5 | B15: Group 2 Boys 2 Lap Scratch | C15: 1 | D15: 20 | E15: Daniel | F15: Middlebrooke | G15: Otley CC | H15: U10 | I15: 18
C16: 2 | D16: 33 | E16: Jacob | F16: Rook | G16: East Bradford CC | H16: U10 | I16: 17
C17: 3 | D17: 17 | E17: Theo | F17: Hutter | G17: Leeds Mercury Cycling Club | H17: U12 | I17: 16
C18: 4 | D18: 8 | E18: Vaughn | F18: Fitzgerald | G18: Bronte Tykes Cycling Club | H18: U10 | I18: 15
C19: 5 | D19: 42 | E19: Lennart | F19: Rost | G19: Leeds Mercury Cycling Club | H19: U12 | I19: 14
C20: 6 | D20: 36 | E20: Joseph | F20: Friend | H20: U12 | I20: 13
A22: 6 | B22: Group 1 Boys 2 Lap Scratch | C22: 1 | D22: 15 | E22: Alex | F22: Hodgkins | G22: Otley CC | H22: U12 | I22: 24
C23: 2 | D23: 30 | E23: Jack | F23: Wilks | G23: Otley CC | H23: U12 | I23: 23
C24: 3 | D24: 18 | E24: Billy | F24: Ladle | G24: West Riding Track League | H24: U10 | I24: 22
A26: 7 | B26: Group 1 Girls 2 Lap Scratch | C26: 1 | D26: 21 | E26: Abigail | F26: Miller | G26: Clifton CC | H26: U12 | I26: 24
C27: 2 | D27: 6 | E27: Katherine | F27: Bucknell | G27: Leeds Mercury Cycling Club | H27: U12 | I27: 23
C28: 3 | D28: 16 | E28: Amy | F28: Hodgkins | G28: Otley CC | H28: U10 | I28: 22
A30: 8 | B30: Group 4 Boys 1 Lap Sprint | C30: 1 | D30: 47 | E30: Jack | F30: Wormwell | H30: U8 | I30: 6
C31: 2 | D31: 52 | E31: Ted | F31: Burbidge | G31: West Riding Track League | H31: U8 | I31: 5
C32: 3 | D32: 50 | E32: Logan | F32: Render | G32: West Riding Track League | H32: U8 | I32: 4
C33: 4 | D33: 51 | E33: Barney | F33: Hobbs | G33: West Riding Track League | H33: U8 | I33: 3
A35: 9 | B35: Group 2 Girls 1 Lap Sprint | C35: 1 | D35: 37 | E35: Ruth | F35: Friend | H35: U10 | I35: 18
C36: 2 | D36: 14 | E36: Holly | F36: Hobbs | G36: West Riding Track League | H36: U8 | I36: 17
C37: 3 | D37: 34 | E37: Arpita | F37: Kaulgud | H37: U8 | I37: 16
A39: 10 | B39: Group 3 Boys 1 Lap Sprint | C39: 1 | D39: 49 | E39: Henry | F39: Bairstow | G39: East Bradford CC | H39: U8 | I39: 12
C40: 2 | D40: 7 | E40: Ben | F40: Crowther | G40: Leeds Mercury Cycling Club | H40: U10 | I40: 11
C41: 3 | D41: 11 | E41: Thomas | F41: Hetherington | G41: Leeds Mercury Cycling Club | H41: U8 | I41: 10
C42: 4 | D42: 4 | E42: Bertie | F42: Bell | G42: Leeds Mercury Cycling Club | H42: U8 | I42: 9
C43: 5 | D43: 24 | E43: Ewan | F43: Plumb | G43: Huddersfield Star Wheelers | H43: U8 | I43: 8
A45: 11 | B45: Group 2 Boys 1 Lap Sprint | C45: 1 | D45: 33 | E45: Jacob | F45: Rook | G45: East Bradford CC | H45: U10 | I45: 18
C46: 2 | D46: 17 | E46: Theo | F46: Hutter | G46: Leeds Mercury Cycling Club | H46: U12 | I46: 17
C47: 3 | D47: 20 | E47: Daniel | F47: Middlebrooke | G47: Otley CC | H47: U10 | I47: 16
C48: 4 | D48: 42 | E48: Lennart | F48: Rost | G48: Leeds Mercury Cycling Club | H48: U12 | I48: 15
C49: 5 | D49: 8 | E49: Vaughn | F49: Fitzgerald | G49: Bronte Tykes Cycling Club | H49: U10 | I49: 14
C50: 6 | D50: 36 | E50: Joseph | F50: Friend | H50: U12 | I50: 13
A52: 12 | B52: Group 1 Boys 1 Lap Sprint | C52: 1 | D52: 30 | E52: Jack | F52: Wilks | G52: Otley CC | H52: U12 | I52: 24
C53: 2 | D53: 15 | E53: Alex | F53: Hodgkins | G53: Otley CC | H53: U12 | I53: 23
C54: 3 | D54: 18 | E54: Billy | F54: Ladle | G54: West Riding Track League | H54: U10 | I54: 22
A56: 13 | B56: Group 1 Girls 1 Lap Scratch | C56: 1 | D56: 21 | E56: Abigail | F56: Miller | G56: Clifton CC | H56: U12 | I56: 24
C57: 2 | D57: 6 | E57: Katherine | F57: Bucknell | G57: Leeds Mercury Cycling Club | H57: U12 | I57: 23
A59: 16 | B59: Group 4 Boys 500m Handicap | C59: 1 | D59: 47 | E59: Jack | F59: Wormwell | H59: U8 | J59: 5
C60: 2 | D60: 52 | E60: Ted | F60: Burbidge | G60: West Riding Track League | H60: U8 | J60: 3
C61: 3 | D61: 51 | E61: Barney | F61: Hobbs | G61: West Riding Track League | H61: U8 | J61: 2
C62: 4 | D62: 50 | E62: Logan | F62: Render | G62: West Riding Track League | H62: U8 | J62: 1
A64: 17 | B64: Group 3 Boys 500m Handicap | C64: 1 | D64: 4 | E64: Bertie | F64: Bell | G64: Leeds Mercury Cycling Club | H64: U8 | J64: 5
C65: 2 | D65: 11 | E65: Thomas | F65: Hetherington | G65: Leeds Mercury Cycling Club | H65: U8 | J65: 3
C66: 3 | D66: 7 | E66: Ben | F66: Crowther | G66: Leeds Mercury Cycling Club | H66: U10 | J66: 2
C67: 4 | D67: 49 | E67: Henry | F67: Bairstow | G67: East Bradford CC | H67: U8 | J67: 1
C68: 5 | D68: 24 | E68: Ewan | F68: Plumb | G68: Huddersfield Star Wheelers | H68: U8
A70: 18 | B70: Group 2 Boys 500m Handicap | C70: 1 | D70: 8 | E70: Vaughn | F70: Fitzgerald | G70: Bronte Tykes Cycling Club | H70: U10 | J70: 5
C71: 2 | D71: 33 | E71: Jacob | F71: Rook | G71: East Bradford CC | H71: U10 | J71: 3
C72: 3 | D72: 36 | E72: Joseph | F72: Friend | H72: U12 | J72: 2
C73: 4 | D73: 17 | E73: Theo | F73: Hutter | G73: Leeds Mercury Cycling Club | H73: U12 | J73: 1
C74: 5 | D74: 42 | E74: Lennart | F74: Rost | G74: Leeds Mercury Cycling Club | H74: U12
C75: 6 | D75: 20 | E75: Daniel | F75: Middlebrooke | G75: Otley CC | H75: U10
A77: 19 | B77: Group 1 Boys 500m Handicap | C77: 1 | D77: 15 | E77: Alex | F77: Hodgkins | G77: Otley CC | H77: U12 | J77: 5
C78: 2 | D78: 18 | E78: Billy | F78: Ladle | G78: West Riding Track League | H78: U10 | J78: 3
C79: 3 | D79: 30 | E79: Jack | F79: Wilks | G79: Otley CC | H79: U12 | J79: 2
A81: 20 | B81: Group 2 Girls 500m Handicap | C81: 1 | D81: 34 | E81: Arpita | F81: Kaulgud | H81: U8 | J81: 5
C82: 2 | D82: 37 | E82: Ruth | F82: Friend | H82: U10 | J82: 3
C83: 3 | D83: 14 | E83: Holly | F83: Hobbs | G83: West Riding Track League | H83: U8 | J83: 2
A85: 21 | B85: Group 1 Girls 500m Handicap | C85: 1 | D85: 6 | E85: Katherine | F85: Bucknell | G85: Leeds Mercury Cycling Club | H85: U12 | J85: 5
C86: 2 | D86: 21 | E86: Abigail | F86: Miller | G86: Clifton CC | H86: U12 | J86: 3
C87: 3 | D87: 16 | E87: Amy | F87: Hodgkins | G87: Otley CC | H87: U10 | J87: 2
A89: 24 | B89: Group 1,2 & 3 Boys Devil | C89: 1 | D89: 18 | E89: Billy | F89: Ladle | G89: West Riding Track League | H89: U10 | I89: 24
C90: 2 | D90: 15 | E90: Alex | F90: Hodgkins | G90: Otley CC | H90: U12 | I90: 23
C91: 3 | D91: 30 | E91: Jack | F91: Wilks | G91: Otley CC | H91: U12 | I91: 22
C92: 4 | D92: 20 | E92: Daniel | F92: Middlebrooke | G92: Otley CC | H92: U10 | I92: 21
C93: 5 | D93: 8 | E93: Vaughn | F93: Fitzgerald | G93: Bronte Tykes Cycling Club | H93: U10 | I93: 20
C94: 6 | D94: 33 | E94: Jacob | F94: Rook | G94: East Bradford CC | H94: U10 | I94: 19
C95: 7 | D95: 36 | E95: Joseph | F95: Friend | H95: U12
C96: 8 | D96: 49 | E96: Henry | F96: Bairstow | G96: East Bradford CC | H96: U8
C97: 9 | D97: 42 | E97: Lennart | F97: Rost | G97: Leeds Mercury Cycling Club | H97: U12
C98: 10 | D98: 24 | E98: Ewan | F98: Plumb | G98: Huddersfield Star Wheelers | H98: U8
C99: 11 | D99: 17 | E99: Theo | F99: Hutter | G99: Leeds Mercury Cycling Club | H99: U12
A101: 25 | B101: Group 1 & 2 Girls Devil | C101: 1 | D101: 21 | E101: Abigail | F101: Miller | G101: Clifton CC | H101: U12 | I101: 24
C102: 2 | D102: 6 | E102: Katherine | F102: Bucknell | G102: Leeds Mercury Cycling Club | H102: U12 | I102: 23
C103: 3 | D103: 37 | E103: Ruth | F103: Friend | H103: U10 | I103: 22
C104: 4 | D104: 34 | E104: Arpita | F104: Kaulgud | H104: U8 | I104: 21
C105: 5 | D105: 16 | E105: Amy | F105: Hodgkins | G105: Otley CC | H105: U10 | I105: 20
A107: 28 | B107: Group 1,2 & 3 Boys 1 Lap Sprint | C107: 1 | D107: 30 | E107: Jack | F107: Wilks | G107: Otley CC | H107: U12 | I107: 24
C108: 2 | D108: 15 | E108: Alex | F108: Hodgkins | G108: Otley CC | H108: U12 | I108: 23
C109: 3 | D109: 18 | E109: Billy | F109: Ladle | G109: West Riding Track League | H109: U10 | I109: 22
C110: 4 | D110: 20 | E110: Daniel | F110: Middlebrooke | G110: Otley CC | H110: U10 | I110: 21
C111: 5 | D111: 8 | E111: Vaughn | F111: Fitzgerald | G111: Bronte Tykes Cycling Club | H111: U10 | I111: 20
C112: 6 | D112: 33 | E112: Jacob | F112: Rook | G112: East Bradford CC | H112: U10 | I112: 19
C113: 7 | D113: 17 | E113: Theo | F113: Hutter | G113: Leeds Mercury Cycling Club | H113: U12
C114: 8 | D114: 36 | E114: Joseph | F114: Friend | H114: U12
C115: 9 | D115: 42 | E115: Lennart | F115: Rost | G115: Leeds Mercury Cycling Club | H115: U12
A117: 28 | B117: Group 1 &2 Girls 1 Lap Sprint | C117: 1 | D117: 21 | E117: Abigail | F117: Miller | G117: Clifton CC | H117: U12 | I117: 24
C118: 2 | D118: 6 | E118: Katherine | F118: Bucknell | G118: Leeds Mercury Cycling Club | H118: U12 | I118: 23
C119: 3 | D119: 16 | E119: Amy | F119: Hodgkins | G119: Otley CC | H119: U10 | I119: 22
C120: 4 | D120: 37 | E120: Ruth | F120: Friend | H120: U10 | I120: 21
C121: 5 | D121: 34 | E121: Arpita | F121: Kaulgud | H121: U8 | I121: 20

Sheet Week 6 29th July
A1: Race No. | B1: Event Name | C1: Position | D1: Rider No | E1: Name | F1: Surname | G1: Club | H1: Age | I1: Points | J1: Handicap Points
A2: 2 | B2: Group 4 Boys 1 Lap Scratch | C2: 1 | D2: 47 | E2: Jack | F2: Wormwell | H2: U8 | I2: 6
C3: 2 | D3: 52 | E3: Ted | F3: Burbidge | G3: West Riding Track League | H3: U8 | I3: 5
C4: 3 | D4: 51 | E4: Barney | F4: Hobbs | G4: West Riding Track League | H4: U8 | I4: 4
C5: 4 | D5: 53 | E5: Jacob | F5: Crossley-Wood | G5: West Riding Track League | H5: U8 | I5: 3
C6: 5 | D6: 29 | E6: Arthur | F6: Venning | G6: Leeds Mercury Cycling Club | H6: U8 | I6: 2
C7: 6 | D7: 54 | E7: Jacob | F7: Wormwell | G7: West Riding Track League | H7: U8 | I7: 1
A9: 3 | B9: Group 2 Girls 1 Lap Scratch | C9: 1 | D9: 28 | E9: Mary | F9: Venning | G9: Leeds Mercury Cycling Club | H9: U8 | I9: 18
C10: 2 | D10: 5 | E10: Florence | F10: Bell | G10: West Riding Track League | H10: U8 | I10: 17
C11: 3 | D11: 14 | E11: Holly | F11: Hobbs | G11: West Riding Track League | H11: U8 | I11: 16
C12: 4 | D12: 34 | E12: Arpita | F12: Kaulgud | H12: U8 | I12: 15
A14: 4 | B14: Group 3 Boys 2 Lap Scratch | C14: 1 | D14: 4 | E14: Bertie | F14: Bell | G14: Leeds Mercury Cycling Club | H14: U8 | I14: 12
A16: 5 | B16: Group 2 Boys 2 Lap Scratch | C16: 1 | D16: 20 | E16: Daniel | F16: Middlebrooke | G16: Otley CC | H16: U10 | I16: 18
C17: 2 | D17: 17 | E17: Theo | F17: Hutter | G17: Leeds Mercury Cycling Club | H17: U12 | I17: 17
C18: 3 | D18: 8 | E18: Vaughn | F18: Fitzgerald | G18: Bronte Tykes Cycling Club | H18: U10 | I18: 16
C19: 4 | D19: 11 | E19: Thomas | F19: Hetherington | G19: Leeds Mercury Cycling Club | H19: U8 | I19: 15
C20: 5 | D20: 46 | E20: Joshua | F20: Turton | G20: East Bradford CC | H20: U10 | I20: 14
A22: 6 | B22: Group 1 Boys 2 Lap Scratch | C22: 1 | D22: 40 | E22: Mark | F22: Ketteringham | G22: Harrogate Nova CC | H22: U12 | I22: 24
C23: 2 | D23: 15 | E23: Alex | F23: Hodgkins | G23: Otley CC | H23: U12 | I23: 23
C24: 3 | D24: 30 | E24: Jack | F24: Wilks | G24: Otley CC | H24: U12 | I24: 22
C25: 4 | D25: 9 | E25: Oscar | F25: Hall | G25: Otley CC | H25: U12 | I25: 21
A27: 7 | B27: Group 1 Girls 2 Lap Scratch | C27: 1 | D27: 6 | E27: Katherine | F27: Bucknell | G27: Leeds Mercury Cycling Club | H27: U12 | I27: 24
C28: 2 | D28: 16 | E28: Amy | F28: Hodgkins | G28: Otley CC | H28: U10 | I28: 23
A30: 8 | B30: Group 4 Boys 1 Lap Sprint | C30: 1 | D30: 47 | E30: Jack | F30: Wormwell | H30: U8 | I30: 6
C31: 2 | D31: 52 | E31: Ted | F31: Burbidge | G31: West Riding Track League | H31: U8 | I31: 5
C32: 3 | D32: 53 | E32: Jacob | F32: Crossley-Wood | G32: West Riding Track League | H32: U8 | I32: 4
C33: 4 | D33: 51 | E33: Barney | F33: Hobbs | G33: West Riding Track League | H33: U8 | I33: 3
C34: 5 | D34: 54 | E34: Jacob | F34: Wormwell | G34: West Riding Track League | H34: U8 | I34: 2
C35: 6 | D35: 29 | E35: Arthur | F35: Venning | G35: Leeds Mercury Cycling Club | H35: U8 | I35: 1
A37: 9 | B37: Group 2 Girls 1 Lap Sprint | C37: 1 | D37: 28 | E37: Mary | F37: Venning | G37: Leeds Mercury Cycling Club | H37: U8 | I37: 18
C38: 2 | D38: 5 | E38: Florence | F38: Bell | G38: West Riding Track League | H38: U8 | I38: 17
C39: 3 | D39: 14 | E39: Holly | F39: Hobbs | G39: West Riding Track League | H39: U8 | I39: 16
C40: 4 | D40: 34 | E40: Arpita | F40: Kaulgud | H40: U8 | I40: 15
A42: 10 | B42: Group 3 Boys 1 Lap Sprint | C42: 1 | D42: 4 | E42: Bertie | F42: Bell | G42: Leeds Mercury Cycling Club | H42: U8 | I42: 12
A44: 11 | B44: Group 2 Boys 1 Lap Sprint | C44: 1 | D44: 33 | E44: Jacob | F44: Rook | G44: East Bradford CC | H44: U10 | I44: 18
C45: 2 | D45: 46 | E45: Joshua | F45: Turton | G45: East Bradford CC | H45: U10 | I45: 17
C46: 3 | D46: 8 | E46: Vaughn | F46: Fitzgerald | G46: Bronte Tykes Cycling Club | H46: U10 | I46: 16
C47: 4 | D47: 17 | E47: Theo | F47: Hutter | G47: Leeds Mercury Cycling Club | H47: U12 | I47: 15
C48: 5 | D48: 11 | E48: Thomas | F48: Hetherington | G48: Leeds Mercury Cycling Club | H48: U8 | I48: 14
A50: 12 | B50: Group 1 Boys 1 Lap Sprint | C50: 1 | D50: 40 | E50: Mark | F50: Ketteringham | G50: Harrogate Nova CC | H50: U12 | I50: 24
C51: 2 | D51: 15 | E51: Alex | F51: Hodgkins | G51: Otley CC | H51: U12 | I51: 23
C52: 3 | D52: 30 | E52: Jack | F52: Wilks | G52: Otley CC | H52: U12 | I52: 22
C53: 4 | D53: 9 | E53: Oscar | F53: Hall | G53: Otley CC | H53: U12 | I53: 21
C54: 5 | D54: 20 | E54: Daniel | F54: Middlebrooke | G54: Otley CC | H54: U10 | I54: 20
A56: 13 | B56: Group 1 Girls 1 Lap Scratch | C56: 1 | D56: 6 | E56: Katherine | F56: Bucknell | G56: Leeds Mercury Cycling Club | H56: U12 | I56: 24
C57: 2 | D57: 16 | E57: Amy | F57: Hodgkins | G57: Otley CC | H57: U10 | I57: 23
A59: 16 | B59: Group 4 Boys 500m Handicap | C59: 1 | D59: 29 | E59: Arthur | F59: Venning | G59: Leeds Mercury Cycling Club | H59: U8 | J59: 5
C60: 2 | D60: 47 | E60: Jack | F60: Wormwell | H60: U8 | J60: 3
C61: 3 | D61: 53 | E61: Jacob | F61: Crossley-Wood | G61: West Riding Track League | H61: U8 | J61: 2
C62: 4 | D62: 52 | E62: Ted | F62: Burbidge | G62: West Riding Track League | H62: U8 | J62: 1
C63: 5 | D63: 51 | E63: Barney | F63: Hobbs | G63: West Riding Track League | H63: U8
C64: 6 | D64: 54 | E64: Jacob | F64: Wormwell | G64: West Riding Track League | H64: U8
C65: 7
A67: 17 | B67: Group 3 Boys 500m Handicap | C67: 1 | D67: 4 | E67: Bertie | F67: Bell | G67: Leeds Mercury Cycling Club | H67: U8 | J67: 5
A69: 18 | B69: Group 2 Boys 500m Handicap | C69: 1 | D69: 8 | E69: Vaughn | F69: Fitzgerald | G69: Bronte Tykes Cycling Club | H69: U10 | I69: 16 | J69: 5
C70: 2 | D70: 11 | E70: Thomas | F70: Hetherington | G70: Leeds Mercury Cycling Club | H70: U8 | I70: 14 | J70: 3
C71: 3 | D71: 17 | E71: Theo | F71: Hutter | G71: Leeds Mercury Cycling Club | H71: U12 | I71: 15 | J71: 2
C72: 4 | D72: 46 | E72: Joshua | F72: Turton | G72: East Bradford CC | H72: U10 | I72: 17 | J72: 1
C73: 5 | D73: 33 | E73: Jacob | F73: Rook | G73: East Bradford CC | H73: U10 | I73: 18
A75: 19 | B75: Group 1 Boys 500m Handicap | C75: 1 | D75: 40 | E75: Mark | F75: Ketteringham | G75: Harrogate Nova CC | H75: U12 | J75: 5
C76: 2 | D76: 9 | E76: Oscar | F76: Hall | G76: Otley CC | H76: U12 | J76: 3
C77: 3 | D77: 20 | E77: Daniel | F77: Middlebrooke | G77: Otley CC | H77: U10 | J77: 2
C78: 4 | D78: 15 | E78: Alex | F78: Hodgkins | G78: Otley CC | H78: U12 | J78: 1
C79: 5 | D79: 30 | E79: Jack | F79: Wilks | G79: Otley CC | H79: U12
A81: 20/21 | B81: Group 1 & 2 Girls 500m Handicap | C81: 1 | D81: 34 | E81: Arpita | F81: Kaulgud | H81: U8 | J81: 5
B82: (combined race & points) | C82: 2 | D82: 14 | E82: Holly | F82: Hobbs | G82: West Riding Track League | H82: U8 | J82: 3
C83: 3 | D83: 16 | E83: Amy | F83: Hodgkins | G83: Otley CC | H83: U10 | J83: 5
C84: 4 | D84: 6 | E84: Katherine | F84: Bucknell | G84: Leeds Mercury Cycling Club | H84: U12 | J84: 3
C85: 5 | D85: 28 | E85: Mary | F85: Venning | G85: Leeds Mercury Cycling Club | H85: U8 | J85: 2
C86: 6 | D86: 5 | E86: Florence | F86: Bell | G86: West Riding Track League | H86: U8 | J86: 1
A88: 24 | B88: Group 1, 2 & 3 Boys Devil | C88: 1 | D88: 40 | E88: Mark | F88: Ketteringham | G88: Harrogate Nova CC | H88: U12 | I88: 24
C89: 2 | D89: 30 | E89: Jack | F89: Wilks | G89: Otley CC | H89: U12 | I89: 23
C90: 3 | D90: 9 | E90: Oscar | F90: Hall | G90: Otley CC | H90: U12 | I90: 22
C91: 4 | D91: 15 | E91: Alex | F91: Hodgkins | G91: Otley CC | H91: U12 | I91: 21
C92: 5 | D92: 20 | E92: Daniel | F92: Middlebrooke | G92: Otley CC | H92: U10 | I92: 20
C93: 6 | D93: 46 | E93: Joshua | F93: Turton | G93: East Bradford CC | H93: U10 | I93: 19
C94: 7 | D94: 8 | E94: Vaughn | F94: Fitzgerald | G94: Bronte Tykes Cycling Club | H94: U10
C95: 8 | D95: 33 | E95: Jacob | F95: Rook | G95: East Bradford CC | H95: U10
C96: 9 | D96: 11 | E96: Thomas | F96: Hetherington | G96: Leeds Mercury Cycling Club | H96: U8
C97: 10 | D97: 17 | E97: Theo | F97: Hutter | G97: Leeds Mercury Cycling Club | H97: U12
A99: 25 | B99: Group 1 & 2 Girls Devil | C99: 1 | D99: 6 | E99: Katherine | F99: Bucknell | G99: Leeds Mercury Cycling Club | H99: U12 | I99: 24
C100: 2 | D100: 16 | E100: Amy | F100: Hodgkins | G100: Otley CC | H100: U10 | I100: 23
C101: 3 | D101: 28 | E101: Mary | F101: Venning | G101: Leeds Mercury Cycling Club | H101: U8 | I101: 22
C102: 4 | D102: 14 | E102: Holly | F102: Hobbs | G102: West Riding Track League | H102: U8 | I102: 21
A104: 28 | B104: Group 1 & 2 Boys 2 Lap Race | C104: 1 | D104: 40 | E104: Mark | F104: Ketteringham | G104: Harrogate Nova CC | H104: U12 | I104: 24
C105: 2 | D105: 15 | E105: Alex | F105: Hodgkins | G105: Otley CC | H105: U12 | I105: 23
C106: 3 | D106: 30 | E106: Jack | F106: Wilks | G106: Otley CC | H106: U12 | I106: 22
C107: 4 | D107: 9 | E107: Oscar | F107: Hall | G107: Otley CC | H107: U12 | I107: 21
C108: 5 | D108: 46 | E108: Joshua | F108: Turton | G108: East Bradford CC | H108: U10 | I108: 20
C109: 6 | D109: 20 | E109: Daniel | F109: Middlebrooke | G109: Otley CC | H109: U10 | I109: 19
C110: 7 | D110: 17 | E110: Theo | F110: Hutter | G110: Leeds Mercury Cycling Club | H110: U12
C111: 8 | D111: 8 | E111: Vaughn | F111: Fitzgerald | G111: Bronte Tykes Cycling Club | H111: U10
C112: 9 | D112: 33 | E112: Jacob | F112: Rook | G112: East Bradford CC | H112: U10
C113: 10 | D113: 11 | E113: Thomas | F113: Hetherington | G113: Leeds Mercury Cycling Club | H113: U8
A115: 29 | B115: Group 1 & 2 Girls 2 Lap Race | C115: 1 | D115: 6 | E115: Katherine | F115: Bucknell | G115: Leeds Mercury Cycling Club | H115: U12 | I115: 24
C116: 2 | D116: 16 | E116: Amy | F116: Hodgkins | G116: Otley CC | H116: U10 | I116: 23

Sheet Standings after 6 Weeks
A1: Rider Details | M1: Scratch Race Points | V1: Handicap Race Points
A2: No. | B2: Forename | C2: Name | D2: M/F | E2: Club/Team Name | F2: Cat. | G2: B/G | H2: Group | I2: BC Licence No. | J2: H/Cap | K2: TT Time | M2: Week 1 | N2: Week 2 | O2: Week 3 | P2: Week 4 | Q2: Week 5 | R2: Week 6 | S2: Week 7 | T2: Total Points | V2: Week 1 | W2: Week 2 | X2: Week 3 | Y2: Week 4 | Z2: Week 5 | AA2: Week 6 | AB2: Week 7 | AC2: Total Points
A3: 11 | B3: Thomas | C3: Hetherington | D3: M | E3: Leeds Mercury Cycling Club | F3: U8 | G3: B | H3: 3B | I3: 1472929 | J3: 150 | K3: 30.45 | M3: 24 | N3: 23 | O3: 21 | P3: 24 | Q3: 21 | R3: 43 | T3: =SUM(M3:S3) -> 156 | W3: 0 | X3: 0 | Y3: 1 | Z3: 3 | AA3: 3 | AC3: =SUM(V3:AB3) -> 7
A4: 4 | B4: Bertie | C4: Bell | D4: M | E4: Leeds Mercury Cycling Club | F4: U8 | G4: B | H4: 3B | I4: 1466770 | J4: 180 | K4: 33.77 | M4: 18 | N4: 19 | O4: 7 | P4: 18 | Q4: 18 | R4: 24 | T4: =SUM(M4:S4) -> 104 | W4: 1 | X4: 5 | Y4: 3 | Z4: 5 | AA4: 5 | AC4: =SUM(V4:AB4) -> 19
A5: 24 | B5: Ewan | C5: Plumb | D5: M | E5: Huddersfield Star Wheelers | F5: U8 | G5: B | H5: 3B | I5: 1312817 | J5: 150 | K5: 30.09 | M5: 17 | N5: 17 | O5: 10 | P5: 20 | Q5: 18 | R5: 0 | T5: =SUM(M5:S5) -> 82 | W5: 3 | X5: 0 | Y5: 2 | Z5: 0 | AA5: 0 | AC5: =SUM(V5:AB5) -> 5
A6: 38 | B6: George | C6: Charlton | D6: M | E6: Otley CC | F6: U8 | G6: B | H6: 3B | J6: 180 | K6: 33.49 | M6: 20 | N6: 18 | O6: 8 | P6: 0 | Q6: 0 | R6: 0 | T6: =SUM(M6:S6) -> 46 | W6: 0 | X6: 2 | Y6: 0 | Z6: 0 | AA6: 0 | AC6: =SUM(V6:AB6) -> 2
A7: 47 | B7: Jack | C7: Wormwell | D7: M | F7: U8 | G7: B | H7: 4B | K7: 34.58 | M7: 0 | N7: 0 | O7: 10 | P7: 11 | Q7: 12 | R7: 12 | T7: =SUM(M7:S7) -> 45 | W7: 0 | X7: 2 | Y7: 3 | Z7: 5 | AA7: 3 | AC7: =SUM(V7:AB7) -> 13
A8: 49 | B8: Henry | C8: Bairstow | D8: M | E8: East Bradford CC | F8: U8 | G8: B | H8: 2B | K8: 23.3 | M8: 0 | N8: 0 | O8: 20 | P8: 0 | Q8: 24 | R8: 0 | T8: =SUM(M8:S8) -> 44 | W8: 0 | X8: 0 | Y8: 0 | Z8: 1 | AA8: 0 | AC8: =SUM(V8:AB8) -> 1
A9: 41 | B9: Elliot | C9: Islip | D9: M | F9: U8 | G9: B | H9: 4B | J9: 220 | K9: 39.06 | M9: 20 | N9: 12 | O9: 0 | P9: 9 | Q9: 0 | R9: 0 | T9: =SUM(M9:S9) -> 41 | W9: 5 | X9: 0 | Y9: 5 | Z9: 0 | AA9: 0 | AC9: =SUM(V9:AB9) -> 10
A10: 48 | B10: Arthur | C10: Bairstow | D10: M | E10: East Bradford CC | F10: U8 | G10: B | H10: 2B | K10: 23.18 | M10: 0 | N10: 0 | O10: 39 | P10: 0 | Q10: 0 | R10: 0 | T10: =SUM(M10:S10) -> 39 | W10: 0 | X10: 1 | Y10: 0 | Z10: 0 | AA10: 0 | AC10: =SUM(V10:AB10) -> 1
A11: 26 | B11: Oliver | C11: Shimmin | D11: M | E11: Albarosa Cycling Club | F11: U8 | G11: B | H11: 4B | I11: 1563991 | J11: 210 | K11: 38.5 | M11: 0 | N11: 10 | O11: 12 | P11: 13 | Q11: 0 | R11: 0 | T11: =SUM(M11:S11) -> 35 | W11: 2 | X11: 3 | Y11: 1 | Z11: 0 | AA11: 0 | AC11: =SUM(V11:AB11) -> 6
A12: 29 | B12: Arthur | C12: Venning | D12: M | E12: Leeds Mercury Cycling Club | F12: U8 | G12: B | H12: 4B | I12: 1503357 | J12: 300 | K12: 48.85 | M12: 0 | N12: 8 | O12: 8 | P12: 6 | Q12: 0 | R12: 3 | T12: =SUM(M12:S12) -> 25 | W12: 3 | X12: 5 | Y12: 2 | Z12: 0 | AA12: 5 | AC12: =SUM(V12:AB12) -> 15
A13: 52 | B13: Ted | C13: Burbidge | D13: M | E13: West Riding Track League | F13: U8 | G13: B | H13: 4B | K13: 32.12 | M13: 0 | N13: 0 | O13: 0 | P13: 0 | Q13: 10 | R13: 10 | T13: =SUM(M13:S13) -> 20 | W13: 0 | X13: 0 | Y13: 0 | Z13: 3 | AA13: 1 | AC13: =SUM(V13:AB13) -> 4
A14: 32 | B14: Billy | C14: Wise | D14: M | E14: Northern Outlaws | F14: U8 | G14: B | H14: 4B | I14: 1447767 | J14: 200 | K14: 37.97 | M14: 15 | N14: 0 | O14: 0 | P14: 0 | Q14: 0 | R14: 0 | T14: =SUM(M14:S14) -> 15 | W14: 0 | X14: 0 | Y14: 0 | Z14: 0 | AA14: 0 | AC14: =SUM(V14:AB14) -> 0
A15: 51 | B15: Barney | C15: Hobbs | D15: M | E15: West Riding Track League | F15: U8 | G15: B | H15: 4B | K15: 33.28 | M15: 0 | N15: 0 | O15: 0 | P15: 0 | Q15: 7 | R15: 7 | T15: =SUM(M15:S15) -> 14 | W15: 0 | X15: 0 | Y15: 0 | Z15: 2 | AA15: 0 | AC15: =SUM(V15:AB15) -> 2
A16: 50 | B16: Logan | C16: Render | D16: M | E16: West Riding Track League | F16: U8 | G16: B | H16: 4B | K16: 36.73 | M16: 0 | N16: 0 | O16: 0 | P16: 0 | Q16: 7 | R16: 0 | T16: =SUM(M16:S16) -> 7 | W16: 0 | X16: 0 | Y16: 0 | Z16: 1 | AA16: 0 | AC16: =SUM(V16:AB16) -> 1
A17: 53 | B17: Jacob | C17: Crossley-Wood | D17: M | E17: West Riding Track League | F17: U8 | G17: B | K17: 41.52 | M17: 0 | N17: 0 | O17: 0 | P17: 0 | Q17: 0 | R17: 7 | T17: =SUM(M17:S17) -> 7 | W17: 0 | X17: 0 | Y17: 0 | Z17: 0 | AA17: 2 | AC17: =SUM(V17:AB17) -> 2
A18: 54 | B18: Jacob | C18: Wormwell | D18: M | E18: West Riding Track League | F18: U8 | G18: B | K18: 41.34 | M18: 0 | N18: 0 | O18: 0 | P18: 0 | Q18: 0 | R18: 3 | T18: =SUM(M18:S18) -> 3 | W18: 0 | X18: 0 | Y18: 0 | Z18: 0 | AA18: 0 | AC18: =SUM(V18:AB18) -> 0
A19: 10 | B19: James | C19: Halls | D19: M | E19: West Riding Track League | F19: U8 | G19: B | I19: 1573984 | M19: 0 | N19: 0 | O19: 0 | P19: 0 | Q19: 0 | R19: 0 | T19: =SUM(M19:S19) -> 0 | W19: 0 | X19: 0 | Y19: 0 | Z19: 0 | AA19: 0 | AC19: =SUM(V19:AB19) -> 0
A21: 14 | B21: Holly | C21: Hobbs | D21: F | E21: West Riding Track League | F21: U8 | G21: G | H21: 2G | I21: 1495061 | J21: 200 | K21: 36.69 | M21: 20 | N21: 34 | O21: 30 | P21: 30 | Q21: 34 | R21: 53 | T21: =SUM(M21:S21) -> 201 | W21: 0 | X21: 3 | Y21: 5 | Z21: 2 | AA21: 3 | AC21: =SUM(V21:AB21) -> 13
A22: 34 | B22: Arpita | C22: Kaulgud | D22: F | F22: U8 | G22: G | H22: 2G | J22: 310 | K22: 57.04 | M22: 17 | N22: 30 | O22: 28 | P22: 0 | Q22: 57 | R22: 30 | T22: =SUM(M22:S22) -> 162 | W22: 0 | X22: 0 | Y22: 0 | Z22: 5 | AA22: 5 | AC22: =SUM(V22:AB22) -> 10
A23: 28 | B23: Mary | C23: Venning | D23: F | E23: Leeds Mercury Cycling Club | F23: U8 | G23: G | H23: 2G | I23: 1416365 | J23: 170 | K23: 33.12 | M23: 24 | N23: 0 | O23: 34 | P23: 33 | Q23: 0 | R23: 58 | T23: =SUM(M23:S23) -> 149 | W23: 3 | X23: 2 | Y23: 3 | Z23: 0 | AA23: 2 | AC23: =SUM(V23:AB23) -> 10
A24: 5 | B24: Florence | C24: Bell | D24: F | E24: West Riding Track League | F24: U8 | G24: G | H24: 2G | I24: 1466773 | J24: 170 | K24: 33.3 | M24: 22 | N24: 0 | O24: 32 | P24: 33 | Q24: 0 | R24: 34 | T24: =SUM(M24:S24) -> 121 | W24: 1 | X24: 1 | Y24: 0 | Z24: 0 | AA24: 1 | AC24: =SUM(V24:AB24) -> 3
A25: 12 | B25: Dori | C25: Hindle | D25: F | E25: Shibden Cycling Club | F25: U8 | G25: G | H25: 2G | I25: 1266237 | J25: 280 | K25: 45.3 | M25: 17 | N25: 0 | O25: 26 | P25: 0 | Q25: 0 | R25: 0 | T25: =SUM(M25:S25) -> 43 | W25: 0 | X25: 0 | Y25: 0 | Z25: 0 | AA25: 0 | AC25: =SUM(V25:AB25) -> 0
A27: 18 | B27: Billy | C27: Ladle | D27: M | E27: West Riding Track League | F27: U10 | G27: B | H27: 1B | I27: 1050681 | J27: 50 | K27: 22.78 | M27: 42 | N27: 65 | O27: 86 | P27: 86 | Q27: 90 | R27: 0 | T27: =SUM(M27:S27) -> 369 | W27: 0 | X27: 1 | Y27: 0 | Z27: 3 | AA27: 0 | AC27: =SUM(V27:AB27) -> 4
A28: 20 | B28: Daniel | C28: Middlebrooke | D28: M | E28: Otley CC | F28: U10 | G28: B | H28: 2B | I28: 1111262 | J28: 60 | K28: 23.59 | M28: 36 | N28: 16 | O28: 33 | P28: 34 | Q28: 76 | R28: 77 | T28: =SUM(M28:S28) -> 272 | W28: 0 | X28: 0 | Y28: 0 | Z28: 0 | AA28: 2 | AC28: =SUM(V28:AB28) -> 2
A29: 33 | B29: Jacob | C29: Rook | D29: M | E29: East Bradford CC | F29: U10 | G29: B | H29: 2B | I29: 1235819 | J29: 80 | K29: 24.32 | M29: 33 | N29: 15 | O29: 32 | P29: 32 | Q29: 73 | R29: 36 | T29: =SUM(M29:S29) -> 221 | W29: 0 | X29: 0 | Y29: 0 | Z29: 3 | AA29: 0 | AC29: =SUM(V29:AB29) -> 3
A30: 8 | B30: Vaughn | C30: Fitzgerald | D30: M | E30: Bronte Tykes Cycling Club | F30: U10 | G30: B | H30: 2B | I30: 1466646 | J30: 110 | K30: 27.98 | M30: 30 | N30: 15 | O30: 0 | P30: 0 | Q30: 69 | R30: 48 | T30: =SUM(M30:S30) -> 162 | W30: 0 | X30: 0 | Y30: 0 | Z30: 5 | AA30: 5 | AC30: =SUM(V30:AB30) -> 10
A31: 46 | B31: Joshua | C31: Turton | D31: M | E31: East Bradford CC | F31: U10 | G31: B | H31: 2B | J31: 90 | K31: 23.31 | M31: 0 | N31: 17 | O31: 32 | P31: 0 | Q31: 0 | R31: 87 | T31: =SUM(M31:S31) -> 136 | W31: 0 | X31: 3 | Y31: 0 | Z31: 0 | AA31: 1 | AC31: =SUM(V31:AB31) -> 4
A32: 35 | B32: Joshua | C32: Daly | D32: M | E32: Shibden Cycling Club | F32: U10 | G32: B | H32: 1B | J32: 60 | K32: 23.1 | M32: 71 | N32: 42 | O32: 21 | P32: 0 | Q32: 0 | R32: 0 | T32: =SUM(M32:S32) -> 134 | W32: 1 | X32: 0 | Y32: 0 | Z32: 0 | AA32: 0 | AC32: =SUM(V32:AB32) -> 1
A33: 25 | B33: Henry | C33: Shimmin | D33: M | E33: Albarosa Cycling Club | F33: U10 | G33: B | H33: 2B | I33: 1032358 | J33: 90 | K33: 25.04 | M33: 33 | N33: 29 | O33: 13 | P33: 28 | Q33: 0 | R33: 0 | T33: =SUM(M33:S33) -> 103 | W33: 0 | X33: 0 | Y33: 3 | Z33: 0 | AA33: 0 | AC33: =SUM(V33:AB33) -> 3
A34: 7 | B34: Ben | C34: Crowther | D34: M | E34: Leeds Mercury Cycling Club | F34: U10 | G34: B | H34: 4B | I34: 1252172 | J34: 220 | K34: 39.8 | M34: 28 | N34: 21 | O34: 21 | P34: 0 | Q34: 11 | R34: 0 | T34: =SUM(M34:S34) -> 81 | W34: 0 | X34: 1 | Y34: 0 | Z34: 2 | AA34: 0 | AC34: =SUM(V34:AB34) -> 3
A35: 19 | B35: Flynn | C35: Lambley | D35: M | E35: Huddersfield Star Wheelers | F35: U10 | G35: B | H35: 3B | I35: 1448572 | J35: 180 | K35: 33.36 | M35: 26 | N35: 16 | O35: 15 | P35: 22 | Q35: 0 | R35: 0 | T35: =SUM(M35:S35) -> 79 | W35: 5 | X35: 3 | Y35: 5 | Z35: 0 | AA35: 0 | AC35: =SUM(V35:AB35) -> 13
A36: 23 | B36: Sam | C36: Omar | D36: M | E36: West Riding Track League | F36: U10 | G36: B | H36: 3B | I36: 1472627 | J36: 150 | K36: 30.95 | M36: 0 | N36: 0 | O36: 0 | P36: 0 | Q36: 0 | R36: 0 | T36: =SUM(M36:S36) -> 0 | W36: 0 | X36: 0 | Y36: 0 | Z36: 0 | AA36: 0 | AC36: =SUM(V36:AB36) -> 0
A37: 27 | B37: Luke | C37: Trafford | D37: M | E37: Holmfirth Cycling Club | F37: U10 | G37: B | I37: 1445280 | M37: 0 | N37: 0 | O37: 0 | P37: 0 | Q37: 0 | R37: 0 | T37: =SUM(M37:S37) -> 0 | W37: 0 | X37: 0 | Y37: 0 | Z37: 0 | AA37: 0 | AC37: =SUM(V37:AB37) -> 0
A39: 16 | B39: Amy | C39: Hodgkins | D39: F | E39: Otley CC | F39: U10 | G39: G | H39: 1G | I39: 1247554 | J39: 150 | K39: 28.98 | M39: 34 | N39: 58 | O39: 80 | P39: 86 | Q39: 64 | R39: 92 | T39: =SUM(M39:S39) -> 414 | W39: 0 | X39: 2 | Y39: 2 | Z39: 2 | AA39: 5 | AC39: =SUM(V39:AB39) -> 11
A40: 2 | B40: Isla | C40: Aylward | D40: F | E40: Otley CC | F40: U10 | G40: G | H40: 1G | I40: 1308717 | J40: 130 | K40: 27 | M40: 36 | N40: 65 | O40: 82 | P40: 87 | Q40: 0 | R40: 0 | T40: =SUM(M40:S40) -> 270 | W40: 0 | X40: 1 | Y40: 1 | Z40: 0 | AA40: 0 | AC40: =SUM(V40:AB40) -> 2
A41: 37 | B41: Ruth | C41: Friend | D41: F | F41: U10 | G41: G | H41: 2G | J41: 190 | K41: 34.18 | M41: 32 | N41: 36 | O41: 36 | P41: 56 | Q41: 79 | R41: 0 | T41: =SUM(M41:S41) -> 239 | W41: 0 | X41: 5 | Y41: 1 | Z41: 3 | AA41: 0 | AC41: =SUM(V41:AB41) -> 9
A42: 44 | B42: Olivia | C42: Coldwell | D42: F | E42: Bramley Wheelers | F42: U10 | G42: G | H42: 2G | M42: 15 | N42: 32 | O42: 0 | P42: 28 | Q42: 0 | R42: 0 | T42: =SUM(M42:S42) -> 75 | W42: 2 | X42: 0 | Y42: 2 | Z42: 0 | AA42: 0 | AC42: =SUM(V42:AB42) -> 4
A44: 15 | B44: Alex | C44: Hodgkins | D44: M | E44: Otley CC | F44: U12 | G44: B | H44: 1B | I44: 982258 | J44: 30 | K44: 20.97 | M44: 0 | N44: 64 | O44: 89 | P44: 85 | Q44: 93 | R44: 90 | T44: =SUM(M44:S44) -> 421 | W44: 0 | X44: 0 | Y44: 2 | Z44: 5 | AA44: 1 | AC44: =SUM(V44:AB44) -> 8
A45: 40 | B45: Mark | C45: Ketteringham | D45: M | E45: Harrogate Nova CC | F45: U12 | G45: B | H45: 1B | I45: 1252192 | J45: 50 | K45: 22.65 | M45: 63 | N45: 72 | O45: 93 | P45: 95 | Q45: 0 | R45: 96 | T45: =SUM(M45:S45) -> 419 | W45: 2 | X45: 3 | Y45: 1 | Z45: 0 | AA45: 5 | AC45: =SUM(V45:AB45) -> 11
A46: 30 | B46: Jack | C46: Wilks | D46: M | E46: Otley CC | F46: U12 | G46: B | H46: 1B | I46: 1067079 | J46: 50 | K46: 22.89 | M46: 42 | N46: 44 | O46: 63 | P46: 87 | Q46: 93 | R46: 89 | T46: =SUM(M46:S46) -> 418 | W46: 0 | X46: 5 | Y46: 3 | Z46: 2 | AA46: 0 | AC46: =SUM(V46:AB46) -> 10
A47: 9 | B47: Oscar | C47: Hall | D47: M | E47: Otley CC | F47: U12 | G47: B | H47: 1B | I47: 1308817 | J47: 50 | K47: 22.73 | M47: 19 | N47: 39 | O47: 40 | P47: 77 | Q47: 0 | R47: 85 | T47: =SUM(M47:S47) -> 260 | W47: 0 | X47: 2 | Y47: 0 | Z47: 0 | AA47: 3 | AC47: =SUM(V47:AB47) -> 5
A48: 22 | B48: Jody | C48: Mills | D48: M | E48: Huddersfield Star Wheelers | F48: U12 | G48: B | H48: 1B | I48: 1090257 | J48: 80 | K48: 23.38 | M48: 65 | N48: 42 | O48: 60 | P48: 86 | Q48: 0 | R48: 0 | T48: =SUM(M48:S48) -> 253 | W48: 0 | X48: 0 | Y48: 5 | Z48: 0 | AA48: 0 | AC48: =SUM(V48:AB48) -> 5
A49: 17 | B49: Theo | C49: Hutter | D49: M | E49: Leeds Mercury Cycling Club | F49: U12 | G49: B | H49: 2B | I49: 1139293 | J49: 80 | K49: 22.91 | M49: 0 | N49: 14 | O49: 0 | P49: 29 | Q49: 33 | R49: 47 | T49: =SUM(M49:S49) -> 123 | W49: 0 | X49: 0 | Y49: 0 | Z49: 1 | AA49: 2 | AC49: =SUM(V49:AB49) -> 3
A50: 13 | B50: Ryden | C50: Hindle | D50: M | E50: Shibden Cycling Club | F50: U12 | G50: B | H50: 1B | I50: 1272326 | J50: 40 | K50: 21.51 | M50: 46 | N50: 0 | O50: 64 | P50: 0 | Q50: 0 | R50: 0 | T50: =SUM(M50:S50) -> 110 | W50: 0 | X50: 0 | Y50: 0 | Z50: 0 | AA50: 0 | AC50: =SUM(V50:AB50) -> 0
A51: 1 | B51: Ruairdh | C51: Aylward | D51: M | E51: Otley CC | F51: U12 | G51: B | H51: 2B | I51: 982261 | J51: 80 | K51: 24.3 | M51: 0 | N51: 18 | O51: 35 | P51: 36 | Q51: 0 | R51: 0 | T51: =SUM(M51:S51) -> 89 | W51: 0 | X51: 2 | Y51: 2 | Z51: 0 | AA51: 0 | AC51: =SUM(V51:AB51) -> 4
A52: 42 | B52: Lennart | C52: Rost | D52: M | E52: Leeds Mercury Cycling Club | F52: U12 | G52: B | H52: 2B | J52: 140 | K52: 29.38 | M52: 0 | N52: 18 | O52: 0 | P52: 27 | Q52: 29 | R52: 0 | T52: =SUM(M52:S52) -> 74 | W52: 5 | X52: 0 | Y52: 1 | Z52: 0 | AA52: 0 | AC52: =SUM(V52:AB52) -> 6
A53: 36 | B53: Joseph | C53: Friend | D53: M | F53: U12 | G53: B | H53: 2B | J53: 130 | K53: 28.34 | M53: 0 | N53: 17 | O53: 14 | P53: 0 | Q53: 26 | R53: 0 | T53: =SUM(M53:S53) -> 57 | W53: 3 | X53: 5 | Y53: 5 | Z53: 2 | AA53: 0 | AC53: =SUM(V53:AB53) -> 15
A54: 45 | B54: Cameron | C54: Corrington | D54: M | E54: Leeds Mercury Cycling Club | F54: U12 | G54: B | H54: 2B | J54: 130 | K54: 28.06 | M54: 0 | N54: 0 | O54: 0 | P54: 0 | Q54: 0 | R54: 0 | T54: =SUM(M54:S54) -> 0 | W54: 0 | X54: 0 | Y54: 0 | Z54: 0 | AA54: 0 | AC54: =SUM(V54:AB54) -> 0
A56: 6 | B56: Katherine | C56: Bucknell | D56: F | E56: Leeds Mercury Cycling Club | F56: U12 | G56: G | H56: 2G | I56: 1373520 | J56: 200 | K56: 37.57 | M56: 69 | N56: 68 | O56: 92 | P56: 96 | Q56: 92 | R56: 96 | T56: =SUM(M56:S56) -> 513 | W56: 5 | X56: 5 | Y56: 3 | Z56: 5 | AA56: 3 | AC56: =SUM(V56:AB56) -> 21
A57: 21 | B57: Abigail | C57: Miller | D57: F | E57: Clifton CC | F57: U12 | G57: G | H57: 1G | I57: 1195846 | J57: 60 | K57: 22.07 | M57: 72 | N57: 72 | O57: 96 | P57: 0 | Q57: 96 | R57: 0 | T57: =SUM(M57:S57) -> 336 | W57: 0 | X57: 0 | Y57: 0 | Z57: 3 | AA57: 0 | AC57: =SUM(V57:AB57) -> 3
A58: 3 | B58: Hannah | C58: Back | D58: F | E58: Leeds Mercury Cycling Club | F58: U12 | G58: G | H58: 1G | I58: 1462581 | J58: 120 | K58: 26.06 | M58: 0 | N58: 61 | O58: 84 | P58: 88 | Q58: 0 | R58: 0 | T58: =SUM(M58:S58) -> 233 | W58: 0 | X58: 0 | Y58: 5 | Z58: 0 | AA58: 0 | AC58: =SUM(V58:AB58) -> 5
A59: 31 | B59: Iona | C59: Jackson | D59: F | E59: Albarosa Cycling Club | F59: U12 | G59: G | H59: 1G | I59: 1088556 | J59: 110 | K59: 27.9 | M59: 44 | N59: 44 | O59: 44 | P59: 43 | Q59: 0 | R59: 0 | T59: =SUM(M59:S59) -> 175 | W59: 0 | X59: 3 | Y59: 0 | Z59: 0 | AA59: 0 | AC59: =SUM(V59:AB59) -> 3
A60: 43 | B60: Chloe | C60: Coldwell | D60: F | E60: Bramley Wheelers | F60: U12 | G60: G | H60: 2G | J60: 210 | K60: 38.82 | M60: 21 | N60: 0 | O60: 0 | P60: 0 | Q60: 0 | R60: 0 | T60: =SUM(M60:S60) -> 21 | W60: 0 | X60: 0 | Y60: 0 | Z60: 0 | AA60: 0 | AC60: =SUM(V60:AB60) -> 0
A63: Rider Details | M63: Handicap Race Points
A64: No. | B64: Forename | C64: Name | D64: M/F | E64: Club/Team Name | F64: Cat. | G64: B/G | H64: Group | I64: BC Licence No. | J64: H/Cap | K64: TT Time | M64: Week 1 | N64: Week 2 | O64: Week 3 | P64: Week 4 | Q64: Week 5 | R64: Week 6 | S64: Week 7 | T64: Total Points
A65: 6 | B65: Katherine | C65: Bucknell | D65: F | E65: Leeds Mercury Cycling Club | F65: U12 | G65: G | H65: 2G | I65: 1373520 | J65: 200 | K65: 37.57 | N65: 5 | O65: 5 | P65: 3 | Q65: 5 | R65: 3 | T65: =SUM(M65:S65) -> 21
A66: 4 | B66: Bertie | C66: Bell | D66: M | E66: Leeds Mercury Cycling Club | F66: U8 | G66: B | H66: 3B | I66: 1466770 | J66: 180 | K66: 33.77 | N66: 1 | O66: 5 | P66: 3 | Q66: 5 | R66: 5 | T66: =SUM(M66:S66) -> 19
A67: 29 | B67: Arthur | C67: Venning | D67: M | E67: Leeds Mercury Cycling Club | F67: U8 | G67: B | H67: 4B | I67: 1503357 | J67: 300 | K67: 48.85 | N67: 3 | O67: 5 | P67: 2 | Q67: 0 | R67: 5 | T67: =SUM(M67:S67) -> 15
A68: 36 | B68: Joseph | C68: Friend | D68: M | F68: U12 | G68: B | H68: 2B | J68: 130 | K68: 28.34 | N68: 3 | O68: 5 | P68: 5 | Q68: 2 | R68: 0 | T68: =SUM(M68:S68) -> 15
A69: 47 | B69: Jack | C69: Wormwell | D69: M | F69: U8 | G69: B | H69: 4B | K69: 34.58 | N69: 0 | O69: 2 | P69: 3 | Q69: 5 | R69: 3 | T69: =SUM(M69:S69) -> 13
A70: 14 | B70: Holly | C70: Hobbs | D70: F | E70: West Riding Track League | F70: U8 | G70: G | H70: 2G | I70: 1495061 | J70: 200 | K70: 36.69 | N70: 0 | O70: 3 | P70: 5 | Q70: 2 | R70: 3 | T70: =SUM(M70:S70) -> 13
A71: 19 | B71: Flynn | C71: Lambley | D71: M | E71: Huddersfield Star Wheelers | F71: U10 | G71: B | H71: 3B | I71: 1448572 | J71: 180 | K71: 33.36 | N71: 5 | O71: 3 | P71: 5 | Q71: 0 | R71: 0 | T71: =SUM(M71:S71) -> 13
A72: 16 | B72: Amy | C72: Hodgkins | D72: F | E72: Otley CC | F72: U10 | G72: G | H72: 1G | I72: 1247554 | J72: 150 | K72: 28.98 | N72: 0 | O72: 2 | P72: 2 | Q72: 2 | R72: 5 | T72: =SUM(M72:S72) -> 11
A73: 40 | B73: Mark | C73: Ketteringham | D73: M | E73: Harrogate Nova CC | F73: U12 | G73: B | H73: 1B | I73: 1252192 | J73: 50 | K73: 22.65 | N73: 2 | O73: 3 | P73: 1 | Q73: 0 | R73: 5 | T73: =SUM(M73:S73) -> 11
A74: 41 | B74: Elliot | C74: Islip | D74: M | F74: U8 | G74: B | H74: 4B | J74: 220 | K74: 39.06 | N74: 5 | O74: 0 | P74: 5 | Q74: 0 | R74: 0 | T74: =SUM(M74:S74) -> 10
A75: 34 | B75: Arpita | C75: Kaulgud | D75: F | F75: U8 | G75: G | H75: 2G | J75: 310 | K75: 57.04 | N75: 0 | O75: 0 | P75: 0 | Q75: 5 | R75: 5 | T75: =SUM(M75:S75) -> 10
A76: 28 | B76: Mary | C76: Venning | D76: F | E76: Leeds Mercury Cycling Club | F76: U8 | G76: G | H76: 2G | I76: 1416365 | J76: 170 | K76: 33.12 | N76: 3 | O76: 2 | P76: 3 | Q76: 0 | R76: 2 | T76: =SUM(M76:S76) -> 10
A77: 8 | B77: Vaughn | C77: Fitzgerald | D77: M | E77: Bronte Tykes Cycling Club | F77: U10 | G77: B | H77: 2B | I77: 1466646 | J77: 110 | K77: 27.98 | N77: 0 | O77: 0 | P77: 0 | Q77: 5 | R77: 5 | T77: =SUM(M77:S77) -> 10
A78: 30 | B78: Jack | C78: Wilks | D78: M | E78: Otley CC | F78: U12 | G78: B | H78: 1B | I78: 1067079 | J78: 50 | K78: 22.89 | N78: 0 | O78: 5 | P78: 3 | Q78: 2 | R78: 0 | T78: =SUM(M78:S78) -> 10
A79: 37 | B79: Ruth | C79: Friend | D79: F | F79: U10 | G79: G | H79: 2G | J79: 190 | K79: 34.18 | N79: 0 | O79: 5 | P79: 1 | Q79: 3 | R79: 0 | T79: =SUM(M79:S79) -> 9
A80: 15 | B80: Alex | C80: Hodgkins | D80: M | E80: Otley CC | F80: U12 | G80: B | H80: 1B | I80: 982258 | J80: 30 | K80: 20.97 | N80: 0 | O80: 0 | P80: 2 | Q80: 5 | R80: 1 | T80: =SUM(M80:S80) -> 8
A81: 11 | B81: Thomas | C81: Hetherington | D81: M | E81: Leeds Mercury Cycling Club | F81: U8 | G81: B | H81: 3B | I81: 1472929 | J81: 150 | K81: 30.45 | N81: 0 | O81: 0 | P81: 1 | Q81: 3 | R81: 3 | T81: =SUM(M81:S81) -> 7
A82: 26 | B82: Oliver | C82: Shimmin | D82: M | E82: Albarosa Cycling Club | F82: U8 | G82: B | H82: 4B | I82: 1563991 | J82: 210 | K82: 38.5 | N82: 2 | O82: 3 | P82: 1 | Q82: 0 | R82: 0 | T82: =SUM(M82:S82) -> 6
A83: 42 | B83: Lennart | C83: Rost | D83: M | E83: Leeds Mercury Cycling Club | F83: U12 | G83: B | H83: 2B | J83: 140 | K83: 29.38 | N83: 5 | O83: 0 | P83: 1 | Q83: 0 | R83: 0 | T83: =SUM(M83:S83) -> 6
A84: 24 | B84: Ewan | C84: Plumb | D84: M | E84: Huddersfield Star Wheelers | F84: U8 | G84: B | H84: 3B | I84: 1312817 | J84: 150 | K84: 30.09 | N84: 3 | O84: 0 | P84: 2 | Q84: 0 | R84: 0 | T84: =SUM(M84:S84) -> 5
A85: 9 | B85: Oscar | C85: Hall | D85: M | E85: Otley CC | F85: U12 | G85: B | H85: 1B | I85: 1308817 | J85: 50 | K85: 22.73 | N85: 0 | O85: 2 | P85: 0 | Q85: 0 | R85: 3 | T85: =SUM(M85:S85) -> 5
A86: 22 | B86: Jody | C86: Mills | D86: M | E86: Huddersfield Star Wheelers | F86: U12 | G86: B | H86: 1B | I86: 1090257 | J86: 80 | K86: 23.38 | N86: 0 | O86: 0 | P86: 5 | Q86: 0 | R86: 0 | T86: =SUM(M86:S86) -> 5
A87: 3 | B87: Hannah | C87: Back | D87: F | E87: Leeds Mercury Cycling Club | F87: U12 | G87: G | H87: 1G | I87: 1462581 | J87: 120 | K87: 26.06 | N87: 0 | O87: 0 | P87: 5 | Q87: 0 | R87: 0 | T87: =SUM(M87:S87) -> 5
A88: 52 | B88: Ted | C88: Burbidge | D88: M | E88: West Riding Track League | F88: U8 | G88: B | H88: 4B | K88: 32.12 | N88: 0 | O88: 0 | P88: 0 | Q88: 3 | R88: 1 | T88: =SUM(M88:S88) -> 4
A89: 18 | B89: Billy | C89: Ladle | D89: M | E89: West Riding Track League | F89: U10 | G89: B | H89: 1B | I89: 1050681 | J89: 50 | K89: 22.78 | N89: 0 | O89: 1 | P89: 0 | Q89: 3 | R89: 0 | T89: =SUM(M89:S89) -> 4
A90: 46 | B90: Joshua | C90: Turton | D90: M | E90: East Bradford CC | F90: U10 | G90: B | H90: 2B | J90: 90 | K90: 23.31 | N90: 0 | O90: 3 | P90: 0 | Q90: 0 | R90: 1 | T90: =SUM(M90:S90) -> 4
A91: 44 | B91: Olivia | C91: Coldwell | D91: F | E91: Bramley Wheelers | F91: U10 | G91: G | H91: 2G | N91: 2 | O91: 0 | P91: 2 | Q91: 0 | R91: 0 | T91: =SUM(M91:S91) -> 4
A92: 1 | B92: Ruairdh | C92: Aylward | D92: M | E92: Otley CC | F92: U12 | G92: B | H92: 2B | I92: 982261 | J92: 80 | K92: 24.3 | N92: 0 | O92: 2 | P92: 2 | Q92: 0 | R92: 0 | T92: =SUM(M92:S92) -> 4
A93: 5 | B93: Florence | C93: Bell | D93: F | E93: West Riding Track League | F93: U8 | G93: G | H93: 2G | I93: 1466773 | J93: 170 | K93: 33.3 | N93: 1 | O93: 1 | P93: 0 | Q93: 0 | R93: 1 | T93: =SUM(M93:S93) -> 3
A94: 33 | B94: Jacob | C94: Rook | D94: M | E94: East Bradford CC | F94: U10 | G94: B | H94: 2B | I94: 1235819 | J94: 80 | K94: 24.32 | N94: 0 | O94: 0 | P94: 0 | Q94: 3 | R94: 0 | T94: =SUM(M94:S94) -> 3
A95: 25 | B95: Henry | C95: Shimmin | D95: M | E95: Albarosa Cycling Club | F95: U10 | G95: B | H95: 2B | I95: 1032358 | J95: 90 | K95: 25.04 | N95: 0 | O95: 0 | P95: 3 | Q95: 0 | R95: 0 | T95: =SUM(M95:S95) -> 3
A96: 7 | B96: Ben | C96: Crowther | D96: M | E96: Leeds Mercury Cycling Club | F96: U10 | G96: B | H96: 4B | I96: 1252172 | J96: 220 | K96: 39.8 | N96: 0 | O96: 1 | P96: 0 | Q96: 2 | R96: 0 | T96: =SUM(M96:S96) -> 3
A97: 17 | B97: Theo | C97: Hutter | D97: M | E97: Leeds Mercury Cycling Club | F97: U12 | G97: B | H97: 2B | I97: 1139293 | J97: 80 | K97: 22.91 | N97: 0 | O97: 0 | P97: 0 | Q97: 1 | R97: 2 | T97: =SUM(M97:S97) -> 3
A98: 21 | B98: Abigail | C98: Miller | D98: F | E98: Clifton CC | F98: U12 | G98: G | H98: 1G | I98: 1195846 | J98: 60 | K98: 22.07 | N98: 0 | O98: 0 | P98: 0 | Q98: 3 | R98: 0 | T98: =SUM(M98:S98) -> 3
A99: 31 | B99: Iona | C99: Jackson | D99: F | E99: Albarosa Cycling Club | F99: U12 | G99: G | H99: 1G | I99: 1088556 | J99: 110 | K99: 27.9 | N99: 0 | O99: 3 | P99: 0 | Q99: 0 | R99: 0 | T99: =SUM(M99:S99) -> 3
A100: 38 | B100: George | C100: Charlton | D100: M | E100: Otley CC | F100: U8 | G100: B | H100: 3B | J100: 180 | K100: 33.49 | N100: 0 | O100: 2 | P100: 0 | Q100: 0 | R100: 0 | T100: =SUM(M100:S100) -> 2
A101: 51 | B101: Barney | C101: Hobbs | D101: M | E101: West Riding Track League | F101: U8 | G101: B | H101: 4B | K101: 33.28 | N101: 0 | O101: 0 | P101: 0 | Q101: 2 | R101: 0 | T101: =SUM(M101:S101) -> 2
A102: 53 | B102: Jacob | C102: Crossley-Wood | D102: M | E102: West Riding Track League | F102: U8 | G102: B | K102: 41.52 | N102: 0 | O102: 0 | P102: 0 | Q102: 0 | R102: 2 | T102: =SUM(M102:S102) -> 2
A103: 20 | B103: Daniel | C103: Middlebrooke | D103: M | E103: Otley CC | F103: U10 | G103: B | H103: 2B | I103: 1111262 | J103: 60 | K103: 23.59 | N103: 0 | O103: 0 | P103: 0 | Q103: 0 | R103: 2 | T103: =SUM(M103:S103) -> 2
A104: 2 | B104: Isla | C104: Aylward | D104: F | E104: Otley CC | F104: U10 | G104: G | H104: 1G | I104: 1308717 | J104: 130 | K104: 27 | N104: 0 | O104: 1 | P104: 1 | Q104: 0 | R104: 0 | T104: =SUM(M104:S104) -> 2
A105: 49 | B105: Henry | C105: Bairstow | D105: M | E105: East Bradford CC | F105: U8 | G105: B | H105: 2B | K105: 23.3 | N105: 0 | O105: 0 | P105: 0 | Q105: 1 | R105: 0 | T105: =SUM(M105:S105) -> 1
A106: 48 | B106: Arthur | C106: Bairstow | D106: M | E106: East Bradford CC | F106: U8 | G106: B | H106: 2B | K106: 23.18 | N106: 0 | O106: 1 | P106: 0 | Q106: 0 | R106: 0 | T106: =SUM(M106:S106) -> 1
A107: 50 | B107: Logan | C107: Render | D107: M | E107: West Riding Track League | F107: U8 | G107: B | H107: 4B | K107: 36.73 | N107: 0 | O107: 0 | P107: 0 | Q107: 1 | R107: 0 | T107: =SUM(M107:S107) -> 1
...
