Workbook

Sheet Rider List
A1: Rider Details | M1: Scratch Race Points | V1: Handicap Race Points
A2: No. | B2: Forename | C2: Name | D2: M/F | E2: Club/Team Name | F2: Cat. | G2: B/G | H2: Group | I2: BC Licence No. | J2: H/Cap | K2: TT Time | M2: Week 1 | N2: Week 2 | O2: Week 3 | P2: Week 4 | Q2: Week 5 | R2: Week 6 | S2: Week 7 | T2: Total Points | V2: Week 1 | W2: Week 2 | X2: Week 3 | Y2: Week 4 | Z2: Week 5 | AA2: Week 6 | AB2: Week 7 | AC2: Total Points
A3: 1 | B3: Ruairdh | C3: Aylward | D3: M | E3: Otley CC | F3: U12 | G3: B | H3: 2B | I3: 982261 | J3: 80 | K3: 24.3 | M3: =SUMIFS('Week 1 13th May'!I$2:I$150,'Week 1 13th May'!D$2:D$150,'Rider List'!A3) -> 0 | N3: =SUMIFS('Week 2 20th May'!I$2:I$150,'Week 2 20th May'!D$2:D$150,'Rider List'!A3) -> 18 | O3: =SUMIFS('Week 3 3rd June'!I$2:I$200,'Week 3 3rd June'!D$2:D$200,'Rider List'!A3) -> 35 | P3: =SUMIFS('Week 4 8th July'!I$2:I$200,'Week 4 8th July'!D$2:D$200,'Rider List'!A3) -> 36 | Q3: =SUMIFS('Week 5 22nd July'!I$2:I$200,'Week 5 22nd July'!D$2:D$200,'Rider List'!A3) -> 0 | R3: =SUMIFS('Week 6 29th July'!I$2:I$200,'Week 6 29th July'!D$2:D$200,'Rider List'!A3) -> 0 | T3: =SUM(M3:S3) -> 89 | W3: =SUMIFS('Week 2 20th May'!J$2:J$150,'Week 2 20th May'!D$2:D$150,'Rider List'!A3) -> 0 | X3: =SUMIFS('Week 3 3rd June'!J$2:J$150,'Week 3 3rd June'!D$2:D$150,'Rider List'!A3) -> 2 | Y3: =SUMIFS('Week 4 8th July'!J$2:J$150,'Week 4 8th July'!D$2:D$150,'Rider List'!A3) -> 2 | Z3: =SUMIFS('Week 5 22nd July'!J$2:J$150,'Week 5 22nd July'!D$2:D$150,'Rider List'!A3) -> 0 | AA3: =SUMIFS('Week 6 29th July'!J$2:J$150,'Week 6 29th July'!D$2:D$150,'Rider List'!A3) -> 0 | AC3: =SUM(V3:AB3) -> 4 | AG3: Scratch Race Points
A4: 2 | B4: Isla | C4: Aylward | D4: F | E4: Otley CC | F4: U10 | G4: G | H4: 1G | I4: 1308717 | J4: 130 | K4: 27 | M4: =SUMIFS('Week 1 13th May'!I$2:I$150,'Week 1 13th May'!D$2:D$150,'Rider List'!A4) -> 36 | N4: =SUMIFS('Week 2 20th May'!I$2:I$150,'Week 2 20th May'!D$2:D$150,'Rider List'!A4) -> 65 | O4: =SUMIFS('Week 3 3rd June'!I$2:I$200,'Week 3 3rd June'!D$2:D$200,'Rider List'!A4) -> 82 | P4: =SUMIFS('Week 4 8th July'!I$2:I$200,'Week 4 8th July'!D$2:D$200,'Rider List'!A4) -> 87 | Q4: =SUMIFS('Week 5 22nd July'!I$2:I$200,'Week 5 22nd July'!D$2:D$200,'Rider List'!A4) -> 0 | R4: =SUMIFS('Week 6 29th July'!I$2:I$200,'Week 6 29th July'!D$2:D$200,'Rider List'!A4) -> 0 | T4: =SUM(M4:S4) -> 270 | W4: =SUMIFS('Week 2 20th May'!J$2:J$150,'Week 2 20th May'!D$2:D$150,'Rider List'!A4) -> 0 | X4: =SUMIFS('Week 3 3rd June'!J$2:J$150,'Week 3 3rd June'!D$2:D$150,'Rider List'!A4) -> 1 | Y4: =SUMIFS('Week 4 8th July'!J$2:J$150,'Week 4 8th July'!D$2:D$150,'Rider List'!A4) -> 1 | Z4: =SUMIFS('Week 5 22nd July'!J$2:J$150,'Week 5 22nd July'!D$2:D$150,'Rider List'!A4) -> 0 | AA4: =SUMIFS('Week 6 29th July'!J$2:J$150,'Week 6 29th July'!D$2:D$150,'Rider List'!A4) -> 0 | AC4: =SUM(V4:AB4) -> 2 | AH4: 1st | AI4: 2nd | AJ4: 3rd | AK4: 4th | AL4: 5th | AM4: 6th
A5: 3 | B5: Hannah | C5: Back | D5: F | E5: Leeds Mercury Cycling Club | F5: U12 | G5: G | H5: 1G | I5: 1462581 | J5: 120 | K5: 26.06 | M5: =SUMIFS('Week 1 13th May'!I$2:I$150,'Week 1 13th May'!D$2:D$150,'Rider List'!A5) -> 0 | N5: =SUMIFS('Week 2 20th May'!I$2:I$150,'Week 2 20th May'!D$2:D$150,'Rider List'!A5) -> 61 | O5: =SUMIFS('Week 3 3rd June'!I$2:I$200,'Week 3 3rd June'!D$2:D$200,'Rider List'!A5) -> 84 | P5: =SUMIFS('Week 4 8th July'!I$2:I$200,'Week 4 8th July'!D$2:D$200,'Rider List'!A5) -> 88 | Q5: =SUMIFS('Week 5 22nd July'!I$2:I$200,'Week 5 22nd July'!D$2:D$200,'Rider List'!A5) -> 0 | R5: =SUMIFS('Week 6 29th July'!I$2:I$200,'Week 6 29th July'!D$2:D$200,'Rider List'!A5) -> 0 | T5: =SUM(M5:S5) -> 233 | W5: =SUMIFS('Week 2 20th May'!J$2:J$150,'Week 2 20th May'!D$2:D$150,'Rider List'!A5) -> 0 | X5: =SUMIFS('Week 3 3rd June'!J$2:J$150,'Week 3 3rd June'!D$2:D$150,'Rider List'!A5) -> 0 | Y5: =SUMIFS('Week 4 8th July'!J$2:J$150,'Week 4 8th July'!D$2:D$150,'Rider List'!A5) -> 5 | Z5: =SUMIFS('Week 5 22nd July'!J$2:J$150,'Week 5 22nd July'!D$2:D$150,'Rider List'!A5) -> 0 | AA5: =SUMIFS('Week 6 29th July'!J$2:J$150,'Week 6 29th July'!D$2:D$150,'Rider List'!A5) -> 0 | AC5: =SUM(V5:AB5) -> 5 | AG5: Group 1 | AH5: 24 | AI5: 23 | AJ5: 22 | AK5: 21 | AL5: 20 | AM5: 19
A6: 4 | B6: Bertie | C6: Bell | D6: M | E6: Leeds Mercury Cycling Club | F6: U8 | G6: B | H6: 3B | I6: 1466770 | J6: 180 | K6: 33.77 | M6: =SUMIFS('Week 1 13th May'!I$2:I$150,'Week 1 13th May'!D$2:D$150,'Rider List'!A6) -> 18 | N6: =SUMIFS('Week 2 20th May'!I$2:I$150,'Week 2 20th May'!D$2:D$150,'Rider List'!A6) -> 19 | O6: =SUMIFS('Week 3 3rd June'!I$2:I$200,'Week 3 3rd June'!D$2:D$200,'Rider List'!A6) -> 7 | P6: =SUMIFS('Week 4 8th July'!I$2:I$200,'Week 4 8th July'!D$2:D$200,'Rider List'!A6) -> 18 | Q6: =SUMIFS('Week 5 22nd July'!I$2:I$200,'Week 5 22nd July'!D$2:D$200,'Rider List'!A6) -> 18 | R6: =SUMIFS('Week 6 29th July'!I$2:I$200,'Week 6 29th July'!D$2:D$200,'Rider List'!A6) -> 24 | T6: =SUM(M6:S6) -> 104 | W6: =SUMIFS('Week 2 20th May'!J$2:J$150,'Week 2 20th May'!D$2:D$150,'Rider List'!A6) -> 1 | X6: =SUMIFS('Week 3 3rd June'!J$2:J$150,'Week 3 3rd June'!D$2:D$150,'Rider List'!A6) -> 5 | Y6: =SUMIFS('Week 4 8th July'!J$2:J$150,'Week 4 8th July'!D$2:D$150,'Rider List'!A6) -> 3 | Z6: =SUMIFS('Week 5 22nd July'!J$2:J$150,'Week 5 22nd July'!D$2:D$150,'Rider List'!A6) -> 5 | AA6: =SUMIFS('Week 6 29th July'!J$2:J$150,'Week 6 29th July'!D$2:D$150,'Rider List'!A6) -> 5 | AC6: =SUM(V6:AB6) -> 19 | AG6: Group 2 | AH6: 18 | AI6: 17 | AJ6: 16 | AK6: 15 | AL6: 14 | AM6: 13
A7: 5 | B7: Florence | C7: Bell | D7: F | E7: West Riding Track League | F7: U8 | G7: G | H7: 2G | I7: 1466773 | J7: 170 | K7: 33.3 | M7: =SUMIFS('Week 1 13th May'!I$2:I$150,'Week 1 13th May'!D$2:D$150,'Rider List'!A7) -> 22 | N7: =SUMIFS('Week 2 20th May'!I$2:I$150,'Week 2 20th May'!D$2:D$150,'Rider List'!A7) -> 0 | O7: =SUMIFS('Week 3 3rd June'!I$2:I$200,'Week 3 3rd June'!D$2:D$200,'Rider List'!A7) -> 32 | P7: =SUMIFS('Week 4 8th July'!I$2:I$200,'Week 4 8th July'!D$2:D$200,'Rider List'!A7) -> 33 | Q7: =SUMIFS('Week 5 22nd July'!I$2:I$200,'Week 5 22nd July'!D$2:D$200,'Rider List'!A7) -> 0 | R7: =SUMIFS('Week 6 29th July'!I$2:I$200,'Week 6 29th July'!D$2:D$200,'Rider List'!A7) -> 34 | T7: =SUM(M7:S7) -> 121 | W7: =SUMIFS('Week 2 20th May'!J$2:J$150,'Week 2 20th May'!D$2:D$150,'Rider List'!A7) -> 1 | X7: =SUMIFS('Week 3 3rd June'!J$2:J$150,'Week 3 3rd June'!D$2:D$150,'Rider List'!A7) -> 1 | Y7: =SUMIFS('Week 4 8th July'!J$2:J$150,'Week 4 8th July'!D$2:D$150,'Rider List'!A7) -> 0 | Z7: =SUMIFS('Week 5 22nd July'!J$2:J$150,'Week 5 22nd July'!D$2:D$150,'Rider List'!A7) -> 0 | AA7: =SUMIFS('Week 6 29th July'!J$2:J$150,'Week 6 29th July'!D$2:D$150,'Rider List'!A7) -> 1 | AC7: =SUM(V7:AB7) -> 3 | AG7: Group 3 | AH7: 12 | AI7: 11 | AJ7: 10 | AK7: 9 | AL7: 8 | AM7: 7
A8: 6 | B8: Katherine | C8: Bucknell | D8: F | E8: Leeds Mercury Cycling Club | F8: U12 | G8: G | H8: 2G | I8: 1373520 | J8: 200 | K8: 37.57 | M8: =SUMIFS('Week 1 13th May'!I$2:I$150,'Week 1 13th May'!D$2:D$150,'Rider List'!A8) -> 69 | N8: =SUMIFS('Week 2 20th May'!I$2:I$150,'Week 2 20th May'!D$2:D$150,'Rider List'!A8) -> 68 | O8: =SUMIFS('Week 3 3rd June'!I$2:I$200,'Week 3 3rd June'!D$2:D$200,'Rider List'!A8) -> 92 | P8: =SUMIFS('Week 4 8th July'!I$2:I$200,'Week 4 8th July'!D$2:D$200,'Rider List'!A8) -> 96 | Q8: =SUMIFS('Week 5 22nd July'!I$2:I$200,'Week 5 22nd July'!D$2:D$200,'Rider List'!A8) -> 92 | R8: =SUMIFS('Week 6 29th July'!I$2:I$200,'Week 6 29th July'!D$2:D$200,'Rider List'!A8) -> 96 | T8: =SUM(M8:S8) -> 513 | W8: =SUMIFS('Week 2 20th May'!J$2:J$150,'Week 2 20th May'!D$2:D$150,'Rider List'!A8) -> 5 | X8: =SUMIFS('Week 3 3rd June'!J$2:J$150,'Week 3 3rd June'!D$2:D$150,'Rider List'!A8) -> 5 | Y8: =SUMIFS('Week 4 8th July'!J$2:J$150,'Week 4 8th July'!D$2:D$150,'Rider List'!A8) -> 3 | Z8: =SUMIFS('Week 5 22nd July'!J$2:J$150,'Week 5 22nd July'!D$2:D$150,'Rider List'!A8) -> 5 | AA8: =SUMIFS('Week 6 29th July'!J$2:J$150,'Week 6 29th July'!D$2:D$150,'Rider List'!A8) -> 3 | AC8: =SUM(V8:AB8) -> 21 | AG8: Group 4 | AH8: 6 | AI8: 5 | AJ8: 4 | AK8: 3 | AL8: 2 | AM8: 1
A9: 7 | B9: Ben | C9: Crowther | D9: M | E9: Leeds Mercury Cycling Club | F9: U10 | G9: B | H9: 4B | I9: 1252172 | J9: 220 | K9: 39.8 | M9: =SUMIFS('Week 1 13th May'!I$2:I$150,'Week 1 13th May'!D$2:D$150,'Rider List'!A9) -> 28 | N9: =SUMIFS('Week 2 20th May'!I$2:I$150,'Week 2 20th May'!D$2:D$150,'Rider List'!A9) -> 21 | O9: =SUMIFS('Week 3 3rd June'!I$2:I$200,'Week 3 3rd June'!D$2:D$200,'Rider List'!A9) -> 21 | P9: =SUMIFS('Week 4 8th July'!I$2:I$200,'Week 4 8th July'!D$2:D$200,'Rider List'!A9) -> 0 | Q9: =SUMIFS('Week 5 22nd July'!I$2:I$200,'Week 5 22nd July'!D$2:D$200,'Rider List'!A9) -> 11 | R9: =SUMIFS('Week 6 29th July'!I$2:I$200,'Week 6 29th July'!D$2:D$200,'Rider List'!A9) -> 0 | T9: =SUM(M9:S9) -> 81 | W9: =SUMIFS('Week 2 20th May'!J$2:J$150,'Week 2 20th May'!D$2:D$150,'Rider List'!A9) -> 0 | X9: =SUMIFS('Week 3 3rd June'!J$2:J$150,'Week 3 3rd June'!D$2:D$150,'Rider List'!A9) -> 1 | Y9: =SUMIFS('Week 4 8th July'!J$2:J$150,'Week 4 8th July'!D$2:D$150,'Rider List'!A9) -> 0 | Z9: =SUMIFS('Week 5 22nd July'!J$2:J$150,'Week 5 22nd July'!D$2:D$150,'Rider List'!A9) -> 2 | AA9: =SUMIFS('Week 6 29th July'!J$2:J$150,'Week 6 29th July'!D$2:D$150,'Rider List'!A9) -> 0 | AC9: =SUM(V9:AB9) -> 3
A10: 8 | B10: Vaughn | C10: Fitzgerald | D10: M | E10: Bronte Tykes Cycling Club | F10: U10 | G10: B | H10: 2B | I10: 1466646 | J10: 110 | K10: 27.98 | M10: =SUMIFS('Week 1 13th May'!I$2:I$150,'Week 1 13th May'!D$2:D$150,'Rider List'!A10) -> 30 | N10: =SUMIFS('Week 2 20th May'!I$2:I$150,'Week 2 20th May'!D$2:D$150,'Rider List'!A10) -> 15 | O10: =SUMIFS('Week 3 3rd June'!I$2:I$200,'Week 3 3rd June'!D$2:D$200,'Rider List'!A10) -> 0 | P10: =SUMIFS('Week 4 8th July'!I$2:I$200,'Week 4 8th July'!D$2:D$200,'Rider List'!A10) -> 0 | Q10: =SUMIFS('Week 5 22nd July'!I$2:I$200,'Week 5 22nd July'!D$2:D$200,'Rider List'!A10) -> 69 | R10: =SUMIFS('Week 6 29th July'!I$2:I$200,'Week 6 29th July'!D$2:D$200,'Rider List'!A10) -> 48 | T10: =SUM(M10:S10) -> 162 | W10: =SUMIFS('Week 2 20th May'!J$2:J$150,'Week 2 20th May'!D$2:D$150,'Rider List'!A10) -> 0 | X10: =SUMIFS('Week 3 3rd June'!J$2:J$150,'Week 3 3rd June'!D$2:D$150,'Rider List'!A10) -> 0 | Y10: =SUMIFS('Week 4 8th July'!J$2:J$150,'Week 4 8th July'!D$2:D$150,'Rider List'!A10) -> 0 | Z10: =SUMIFS('Week 5 22nd July'!J$2:J$150,'Week 5 22nd July'!D$2:D$150,'Rider List'!A10) -> 5 | AA10: =SUMIFS('Week 6 29th July'!J$2:J$150,'Week 6 29th July'!D$2:D$150,'Rider List'!A10) -> 5 | AC10: =SUM(V10:AB10) -> 10 | AG10: Handicap Race Points
A11: 9 | B11: Oscar | C11: Hall | D11: M | E11: Otley CC | F11: U12 | G11: B | H11: 1B | I11: 1308817 | J11: 50 | K11: 22.73 | M11: =SUMIFS('Week 1 13th May'!I$2:I$150,'Week 1 13th May'!D$2:D$150,'Rider List'!A11) -> 19 | N11: =SUMIFS('Week 2 20th May'!I$2:I$150,'Week 2 20th May'!D$2:D$150,'Rider List'!A11) -> 39 | O11: =SUMIFS('Week 3 3rd June'!I$2:I$200,'Week 3 3rd June'!D$2:D$200,'Rider List'!A11) -> 40 | P11: =SUMIFS('Week 4 8th July'!I$2:I$200,'Week 4 8th July'!D$2:D$200,'Rider List'!A11) -> 77 | Q11: =SUMIFS('Week 5 22nd July'!I$2:I$200,'Week 5 22nd July'!D$2:D$200,'Rider List'!A11) -> 0 | R11: =SUMIFS('Week 6 29th July'!I$2:I$200,'Week 6 29th July'!D$2:D$200,'Rider List'!A11) -> 85 | T11: =SUM(M11:S11) -> 260 | W11: =SUMIFS('Week 2 20th May'!J$2:J$150,'Week 2 20th May'!D$2:D$150,'Rider List'!A11) -> 0 | X11: =SUMIFS('Week 3 3rd June'!J$2:J$150,'Week 3 3rd June'!D$2:D$150,'Rider List'!A11) -> 2 | Y11: =SUMIFS('Week 4 8th July'!J$2:J$150,'Week 4 8th July'!D$2:D$150,'Rider List'!A11) -> 0 | Z11: =SUMIFS('Week 5 22nd July'!J$2:J$150,'Week 5 22nd July'!D$2:D$150,'Rider List'!A11) -> 0 | AA11: =SUMIFS('Week 6 29th July'!J$2:J$150,'Week 6 29th July'!D$2:D$150,'Rider List'!A11) -> 3 | AC11: =SUM(V11:AB11) -> 5 | AG11: 1st | AH11: 2nd | AI11: 3rd | AJ11: 4th
A12: 10 | B12: James | C12: Halls | D12: M | E12: West Riding Track League | F12: U8 | G12: B | I12: 1573984 | M12: =SUMIFS('Week 1 13th May'!I$2:I$150,'Week 1 13th May'!D$2:D$150,'Rider List'!A12) -> 0 | N12: =SUMIFS('Week 2 20th May'!I$2:I$150,'Week 2 20th May'!D$2:D$150,'Rider List'!A12) -> 0 | O12: =SUMIFS('Week 3 3rd June'!I$2:I$200,'Week 3 3rd June'!D$2:D$200,'Rider List'!A12) -> 0 | P12: =SUMIFS('Week 4 8th July'!I$2:I$200,'Week 4 8th July'!D$2:D$200,'Rider List'!A12) -> 0 | Q12: =SUMIFS('Week 5 22nd July'!I$2:I$200,'Week 5 22nd July'!D$2:D$200,'Rider List'!A12) -> 0 | R12: =SUMIFS('Week 6 29th July'!I$2:I$200,'Week 6 29th July'!D$2:D$200,'Rider List'!A12) -> 0 | T12: =SUM(M12:S12) -> 0 | W12: =SUMIFS('Week 2 20th May'!J$2:J$150,'Week 2 20th May'!D$2:D$150,'Rider List'!A12) -> 0 | X12: =SUMIFS('Week 3 3rd June'!J$2:J$150,'Week 3 3rd June'!D$2:D$150,'Rider List'!A12) -> 0 | Y12: =SUMIFS('Week 4 8th July'!J$2:J$150,'Week 4 8th July'!D$2:D$150,'Rider List'!A12) -> 0 | Z12: =SUMIFS('Week 5 22nd July'!J$2:J$150,'Week 5 22nd July'!D$2:D$150,'Rider List'!A12) -> 0 | AA12: =SUMIFS('Week 6 29th July'!J$2:J$150,'Week 6 29th July'!D$2:D$150,'Rider List'!A12) -> 0 | AC12: =SUM(V12:AB12) -> 0 | AG12: 5 | AH12: 3 | AI12: 2 | AJ12: 1
A13: 11 | B13: Thomas | C13: Hetherington | D13: M | E13: Leeds Mercury Cycling Club | F13: U8 | G13: B | H13: 3B | I13: 1472929 | J13: 150 | K13: 30.45 | M13: =SUMIFS('Week 1 13th May'!I$2:I$150,'Week 1 13th May'!D$2:D$150,'Rider List'!A13) -> 24 | N13: =SUMIFS('Week 2 20th May'!I$2:I$150,'Week 2 20th May'!D$2:D$150,'Rider List'!A13) -> 23 | O13: =SUMIFS('Week 3 3rd June'!I$2:I$200,'Week 3 3rd June'!D$2:D$200,'Rider List'!A13) -> 21 | P13: =SUMIFS('Week 4 8th July'!I$2:I$200,'Week 4 8th July'!D$2:D$200,'Rider List'!A13) -> 24 | Q13: =SUMIFS('Week 5 22nd July'!I$2:I$200,'Week 5 22nd July'!D$2:D$200,'Rider List'!A13) -> 21 | R13: =SUMIFS('Week 6 29th July'!I$2:I$200,'Week 6 29th July'!D$2:D$200,'Rider List'!A13) -> 43 | T13: =SUM(M13:S13) -> 156 | W13: =SUMIFS('Week 2 20th May'!J$2:J$150,'Week 2 20th May'!D$2:D$150,'Rider List'!A13) -> 0 | X13: =SUMIFS('Week 3 3rd June'!J$2:J$150,'Week 3 3rd June'!D$2:D$150,'Rider List'!A13) -> 0 | Y13: =SUMIFS('Week 4 8th July'!J$2:J$150,'Week 4 8th July'!D$2:D$150,'Rider List'!A13) -> 1 | Z13: =SUMIFS('Week 5 22nd July'!J$2:J$150,'Week 5 22nd July'!D$2:D$150,'Rider List'!A13) -> 3 | AA13: =SUMIFS('Week 6 29th July'!J$2:J$150,'Week 6 29th July'!D$2:D$150,'Rider List'!A13) -> 3 | AC13: =SUM(V13:AB13) -> 7
A14: 12 | B14: Dori | C14: Hindle | D14: F | E14: Shibden Cycling Club | F14: U8 | G14: G | H14: 2G | I14: 1266237 | J14: 280 | K14: 45.3 | M14: =SUMIFS('Week 1 13th May'!I$2:I$150,'Week 1 13th May'!D$2:D$150,'Rider List'!A14) -> 17 | N14: =SUMIFS('Week 2 20th May'!I$2:I$150,'Week 2 20th May'!D$2:D$150,'Rider List'!A14) -> 0 | O14: =SUMIFS('Week 3 3rd June'!I$2:I$200,'Week 3 3rd June'!D$2:D$200,'Rider List'!A14) -> 26 | P14: =SUMIFS('Week 4 8th July'!I$2:I$200,'Week 4 8th July'!D$2:D$200,'Rider List'!A14) -> 0 | Q14: =SUMIFS('Week 5 22nd July'!I$2:I$200,'Week 5 22nd July'!D$2:D$200,'Rider List'!A14) -> 0 | R14: =SUMIFS('Week 6 29th July'!I$2:I$200,'Week 6 29th July'!D$2:D$200,'Rider List'!A14) -> 0 | T14: =SUM(M14:S14) -> 43 | W14: =SUMIFS('Week 2 20th May'!J$2:J$150,'Week 2 20th May'!D$2:D$150,'Rider List'!A14) -> 0 | X14: =SUMIFS('Week 3 3rd June'!J$2:J$150,'Week 3 3rd June'!D$2:D$150,'Rider List'!A14) -> 0 | Y14: =SUMIFS('Week 4 8th July'!J$2:J$150,'Week 4 8th July'!D$2:D$150,'Rider List'!A14) -> 0 | Z14: =SUMIFS('Week 5 22nd July'!J$2:J$150,'Week 5 22nd July'!D$2:D$150,'Rider List'!A14) -> 0 | AA14: =SUMIFS('Week 6 29th July'!J$2:J$150,'Week 6 29th July'!D$2:D$150,'Rider List'!A14) -> 0 | AC14: =SUM(V14:AB14) -> 0
A15: 13 | B15: Ryden | C15: Hindle | D15: M | E15: Shibden Cycling Club | F15: U12 | G15: B | H15: 1B | I15: 1272326 | J15: 40 | K15: 21.51 | M15: =SUMIFS('Week 1 13th May'!I$2:I$150,'Week 1 13th May'!D$2:D$150,'Rider List'!A15) -> 46 | N15: =SUMIFS('Week 2 20th May'!I$2:I$150,'Week 2 20th May'!D$2:D$150,'Rider List'!A15) -> 0 | O15: =SUMIFS('Week 3 3rd June'!I$2:I$200,'Week 3 3rd June'!D$2:D$200,'Rider List'!A15) -> 64 | P15: =SUMIFS('Week 4 8th July'!I$2:I$200,'Week 4 8th July'!D$2:D$200,'Rider List'!A15) -> 0 | Q15: =SUMIFS('Week 5 22nd July'!I$2:I$200,'Week 5 22nd July'!D$2:D$200,'Rider List'!A15) -> 0 | R15: =SUMIFS('Week 6 29th July'!I$2:I$200,'Week 6 29th July'!D$2:D$200,'Rider List'!A15) -> 0 | T15: =SUM(M15:S15) -> 110 | W15: =SUMIFS('Week 2 20th May'!J$2:J$150,'Week 2 20th May'!D$2:D$150,'Rider List'!A15) -> 0 | X15: =SUMIFS('Week 3 3rd June'!J$2:J$150,'Week 3 3rd June'!D$2:D$150,'Rider List'!A15) -> 0 | Y15: =SUMIFS('Week 4 8th July'!J$2:J$150,'Week 4 8th July'!D$2:D$150,'Rider List'!A15) -> 0 | Z15: =SUMIFS('Week 5 22nd July'!J$2:J$150,'Week 5 22nd July'!D$2:D$150,'Rider List'!A15) -> 0 | AA15: =SUMIFS('Week 6 29th July'!J$2:J$150,'Week 6 29th July'!D$2:D$150,'Rider List'!A15) -> 0 | AC15: =SUM(V15:AB15) -> 0
A16: 14 | B16: Holly | C16: Hobbs | D16: F | E16: West Riding Track League | F16: U8 | G16: G | H16: 2G | I16: 1495061 | J16: 200 | K16: 36.69 | M16: =SUMIFS('Week 1 13th May'!I$2:I$150,'Week 1 13th May'!D$2:D$150,'Rider List'!A16) -> 20 | N16: =SUMIFS('Week 2 20th May'!I$2:I$150,'Week 2 20th May'!D$2:D$150,'Rider List'!A16) -> 34 | O16: =SUMIFS('Week 3 3rd June'!I$2:I$200,'Week 3 3rd June'!D$2:D$200,'Rider List'!A16) -> 30 | P16: =SUMIFS('Week 4 8th July'!I$2:I$200,'Week 4 8th July'!D$2:D$200,'Rider List'!A16) -> 30 | Q16: =SUMIFS('Week 5 22nd July'!I$2:I$200,'Week 5 22nd July'!D$2:D$200,'Rider List'!A16) -> 34 | R16: =SUMIFS('Week 6 29th July'!I$2:I$200,'Week 6 29th July'!D$2:D$200,'Rider List'!A16) -> 53 | T16: =SUM(M16:S16) -> 201 | W16: =SUMIFS('Week 2 20th May'!J$2:J$150,'Week 2 20th May'!D$2:D$150,'Rider List'!A16) -> 0 | X16: =SUMIFS('Week 3 3rd June'!J$2:J$150,'Week 3 3rd June'!D$2:D$150,'Rider List'!A16) -> 3 | Y16: =SUMIFS('Week 4 8th July'!J$2:J$150,'Week 4 8th July'!D$2:D$150,'Rider List'!A16) -> 5 | Z16: =SUMIFS('Week 5 22nd July'!J$2:J$150,'Week 5 22nd July'!D$2:D$150,'Rider List'!A16) -> 2 | AA16: =SUMIFS('Week 6 29th July'!J$2:J$150,'Week 6 29th July'!D$2:D$150,'Rider List'!A16) -> 3 | AC16: =SUM(V16:AB16) -> 13
A17: 15 | B17: Alex | C17: Hodgkins | D17: M | E17: Otley CC | F17: U12 | G17: B | H17: 1B | I17: 982258 | J17: 30 | K17: 20.97 | M17: =SUMIFS('Week 1 13th May'!I$2:I$150,'Week 1 13th May'!D$2:D$150,'Rider List'!A17) -> 0 | N17: =SUMIFS('Week 2 20th May'!I$2:I$150,'Week 2 20th May'!D$2:D$150,'Rider List'!A17) -> 64 | O17: =SUMIFS('Week 3 3rd June'!I$2:I$200,'Week 3 3rd June'!D$2:D$200,'Rider List'!A17) -> 89 | P17: =SUMIFS('Week 4 8th July'!I$2:I$200,'Week 4 8th July'!D$2:D$200,'Rider List'!A17) -> 85 | Q17: =SUMIFS('Week 5 22nd July'!I$2:I$200,'Week 5 22nd July'!D$2:D$200,'Rider List'!A17) -> 93 | R17: =SUMIFS('Week 6 29th July'!I$2:I$200,'Week 6 29th July'!D$2:D$200,'Rider List'!A17) -> 90 | T17: =SUM(M17:S17) -> 421 | W17: =SUMIFS('Week 2 20th May'!J$2:J$150,'Week 2 20th May'!D$2:D$150,'Rider List'!A17) -> 0 | X17: =SUMIFS('Week 3 3rd June'!J$2:J$150,'Week 3 3rd June'!D$2:D$150,'Rider List'!A17) -> 0 | Y17: =SUMIFS('Week 4 8th July'!J$2:J$150,'Week 4 8th July'!D$2:D$150,'Rider List'!A17) -> 2 | Z17: =SUMIFS('Week 5 22nd July'!J$2:J$150,'Week 5 22nd July'!D$2:D$150,'Rider List'!A17) -> 5 | AA17: =SUMIFS('Week 6 29th July'!J$2:J$150,'Week 6 29th July'!D$2:D$150,'Rider List'!A17) -> 1 | AC17: =SUM(V17:AB17) -> 8
A18: 16 | B18: Amy | C18: Hodgkins | D18: F | E18: Otley CC | F18: U10 | G18: G | H18: 1G | I18: 1247554 | J18: 150 | K18: 28.98 | M18: =SUMIFS('Week 1 13th May'!I$2:I$150,'Week 1 13th May'!D$2:D$150,'Rider List'!A18) -> 34 | N18: =SUMIFS('Week 2 20th May'!I$2:I$150,'Week 2 20th May'!D$2:D$150,'Rider List'!A18) -> 58 | O18: =SUMIFS('Week 3 3rd June'!I$2:I$200,'Week 3 3rd June'!D$2:D$200,'Rider List'!A18) -> 80 | P18: =SUMIFS('Week 4 8th July'!I$2:I$200,'Week 4 8th July'!D$2:D$200,'Rider List'!A18) -> 86 | Q18: =SUMIFS('Week 5 22nd July'!I$2:I$200,'Week 5 22nd July'!D$2:D$200,'Rider List'!A18) -> 64 | R18: =SUMIFS('Week 6 29th July'!I$2:I$200,'Week 6 29th July'!D$2:D$200,'Rider List'!A18) -> 92 | T18: =SUM(M18:S18) -> 414 | W18: =SUMIFS('Week 2 20th May'!J$2:J$150,'Week 2 20th May'!D$2:D$150,'Rider List'!A18) -> 0 | X18: =SUMIFS('Week 3 3rd June'!J$2:J$150,'Week 3 3rd June'!D$2:D$150,'Rider List'!A18) -> 2 | Y18: =SUMIFS('Week 4 8th July'!J$2:J$150,'Week 4 8th July'!D$2:D$150,'Rider List'!A18) -> 2 | Z18: =SUMIFS('Week 5 22nd July'!J$2:J$150,'Week 5 22nd July'!D$2:D$150,'Rider List'!A18) -> 2 | AA18: =SUMIFS('Week 6 29th July'!J$2:J$150,'Week 6 29th July'!D$2:D$150,'Rider List'!A18) -> 5 | AC18: =SUM(V18:AB18) -> 11
A19: 17 | B19: Theo | C19: Hutter | D19: M | E19: Leeds Mercury Cycling Club | F19: U12 | G19: B | H19: 2B | I19: 1139293 | J19: 80 | K19: 22.91 | M19: =SUMIFS('Week 1 13th May'!I$2:I$150,'Week 1 13th May'!D$2:D$150,'Rider List'!A19) -> 0 | N19: =SUMIFS('Week 2 20th May'!I$2:I$150,'Week 2 20th May'!D$2:D$150,'Rider List'!A19) -> 14 | O19: =SUMIFS('Week 3 3rd June'!I$2:I$200,'Week 3 3rd June'!D$2:D$200,'Rider List'!A19) -> 0 | P19: =SUMIFS('Week 4 8th July'!I$2:I$200,'Week 4 8th July'!D$2:D$200,'Rider List'!A19) -> 29 | Q19: =SUMIFS('Week 5 22nd July'!I$2:I$200,'Week 5 22nd July'!D$2:D$200,'Rider List'!A19) -> 33 | R19: =SUMIFS('Week 6 29th July'!I$2:I$200,'Week 6 29th July'!D$2:D$200,'Rider List'!A19) -> 47 | T19: =SUM(M19:S19) -> 123 | W19: =SUMIFS('Week 2 20th May'!J$2:J$150,'Week 2 20th May'!D$2:D$150,'Rider List'!A19) -> 0 | X19: =SUMIFS('Week 3 3rd June'!J$2:J$150,'Week 3 3rd June'!D$2:D$150,'Rider List'!A19) -> 0 | Y19: =SUMIFS('Week 4 8th July'!J$2:J$150,'Week 4 8th July'!D$2:D$150,'Rider List'!A19) -> 0 | Z19: =SUMIFS('Week 5 22nd July'!J$2:J$150,'Week 5 22nd July'!D$2:D$150,'Rider List'!A19) -> 1 | AA19: =SUMIFS('Week 6 29th July'!J$2:J$150,'Week 6 29th July'!D$2:D$150,'Rider List'!A19) -> 2 | AC19: =SUM(V19:AB19) -> 3
A20: 18 | B20: Billy | C20: Ladle | D20: M | E20: West Riding Track League | F20: U10 | G20: B | H20: 1B | I20: 1050681 | J20: 50 | K20: 22.78 | M20: =SUMIFS('Week 1 13th May'!I$2:I$150,'Week 1 13th May'!D$2:D$150,'Rider List'!A20) -> 42 | N20: =SUMIFS('Week 2 20th May'!I$2:I$150,'Week 2 20th May'!D$2:D$150,'Rider List'!A20) -> 65 | O20: =SUMIFS('Week 3 3rd June'!I$2:I$200,'Week 3 3rd June'!D$2:D$200,'Rider List'!A20) -> 86 | P20: =SUMIFS('Week 4 8th July'!I$2:I$200,'Week 4 8th July'!D$2:D$200,'Rider List'!A20) -> 86 | Q20: =SUMIFS('Week 5 22nd July'!I$2:I$200,'Week 5 22nd July'!D$2:D$200,'Rider List'!A20) -> 90 | R20: =SUMIFS('Week 6 29th July'!I$2:I$200,'Week 6 29th July'!D$2:D$200,'Rider List'!A20) -> 0 | T20: =SUM(M20:S20) -> 369 | W20: =SUMIFS('Week 2 20th May'!J$2:J$150,'Week 2 20th May'!D$2:D$150,'Rider List'!A20) -> 0 | X20: =SUMIFS('Week 3 3rd June'!J$2:J$150,'Week 3 3rd June'!D$2:D$150,'Rider List'!A20) -> 1 | Y20: =SUMIFS('Week 4 8th July'!J$2:J$150,'Week 4 8th July'!D$2:D$150,'Rider List'!A20) -> 0 | Z20: =SUMIFS('Week 5 22nd July'!J$2:J$150,'Week 5 22nd July'!D$2:D$150,'Rider List'!A20) -> 3 | AA20: =SUMIFS('Week 6 29th July'!J$2:J$150,'Week 6 29th July'!D$2:D$150,'Rider List'!A20) -> 0 | AC20: =SUM(V20:AB20) -> 4
A21: 19 | B21: Flynn | C21: Lambley | D21: M | E21: Huddersfield Star Wheelers | F21: U10 | G21: B | H21: 3B | I21: 1448572 | J21: 180 | K21: 33.36 | M21: =SUMIFS('Week 1 13th May'!I$2:I$150,'Week 1 13th May'!D$2:D$150,'Rider List'!A21) -> 26 | N21: =SUMIFS('Week 2 20th May'!I$2:I$150,'Week 2 20th May'!D$2:D$150,'Rider List'!A21) -> 16 | O21: =SUMIFS('Week 3 3rd June'!I$2:I$200,'Week 3 3rd June'!D$2:D$200,'Rider List'!A21) -> 15 | P21: =SUMIFS('Week 4 8th July'!I$2:I$200,'Week 4 8th July'!D$2:D$200,'Rider List'!A21) -> 22 | Q21: =SUMIFS('Week 5 22nd July'!I$2:I$200,'Week 5 22nd July'!D$2:D$200,'Rider List'!A21) -> 0 | R21: =SUMIFS('Week 6 29th July'!I$2:I$200,'Week 6 29th July'!D$2:D$200,'Rider List'!A21) -> 0 | T21: =SUM(M21:S21) -> 79 | W21: =SUMIFS('Week 2 20th May'!J$2:J$150,'Week 2 20th May'!D$2:D$150,'Rider List'!A21) -> 5 | X21: =SUMIFS('Week 3 3rd June'!J$2:J$150,'Week 3 3rd June'!D$2:D$150,'Rider List'!A21) -> 3 | Y21: =SUMIFS('Week 4 8th July'!J$2:J$150,'Week 4 8th July'!D$2:D$150,'Rider List'!A21) -> 5 | Z21: =SUMIFS('Week 5 22nd July'!J$2:J$150,'Week 5 22nd July'!D$2:D$150,'Rider List'!A21) -> 0 | AA21: =SUMIFS('Week 6 29th July'!J$2:J$150,'Week 6 29th July'!D$2:D$150,'Rider List'!A21) -> 0 | AC21: =SUM(V21:AB21) -> 13
A22: 20 | B22: Daniel | C22: Middlebrooke | D22: M | E22: Otley CC | F22: U10 | G22: B | H22: 2B | I22: 1111262 | J22: 60 | K22: 23.59 | M22: =SUMIFS('Week 1 13th May'!I$2:I$150,'Week 1 13th May'!D$2:D$150,'Rider List'!A22) -> 36 | N22: =SUMIFS('Week 2 20th May'!I$2:I$150,'Week 2 20th May'!D$2:D$150,'Rider List'!A22) -> 16 | O22: =SUMIFS('Week 3 3rd June'!I$2:I$200,'Week 3 3rd June'!D$2:D$200,'Rider List'!A22) -> 33 | P22: =SUMIFS('Week 4 8th July'!I$2:I$200,'Week 4 8th July'!D$2:D$200,'Rider List'!A22) -> 34 | Q22: =SUMIFS('Week 5 22nd July'!I$2:I$200,'Week 5 22nd July'!D$2:D$200,'Rider List'!A22) -> 76 | R22: =SUMIFS('Week 6 29th July'!I$2:I$200,'Week 6 29th July'!D$2:D$200,'Rider List'!A22) -> 77 | T22: =SUM(M22:S22) -> 272 | W22: =SUMIFS('Week 2 20th May'!J$2:J$150,'Week 2 20th May'!D$2:D$150,'Rider List'!A22) -> 0 | X22: =SUMIFS('Week 3 3rd June'!J$2:J$150,'Week 3 3rd June'!D$2:D$150,'Rider List'!A22) -> 0 | Y22: =SUMIFS('Week 4 8th July'!J$2:J$150,'Week 4 8th July'!D$2:D$150,'Rider List'!A22) -> 0 | Z22: =SUMIFS('Week 5 22nd July'!J$2:J$150,'Week 5 22nd July'!D$2:D$150,'Rider List'!A22) -> 0 | AA22: =SUMIFS('Week 6 29th July'!J$2:J$150,'Week 6 29th July'!D$2:D$150,'Rider List'!A22) -> 2 | AC22: =SUM(V22:AB22) -> 2
A23: 21 | B23: Abigail | C23: Miller | D23: F | E23: Clifton CC | F23: U12 | G23: G | H23: 1G | I23: 1195846 | J23: 60 | K23: 22.07 | M23: =SUMIFS('Week 1 13th May'!I$2:I$150,'Week 1 13th May'!D$2:D$150,'Rider List'!A23) -> 72 | N23: =SUMIFS('Week 2 20th May'!I$2:I$150,'Week 2 20th May'!D$2:D$150,'Rider List'!A23) -> 72 | O23: =SUMIFS('Week 3 3rd June'!I$2:I$200,'Week 3 3rd June'!D$2:D$200,'Rider List'!A23) -> 96 | P23: =SUMIFS('Week 4 8th July'!I$2:I$200,'Week 4 8th July'!D$2:D$200,'Rider List'!A23) -> 0 | Q23: =SUMIFS('Week 5 22nd July'!I$2:I$200,'Week 5 22nd July'!D$2:D$200,'Rider List'!A23) -> 96 | R23: =SUMIFS('Week 6 29th July'!I$2:I$200,'Week 6 29th July'!D$2:D$200,'Rider List'!A23) -> 0 | T23: =SUM(M23:S23) -> 336 | W23: =SUMIFS('Week 2 20th May'!J$2:J$150,'Week 2 20th May'!D$2:D$150,'Rider List'!A23) -> 0 | X23: =SUMIFS('Week 3 3rd June'!J$2:J$150,'Week 3 3rd June'!D$2:D$150,'Rider List'!A23) -> 0 | Y23: =SUMIFS('Week 4 8th July'!J$2:J$150,'Week 4 8th July'!D$2:D$150,'Rider List'!A23) -> 0 | Z23: =SUMIFS('Week 5 22nd July'!J$2:J$150,'Week 5 22nd July'!D$2:D$150,'Rider List'!A23) -> 3 | AA23: =SUMIFS('Week 6 29th July'!J$2:J$150,'Week 6 29th July'!D$2:D$150,'Rider List'!A23) -> 0 | AC23: =SUM(V23:AB23) -> 3
A24: 22 | B24: Jody | C24: Mills | D24: M | E24: Huddersfield Star Wheelers | F24: U12 | G24: B | H24: 1B | I24: 1090257 | J24: 80 | K24: 23.38 | M24: =SUMIFS('Week 1 13th May'!I$2:I$150,'Week 1 13th May'!D$2:D$150,'Rider List'!A24) -> 65 | N24: =SUMIFS('Week 2 20th May'!I$2:I$150,'Week 2 20th May'!D$2:D$150,'Rider List'!A24) -> 42 | O24: =SUMIFS('Week 3 3rd June'!I$2:I$200,'Week 3 3rd June'!D$2:D$200,'Rider List'!A24) -> 60 | P24: =SUMIFS('Week 4 8th July'!I$2:I$200,'Week 4 8th July'!D$2:D$200,'Rider List'!A24) -> 86 | Q24: =SUMIFS('Week 5 22nd July'!I$2:I$200,'Week 5 22nd July'!D$2:D$200,'Rider List'!A24) -> 0 | R24: =SUMIFS('Week 6 29th July'!I$2:I$200,'Week 6 29th July'!D$2:D$200,'Rider List'!A24) -> 0 | T24: =SUM(M24:S24) -> 253 | W24: =SUMIFS('Week 2 20th May'!J$2:J$150,'Week 2 20th May'!D$2:D$150,'Rider List'!A24) -> 0 | X24: =SUMIFS('Week 3 3rd June'!J$2:J$150,'Week 3 3rd June'!D$2:D$150,'Rider List'!A24) -> 0 | Y24: =SUMIFS('Week 4 8th July'!J$2:J$150,'Week 4 8th July'!D$2:D$150,'Rider List'!A24) -> 5 | Z24: =SUMIFS('Week 5 22nd July'!J$2:J$150,'Week 5 22nd July'!D$2:D$150,'Rider List'!A24) -> 0 | AA24: =SUMIFS('Week 6 29th July'!J$2:J$150,'Week 6 29th July'!D$2:D$150,'Rider List'!A24) -> 0 | AC24: =SUM(V24:AB24) -> 5
... A28: 26 | B28: Oliver | C28: Shimmin | D28: M | E28: Albarosa Cycling Club | F28: U8 | G28: B | H28: 4B | I28: 1563991 | J28: 210 | K28: 38.5 | M28: =SUMIFS('Week 1 13th May'!I$2:I$150,'Week 1 13th May'!D$2:D$150,'Rider List'!A28) -> 0 | N28: =SUMIFS('Week 2 20th May'!I$2:I$150,'Week 2 20th May'!D$2:D$150,'Rider List'!A28) -> 10 | O28: =SUMIFS('Week 3 3rd June'!I$2:I$200,'Week 3 3rd June'!D$2:D$200,'Rider List'!A28) -> 12 | P28: =SUMIFS('Week 4 8th July'!I$2:I$200,'Week 4 8th July'!D$2:D$200,'Rider List'!A28) -> 13 | Q28: =SUMIFS('Week 5 22nd July'!I$2:I$200,'Week 5 22nd July'!D$2:D$200,'Rider List'!A28) -> 0 | R28: =SUMIFS('Week 6 29th July'!I$2:I$200,'Week 6 29th July'!D$2:D$200,'Rider List'!A28) -> 0 | T28: =SUM(M28:S28) -> 35 | W28: =SUMIFS('Week 2 20th May'!J$2:J$150,'Week 2 20th May'!D$2:D$150,'Rider List'!A28) -> 2 | X28: =SUMIFS('Week 3 3rd June'!J$2:J$150,'Week 3 3rd June'!D$2:D$150,'Rider List'!A28) -> 3 | Y28: =SUMIFS('Week 4 8th July'!J$2:J$150,'Week 4 8th July'!D$2:D$150,'Rider List'!A28) -> 1 | Z28: =SUMIFS('Week 5 22nd July'!J$2:J$150,'Week 5 22nd July'!D$2:D$150,'Rider List'!A28) -> 0 | AA28: =SUMIFS('Week 6 29th July'!J$2:J$150,'Week 6 29th July'!D$2:D$150,'Rider List'!A28) -> 0 | AC28: =SUM(V28:AB28) -> 6
A29: 27 | B29: Luke | C29: Trafford | D29: M | E29: Holmfirth Cycling Club | F29: U10 | G29: B | I29: 1445280 | M29: =SUMIFS('Week 1 13th May'!I$2:I$150,'Week 1 13th May'!D$2:D$150,'Rider List'!A29) -> 0 | N29: =SUMIFS('Week 2 20th May'!I$2:I$150,'Week 2 20th May'!D$2:D$150,'Rider List'!A29) -> 0 | O29: =SUMIFS('Week 3 3rd June'!I$2:I$200,'Week 3 3rd June'!D$2:D$200,'Rider List'!A29) -> 0 | P29: =SUMIFS('Week 4 8th July'!I$2:I$200,'Week 4 8th July'!D$2:D$200,'Rider List'!A29) -> 0 | Q29: =SUMIFS('Week 5 22nd July'!I$2:I$200,'Week 5 22nd July'!D$2:D$200,'Rider List'!A29) -> 0 | R29: =SUMIFS('Week 6 29th July'!I$2:I$200,'Week 6 29th July'!D$2:D$200,'Rider List'!A29) -> 0 | T29: =SUM(M29:S29) -> 0 | W29: =SUMIFS('Week 2 20th May'!J$2:J$150,'Week 2 20th May'!D$2:D$150,'Rider List'!A29) -> 0 | X29: =SUMIFS('Week 3 3rd June'!J$2:J$150,'Week 3 3rd June'!D$2:D$150,'Rider List'!A29) -> 0 | Y29: =SUMIFS('Week 4 8th July'!J$2:J$150,'Week 4 8th July'!D$2:D$150,'Rider List'!A29) -> 0 | Z29: =SUMIFS('Week 5 22nd July'!J$2:J$150,'Week 5 22nd July'!D$2:D$150,'Rider List'!A29) -> 0 | AA29: =SUMIFS('Week 6 29th July'!J$2:J$150,'Week 6 29th July'!D$2:D$150,'Rider List'!A29) -> 0 | AC29: =SUM(V29:AB29) -> 0
A30: 28 | B30: Mary | C30: Venning | D30: F | E30: Leeds Mercury Cycling Club | F30: U8 | G30: G | H30: 2G | I30: 1416365 | J30: 170 | K30: 33.12 | M30: =SUMIFS('Week 1 13th May'!I$2:I$150,'Week 1 13th May'!D$2:D$150,'Rider List'!A30) -> 24 | N30: =SUMIFS('Week 2 20th May'!I$2:I$150,'Week 2 20th May'!D$2:D$150,'Rider List'!A30) -> 0 | O30: =SUMIFS('Week 3 3rd June'!I$2:I$200,'Week 3 3rd June'!D$2:D$200,'Rider List'!A30) -> 34 | P30: =SUMIFS('Week 4 8th July'!I$2:I$200,'Week 4 8th July'!D$2:D$200,'Rider List'!A30) -> 33 | Q30: =SUMIFS('Week 5 22nd July'!I$2:I$200,'Week 5 22nd July'!D$2:D$200,'Rider List'!A30) -> 0 | R30: =SUMIFS('Week 6 29th July'!I$2:I$200,'Week 6 29th July'!D$2:D$200,'Rider List'!A30) -> 58 | T30: =SUM(M30:S30) -> 149 | W30: =SUMIFS('Week 2 20th May'!J$2:J$150,'Week 2 20th May'!D$2:D$150,'Rider List'!A30) -> 3 | X30: =SUMIFS('Week 3 3rd June'!J$2:J$150,'Week 3 3rd June'!D$2:D$150,'Rider List'!A30) -> 2 | Y30: =SUMIFS('Week 4 8th July'!J$2:J$150,'Week 4 8th July'!D$2:D$150,'Rider List'!A30) -> 3 | Z30: =SUMIFS('Week 5 22nd July'!J$2:J$150,'Week 5 22nd July'!D$2:D$150,'Rider List'!A30) -> 0 | AA30: =SUMIFS('Week 6 29th July'!J$2:J$150,'Week 6 29th July'!D$2:D$150,'Rider List'!A30) -> 2 | AC30: =SUM(V30:AB30) -> 10
A31: 29 | B31: Arthur | C31: Venning | D31: M | E31: Leeds Mercury Cycling Club | F31: U8 | G31: B | H31: 4B | I31: 1503357 | J31: 300 | K31: 48.85 | M31: =SUMIFS('Week 1 13th May'!I$2:I$150,'Week 1 13th May'!D$2:D$150,'Rider List'!A31) -> 0 | N31: =SUMIFS('Week 2 20th May'!I$2:I$150,'Week 2 20th May'!D$2:D$150,'Rider List'!A31) -> 8 | O31: =SUMIFS('Week 3 3rd June'!I$2:I$200,'Week 3 3rd June'!D$2:D$200,'Rider List'!A31) -> 8 | P31: =SUMIFS('Week 4 8th July'!I$2:I$200,'Week 4 8th July'!D$2:D$200,'Rider List'!A31) -> 6 | Q31: =SUMIFS('Week 5 22nd July'!I$2:I$200,'Week 5 22nd July'!D$2:D$200,'Rider List'!A31) -> 0 | R31: =SUMIFS('Week 6 29th July'!I$2:I$200,'Week 6 29th July'!D$2:D$200,'Rider List'!A31) -> 3 | T31: =SUM(M31:S31) -> 25 | W31: =SUMIFS('Week 2 20th May'!J$2:J$150,'Week 2 20th May'!D$2:D$150,'Rider List'!A31) -> 3 | X31: =SUMIFS('Week 3 3rd June'!J$2:J$150,'Week 3 3rd June'!D$2:D$150,'Rider List'!A31) -> 5 | Y31: =SUMIFS('Week 4 8th July'!J$2:J$150,'Week 4 8th July'!D$2:D$150,'Rider List'!A31) -> 2 | Z31: =SUMIFS('Week 5 22nd July'!J$2:J$150,'Week 5 22nd July'!D$2:D$150,'Rider List'!A31) -> 0 | AA31: =SUMIFS('Week 6 29th July'!J$2:J$150,'Week 6 29th July'!D$2:D$150,'Rider List'!A31) -> 5 | AC31: =SUM(V31:AB31) -> 15
A32: 30 | B32: Jack | C32: Wilks | D32: M | E32: Otley CC | F32: U12 | G32: B | H32: 1B | I32: 1067079 | J32: 50 | K32: 22.89 | M32: =SUMIFS('Week 1 13th May'!I$2:I$150,'Week 1 13th May'!D$2:D$150,'Rider List'!A32) -> 42 | N32: =SUMIFS('Week 2 20th May'!I$2:I$150,'Week 2 20th May'!D$2:D$150,'Rider List'!A32) -> 44 | O32: =SUMIFS('Week 3 3rd June'!I$2:I$200,'Week 3 3rd June'!D$2:D$200,'Rider List'!A32) -> 63 | P32: =SUMIFS('Week 4 8th July'!I$2:I$200,'Week 4 8th July'!D$2:D$200,'Rider List'!A32) -> 87 | Q32: =SUMIFS('Week 5 22nd July'!I$2:I$200,'Week 5 22nd July'!D$2:D$200,'Rider List'!A32) -> 93 | R32: =SUMIFS('Week 6 29th July'!I$2:I$200,'Week 6 29th July'!D$2:D$200,'Rider List'!A32) -> 89 | T32: =SUM(M32:S32) -> 418 | W32: =SUMIFS('Week 2 20th May'!J$2:J$150,'Week 2 20th May'!D$2:D$150,'Rider List'!A32) -> 0 | X32: =SUMIFS('Week 3 3rd June'!J$2:J$150,'Week 3 3rd June'!D$2:D$150,'Rider List'!A32) -> 5 | Y32: =SUMIFS('Week 4 8th July'!J$2:J$150,'Week 4 8th July'!D$2:D$150,'Rider List'!A32) -> 3 | Z32: =SUMIFS('Week 5 22nd July'!J$2:J$150,'Week 5 22nd July'!D$2:D$150,'Rider List'!A32) -> 2 | AA32: =SUMIFS('Week 6 29th July'!J$2:J$150,'Week 6 29th July'!D$2:D$150,'Rider List'!A32) -> 0 | AC32: =SUM(V32:AB32) -> 10
A33: 31 | B33: Iona | C33: Jackson | D33: F | E33: Albarosa Cycling Club | F33: U12 | G33: G | H33: 1G | I33: 1088556 | J33: 110 | K33: 27.9 | M33: =SUMIFS('Week 1 13th May'!I$2:I$150,'Week 1 13th May'!D$2:D$150,'Rider List'!A33) -> 44 | N33: =SUMIFS('Week 2 20th May'!I$2:I$150,'Week 2 20th May'!D$2:D$150,'Rider List'!A33) -> 44 | O33: =SUMIFS('Week 3 3rd June'!I$2:I$200,'Week 3 3rd June'!D$2:D$200,'Rider List'!A33) -> 44 | P33: =SUMIFS('Week 4 8th July'!I$2:I$200,'Week 4 8th July'!D$2:D$200,'Rider List'!A33) -> 43 | Q33: =SUMIFS('Week 5 22nd July'!I$2:I$200,'Week 5 22nd July'!D$2:D$200,'Rider List'!A33) -> 0 | R33: =SUMIFS('Week 6 29th July'!I$2:I$200,'Week 6 29th July'!D$2:D$200,'Rider List'!A33) -> 0 | T33: =SUM(M33:S33) -> 175 | W33: =SUMIFS('Week 2 20th May'!J$2:J$150,'Week 2 20th May'!D$2:D$150,'Rider List'!A33) -> 0 | X33: =SUMIFS('Week 3 3rd June'!J$2:J$150,'Week 3 3rd June'!D$2:D$150,'Rider List'!A33) -> 3 | Y33: =SUMIFS('Week 4 8th July'!J$2:J$150,'Week 4 8th July'!D$2:D$150,'Rider List'!A33) -> 0 | Z33: =SUMIFS('Week 5 22nd July'!J$2:J$150,'Week 5 22nd July'!D$2:D$150,'Rider List'!A33) -> 0 | AA33: =SUMIFS('Week 6 29th July'!J$2:J$150,'Week 6 29th July'!D$2:D$150,'Rider List'!A33) -> 0 | AC33: =SUM(V33:AB33) -> 3
A34: 32 | B34: Billy | C34: Wise | D34: M | E34: Northern Outlaws | F34: U8 | G34: B | H34: 4B | I34: 1447767 | J34: 200 | K34: 37.97 | M34: =SUMIFS('Week 1 13th May'!I$2:I$150,'Week 1 13th May'!D$2:D$150,'Rider List'!A34) -> 15 | N34: =SUMIFS('Week 2 20th May'!I$2:I$150,'Week 2 20th May'!D$2:D$150,'Rider List'!A34) -> 0 | O34: =SUMIFS('Week 3 3rd June'!I$2:I$200,'Week 3 3rd June'!D$2:D$200,'Rider List'!A34) -> 0 | P34: =SUMIFS('Week 4 8th July'!I$2:I$200,'Week 4 8th July'!D$2:D$200,'Rider List'!A34) -> 0 | Q34: =SUMIFS('Week 5 22nd July'!I$2:I$200,'Week 5 22nd July'!D$2:D$200,'Rider List'!A34) -> 0 | R34: =SUMIFS('Week 6 29th July'!I$2:I$200,'Week 6 29th July'!D$2:D$200,'Rider List'!A34) -> 0 | T34: =SUM(M34:S34) -> 15 | W34: =SUMIFS('Week 2 20th May'!J$2:J$150,'Week 2 20th May'!D$2:D$150,'Rider List'!A34) -> 0 | X34: =SUMIFS('Week 3 3rd June'!J$2:J$150,'Week 3 3rd June'!D$2:D$150,'Rider List'!A34) -> 0 | Y34: =SUMIFS('Week 4 8th July'!J$2:J$150,'Week 4 8th July'!D$2:D$150,'Rider List'!A34) -> 0 | Z34: =SUMIFS('Week 5 22nd July'!J$2:J$150,'Week 5 22nd July'!D$2:D$150,'Rider List'!A34) -> 0 | AA34: =SUMIFS('Week 6 29th July'!J$2:J$150,'Week 6 29th July'!D$2:D$150,'Rider List'!A34) -> 0 | AC34: =SUM(V34:AB34) -> 0
A35: 33 | B35: Jacob | C35: Rook | D35: M | E35: East Bradford CC | F35: U10 | G35: B | H35: 2B | I35: 1235819 | J35: 80 | K35: 24.32 | M35: =SUMIFS('Week 1 13th May'!I$2:I$150,'Week 1 13th May'!D$2:D$150,'Rider List'!A35) -> 33 | N35: =SUMIFS('Week 2 20th May'!I$2:I$150,'Week 2 20th May'!D$2:D$150,'Rider List'!A35) -> 15 | O35: =SUMIFS('Week 3 3rd June'!I$2:I$200,'Week 3 3rd June'!D$2:D$200,'Rider List'!A35) -> 32 | P35: =SUMIFS('Week 4 8th July'!I$2:I$200,'Week 4 8th July'!D$2:D$200,'Rider List'!A35) -> 32 | Q35: =SUMIFS('Week 5 22nd July'!I$2:I$200,'Week 5 22nd July'!D$2:D$200,'Rider List'!A35) -> 73 | R35: =SUMIFS('Week 6 29th July'!I$2:I$200,'Week 6 29th July'!D$2:D$200,'Rider List'!A35) -> 36 | T35: =SUM(M35:S35) -> 221 | W35: =SUMIFS('Week 2 20th May'!J$2:J$150,'Week 2 20th May'!D$2:D$150,'Rider List'!A35) -> 0 | X35: =SUMIFS('Week 3 3rd June'!J$2:J$150,'Week 3 3rd June'!D$2:D$150,'Rider List'!A35) -> 0 | Y35: =SUMIFS('Week 4 8th July'!J$2:J$150,'Week 4 8th July'!D$2:D$150,'Rider List'!A35) -> 0 | Z35: =SUMIFS('Week 5 22nd July'!J$2:J$150,'Week 5 22nd July'!D$2:D$150,'Rider List'!A35) -> 3 | AA35: =SUMIFS('Week 6 29th July'!J$2:J$150,'Week 6 29th July'!D$2:D$150,'Rider List'!A35) -> 0 | AC35: =SUM(V35:AB35) -> 3
A36: 34 | B36: Arpita | C36: Kaulgud | D36: F | F36: U8 | G36: G | H36: 2G | J36: 310 | K36: 57.04 | M36: =SUMIFS('Week 1 13th May'!I$2:I$150,'Week 1 13th May'!D$2:D$150,'Rider List'!A36) -> 17 | N36: =SUMIFS('Week 2 20th May'!I$2:I$150,'Week 2 20th May'!D$2:D$150,'Rider List'!A36) -> 30 | O36: =SUMIFS('Week 3 3rd June'!I$2:I$200,'Week 3 3rd June'!D$2:D$200,'Rider List'!A36) -> 28 | P36: =SUMIFS('Week 4 8th July'!I$2:I$200,'Week 4 8th July'!D$2:D$200,'Rider List'!A36) -> 0 | Q36: =SUMIFS('Week 5 22nd July'!I$2:I$200,'Week 5 22nd July'!D$2:D$200,'Rider List'!A36) -> 57 | R36: =SUMIFS('Week 6 29th July'!I$2:I$200,'Week 6 29th July'!D$2:D$200,'Rider List'!A36) -> 30 | T36: =SUM(M36:S36) -> 162 | W36: =SUMIFS('Week 2 20th May'!J$2:J$150,'Week 2 20th May'!D$2:D$150,'Rider List'!A36) -> 0 | X36: =SUMIFS('Week 3 3rd June'!J$2:J$150,'Week 3 3rd June'!D$2:D$150,'Rider List'!A36) -> 0 | Y36: =SUMIFS('Week 4 8th July'!J$2:J$150,'Week 4 8th July'!D$2:D$150,'Rider List'!A36) -> 0 | Z36: =SUMIFS('Week 5 22nd July'!J$2:J$150,'Week 5 22nd July'!D$2:D$150,'Rider List'!A36) -> 5 | AA36: =SUMIFS('Week 6 29th July'!J$2:J$150,'Week 6 29th July'!D$2:D$150,'Rider List'!A36) -> 5 | AC36: =SUM(V36:AB36) -> 10
A37: 35 | B37: Joshua | C37: Daly | D37: M | E37: Shibden Cycling Club | F37: U10 | G37: B | H37: 1B | J37: 60 | K37: 23.1 | M37: =SUMIFS('Week 1 13th May'!I$2:I$150,'Week 1 13th May'!D$2:D$150,'Rider List'!A37) -> 71 | N37: =SUMIFS('Week 2 20th May'!I$2:I$150,'Week 2 20th May'!D$2:D$150,'Rider List'!A37) -> 42 | O37: =SUMIFS('Week 3 3rd June'!I$2:I$200,'Week 3 3rd June'!D$2:D$200,'Rider List'!A37) -> 21 | P37: =SUMIFS('Week 4 8th July'!I$2:I$200,'Week 4 8th July'!D$2:D$200,'Rider List'!A37) -> 0 | Q37: =SUMIFS('Week 5 22nd July'!I$2:I$200,'Week 5 22nd July'!D$2:D$200,'Rider List'!A37) -> 0 | R37: =SUMIFS('Week 6 29th July'!I$2:I$200,'Week 6 29th July'!D$2:D$200,'Rider List'!A37) -> 0 | T37: =SUM(M37:S37) -> 134 | W37: =SUMIFS('Week 2 20th May'!J$2:J$150,'Week 2 20th May'!D$2:D$150,'Rider List'!A37) -> 1 | X37: =SUMIFS('Week 3 3rd June'!J$2:J$150,'Week 3 3rd June'!D$2:D$150,'Rider List'!A37) -> 0 | Y37: =SUMIFS('Week 4 8th July'!J$2:J$150,'Week 4 8th July'!D$2:D$150,'Rider List'!A37) -> 0 | Z37: =SUMIFS('Week 5 22nd July'!J$2:J$150,'Week 5 22nd July'!D$2:D$150,'Rider List'!A37) -> 0 | AA37: =SUMIFS('Week 6 29th July'!J$2:J$150,'Week 6 29th July'!D$2:D$150,'Rider List'!A37) -> 0 | AC37: =SUM(V37:AB37) -> 1
A38: 36 | B38: Joseph | C38: Friend | D38: M | F38: U12 | G38: B | H38: 2B | J38: 130 | K38: 28.34 | M38: =SUMIFS('Week 1 13th May'!I$2:I$150,'Week 1 13th May'!D$2:D$150,'Rider List'!A38) -> 0 | N38: =SUMIFS('Week 2 20th May'!I$2:I$150,'Week 2 20th May'!D$2:D$150,'Rider List'!A38) -> 17 | O38: =SUMIFS('Week 3 3rd June'!I$2:I$200,'Week 3 3rd June'!D$2:D$200,'Rider List'!A38) -> 14 | P38: =SUMIFS('Week 4 8th July'!I$2:I$200,'Week 4 8th July'!D$2:D$200,'Rider List'!A38) -> 0 | Q38: =SUMIFS('Week 5 22nd July'!I$2:I$200,'Week 5 22nd July'!D$2:D$200,'Rider List'!A38) -> 26 | R38: =SUMIFS('Week 6 29th July'!I$2:I$200,'Week 6 29th July'!D$2:D$200,'Rider List'!A38) -> 0 | T38: =SUM(M38:S38) -> 57 | W38: =SUMIFS('Week 2 20th May'!J$2:J$150,'Week 2 20th May'!D$2:D$150,'Rider List'!A38) -> 3 | X38: =SUMIFS('Week 3 3rd June'!J$2:J$150,'Week 3 3rd June'!D$2:D$150,'Rider List'!A38) -> 5 | Y38: =SUMIFS('Week 4 8th July'!J$2:J$150,'Week 4 8th July'!D$2:D$150,'Rider List'!A38) -> 5 | Z38: =SUMIFS('Week 5 22nd July'!J$2:J$150,'Week 5 22nd July'!D$2:D$150,'Rider List'!A38) -> 2 | AA38: =SUMIFS('Week 6 29th July'!J$2:J$150,'Week 6 29th July'!D$2:D$150,'Rider List'!A38) -> 0 | AC38: =SUM(V38:AB38) -> 15
A39: 37 | B39: Ruth | C39: Friend | D39: F | F39: U10 | G39: G | H39: 2G | J39: 190 | K39: 34.18 | M39: =SUMIFS('Week 1 13th May'!I$2:I$150,'Week 1 13th May'!D$2:D$150,'Rider List'!A39) -> 32 | N39: =SUMIFS('Week 2 20th May'!I$2:I$150,'Week 2 20th May'!D$2:D$150,'Rider List'!A39) -> 36 | O39: =SUMIFS('Week 3 3rd June'!I$2:I$200,'Week 3 3rd June'!D$2:D$200,'Rider List'!A39) -> 36 | P39: =SUMIFS('Week 4 8th July'!I$2:I$200,'Week 4 8th July'!D$2:D$200,'Rider List'!A39) -> 56 | Q39: =SUMIFS('Week 5 22nd July'!I$2:I$200,'Week 5 22nd July'!D$2:D$200,'Rider List'!A39) -> 79 | R39: =SUMIFS('Week 6 29th July'!I$2:I$200,'Week 6 29th July'!D$2:D$200,'Rider List'!A39) -> 0 | T39: =SUM(M39:S39) -> 239 | W39: =SUMIFS('Week 2 20th May'!J$2:J$150,'Week 2 20th May'!D$2:D$150,'Rider List'!A39) -> 0 | X39: =SUMIFS('Week 3 3rd June'!J$2:J$150,'Week 3 3rd June'!D$2:D$150,'Rider List'!A39) -> 5 | Y39: =SUMIFS('Week 4 8th July'!J$2:J$150,'Week 4 8th July'!D$2:D$150,'Rider List'!A39) -> 1 | Z39: =SUMIFS('Week 5 22nd July'!J$2:J$150,'Week 5 22nd July'!D$2:D$150,'Rider List'!A39) -> 3 | AA39: =SUMIFS('Week 6 29th July'!J$2:J$150,'Week 6 29th July'!D$2:D$150,'Rider List'!A39) -> 0 | AC39: =SUM(V39:AB39) -> 9
A40: 38 | B40: George | C40: Charlton | D40: M | E40: Otley CC | F40: U8 | G40: B | H40: 3B | J40: 180 | K40: 33.49 | M40: =SUMIFS('Week 1 13th May'!I$2:I$150,'Week 1 13th May'!D$2:D$150,'Rider List'!A40) -> 20 | N40: =SUMIFS('Week 2 20th May'!I$2:I$150,'Week 2 20th May'!D$2:D$150,'Rider List'!A40) -> 18 | O40: =SUMIFS('Week 3 3rd June'!I$2:I$200,'Week 3 3rd June'!D$2:D$200,'Rider List'!A40) -> 8 | P40: =SUMIFS('Week 4 8th July'!I$2:I$200,'Week 4 8th July'!D$2:D$200,'Rider List'!A40) -> 0 | Q40: =SUMIFS('Week 5 22nd July'!I$2:I$200,'Week 5 22nd July'!D$2:D$200,'Rider List'!A40) -> 0 | R40: =SUMIFS('Week 6 29th July'!I$2:I$200,'Week 6 29th July'!D$2:D$200,'Rider List'!A40) -> 0 | T40: =SUM(M40:S40) -> 46 | W40: =SUMIFS('Week 2 20th May'!J$2:J$150,'Week 2 20th May'!D$2:D$150,'Rider List'!A40) -> 0 | X40: =SUMIFS('Week 3 3rd June'!J$2:J$150,'Week 3 3rd June'!D$2:D$150,'Rider List'!A40) -> 2 | Y40: =SUMIFS('Week 4 8th July'!J$2:J$150,'Week 4 8th July'!D$2:D$150,'Rider List'!A40) -> 0 | Z40: =SUMIFS('Week 5 22nd July'!J$2:J$150,'Week 5 22nd July'!D$2:D$150,'Rider List'!A40) -> 0 | AA40: =SUMIFS('Week 6 29th July'!J$2:J$150,'Week 6 29th July'!D$2:D$150,'Rider List'!A40) -> 0 | AC40: =SUM(V40:AB40) -> 2
A41: 40 | B41: Mark | C41: Ketteringham | D41: M | E41: Harrogate Nova CC | F41: U12 | G41: B | H41: 1B | I41: 1252192 | J41: 50 | K41: 22.65 | M41: =SUMIFS('Week 1 13th May'!I$2:I$150,'Week 1 13th May'!D$2:D$150,'Rider List'!A41) -> 63 | N41: =SUMIFS('Week 2 20th May'!I$2:I$150,'Week 2 20th May'!D$2:D$150,'Rider List'!A41) -> 72 | O41: =SUMIFS('Week 3 3rd June'!I$2:I$200,'Week 3 3rd June'!D$2:D$200,'Rider List'!A41) -> 93 | P41: =SUMIFS('Week 4 8th July'!I$2:I$200,'Week 4 8th July'!D$2:D$200,'Rider List'!A41) -> 95 | Q41: =SUMIFS('Week 5 22nd July'!I$2:I$200,'Week 5 22nd July'!D$2:D$200,'Rider List'!A41) -> 0 | R41: =SUMIFS('Week 6 29th July'!I$2:I$200,'Week 6 29th July'!D$2:D$200,'Rider List'!A41) -> 96 | T41: =SUM(M41:S41) -> 419 | W41: =SUMIFS('Week 2 20th May'!J$2:J$150,'Week 2 20th May'!D$2:D$150,'Rider List'!A41) -> 2 | X41: =SUMIFS('Week 3 3rd June'!J$2:J$150,'Week 3 3rd June'!D$2:D$150,'Rider List'!A41) -> 3 | Y41: =SUMIFS('Week 4 8th July'!J$2:J$150,'Week 4 8th July'!D$2:D$150,'Rider List'!A41) -> 1 | Z41: =SUMIFS('Week 5 22nd July'!J$2:J$150,'Week 5 22nd July'!D$2:D$150,'Rider List'!A41) -> 0 | AA41: =SUMIFS('Week 6 29th July'!J$2:J$150,'Week 6 29th July'!D$2:D$150,'Rider List'!A41) -> 5 | AC41: =SUM(V41:AB41) -> 11
A42: 41 | B42: Elliot | C42: Islip | D42: M | F42: U8 | G42: B | H42: 4B | J42: 220 | K42: 39.06 | M42: =SUMIFS('Week 1 13th May'!I$2:I$150,'Week 1 13th May'!D$2:D$150,'Rider List'!A42) -> 20 | N42: =SUMIFS('Week 2 20th May'!I$2:I$150,'Week 2 20th May'!D$2:D$150,'Rider List'!A42) -> 12 | O42: =SUMIFS('Week 3 3rd June'!I$2:I$200,'Week 3 3rd June'!D$2:D$200,'Rider List'!A42) -> 0 | P42: =SUMIFS('Week 4 8th July'!I$2:I$200,'Week 4 8th July'!D$2:D$200,'Rider List'!A42) -> 9 | Q42: =SUMIFS('Week 5 22nd July'!I$2:I$200,'Week 5 22nd July'!D$2:D$200,'Rider List'!A42) -> 0 | R42: =SUMIFS('Week 6 29th July'!I$2:I$200,'Week 6 29th July'!D$2:D$200,'Rider List'!A42) -> 0 | T42: =SUM(M42:S42) -> 41 | W42: =SUMIFS('Week 2 20th May'!J$2:J$150,'Week 2 20th May'!D$2:D$150,'Rider List'!A42) -> 5 | X42: =SUMIFS('Week 3 3rd June'!J$2:J$150,'Week 3 3rd June'!D$2:D$150,'Rider List'!A42) -> 0 | Y42: =SUMIFS('Week 4 8th July'!J$2:J$150,'Week 4 8th July'!D$2:D$150,'Rider List'!A42) -> 5 | Z42: =SUMIFS('Week 5 22nd July'!J$2:J$150,'Week 5 22nd July'!D$2:D$150,'Rider List'!A42) -> 0 | AA42: =SUMIFS('Week 6 29th July'!J$2:J$150,'Week 6 29th July'!D$2:D$150,'Rider List'!A42) -> 0 | AC42: =SUM(V42:AB42) -> 10
A43: 42 | B43: Lennart | C43: Rost | D43: M | E43: Leeds Mercury Cycling Club | F43: U12 | G43: B | H43: 2B | J43: 140 | K43: 29.38 | M43: =SUMIFS('Week 1 13th May'!I$2:I$150,'Week 1 13th May'!D$2:D$150,'Rider List'!A43) -> 0 | N43: =SUMIFS('Week 2 20th May'!I$2:I$150,'Week 2 20th May'!D$2:D$150,'Rider List'!A43) -> 18 | O43: =SUMIFS('Week 3 3rd June'!I$2:I$200,'Week 3 3rd June'!D$2:D$200,'Rider List'!A43) -> 0 | P43: =SUMIFS('Week 4 8th July'!I$2:I$200,'Week 4 8th July'!D$2:D$200,'Rider List'!A43) -> 27 | Q43: =SUMIFS('Week 5 22nd July'!I$2:I$200,'Week 5 22nd July'!D$2:D$200,'Rider List'!A43) -> 29 | R43: =SUMIFS('Week 6 29th July'!I$2:I$200,'Week 6 29th July'!D$2:D$200,'Rider List'!A43) -> 0 | T43: =SUM(M43:S43) -> 74 | W43: =SUMIFS('Week 2 20th May'!J$2:J$150,'Week 2 20th May'!D$2:D$150,'Rider List'!A43) -> 5 | X43: =SUMIFS('Week 3 3rd June'!J$2:J$150,'Week 3 3rd June'!D$2:D$150,'Rider List'!A43) -> 0 | Y43: =SUMIFS('Week 4 8th July'!J$2:J$150,'Week 4 8th July'!D$2:D$150,'Rider List'!A43) -> 1 | Z43: =SUMIFS('Week 5 22nd July'!J$2:J$150,'Week 5 22nd July'!D$2:D$150,'Rider List'!A43) -> 0 | AA43: =SUMIFS('Week 6 29th July'!J$2:J$150,'Week 6 29th July'!D$2:D$150,'Rider List'!A43) -> 0 | AC43: =SUM(V43:AB43) -> 6
...

Sheet Week 1 13th May
A1: Race No. | B1: Event Name | C1: Position | D1: Rider No | E1: Name | F1: Surname | G1: Club | H1: Age | I1: Points | J1: Handicap Points
A2: 2 | B2: Freewheel U8 Girls 1 Lap Sprint | C2: 1 | D2: 28 | E2: Mary | F2: Venning | G2: Leeds Mercury Cycling Club | H2: U8 | I2: 12
C3: 2 | D3: 5 | E3: Florence | F3: Bell | G3: West Riding Track League | H3: U8 | I3: 11
C4: 3 | D4: 14 | E4: Holly | F4: Hobbs | G4: West Riding Track League | H4: U8 | I4: 10
C5: 4 | D5: 12 | E5: Dori | F5: Hindle | G5: Shibden Cycling Club | H5: U8 | I5: 9
C6: 5 | D6: 34 | E6: Arpita | F6: Kaulgud | H6: U8 | I6: 8
A8: 3 | B8: Freewheel U8 Boys 1 Lap Sprint | C8: 1 | D8: 11 | E8: Thomas | F8: Hetherington | G8: Leeds Mercury Cycling Club | H8: U8 | I8: 12
C9: 2 | D9: 38 | E9: George | F9: Charlton | G9: Otley CC | H9: U8 | I9: 11
C10: 3 | D10: 41 | E10: Elliot | F10: Islip | H10: U8 | I10: 10
C11: 4 | D11: 24 | E11: Ewan | F11: Plumb | G11: Huddersfield Star Wheelers | H11: U8 | I11: 9
C12: 5 | D12: 32 | E12: Billy | F12: Wise | G12: Northern Outlaws | H12: U8 | I12: 8
C13: 6 | D13: 4 | E13: Bertie | F13: Bell | G13: Leeds Mercury Cycling Club | H13: U8 | I13: 7
C14: 7 | D14: 26 | E14: Oliver | F14: Shimmin | G14: Albarosa Cycling Club | H14: U8
C15: 8 | D15: 29 | E15: Arthur | F15: Venning | G15: Leeds Mercury Cycling Club | H15: U8
A17: 4 | B17: Freewheel U10 Girls 1 Lap Sprint | C17: 1 | D17: 2 | E17: Isla | F17: Aylward | G17: Otley CC | H17: U10 | I17: 18
C18: 2 | D18: 16 | E18: Amy | F18: Hodgkins | G18: Otley CC | H18: U10 | I18: 17
C19: 3 | D19: 37 | E19: Ruth | F19: Friend | H19: U10 | I19: 16
C20: 4 | D20: 44 | E20: Olivia | F20: Coldwell | G20: Bramley Wheelers | H20: U10 | I20: 15
A22: 5 | B22: Freewheel U10 Boys 1 Lap Sprint | C22: 1 | D22: 20 | E22: Daniel | F22: Middlebrooke | G22: Otley CC | H22: U10 | I22: 18
C23: 2 | D23: 33 | E23: Jacob | F23: Rook | G23: East Bradford CC | H23: U10 | I23: 17
C24: 3 | D24: 25 | E24: Henry | F24: Shimmin | G24: Albarosa Cycling Club | H24: U10 | I24: 16
C25: 4 | D25: 8 | E25: Vaughn | F25: Fitzgerald | G25: Bronte Tykes Cycling Club | H25: U10 | I25: 15
C26: 5 | D26: 7 | E26: Ben | F26: Crowther | G26: Leeds Mercury Cycling Club | H26: U10 | I26: 14
C27: 6 | D27: 19 | E27: Flynn | F27: Lambley | G27: Huddersfield Star Wheelers | H27: U10 | I27: 13
C28: 7 | D28: 23 | E28: Sam | F28: Omar | G28: West Riding Track League | H28: U10
A30: 6 | B30: Freewheel U12 Girls 1 Lap Sprint | C30: 1 | D30: 21 | E30: Abigail | F30: Miller | G30: Clifton CC | H30: U12 | I30: 24
C31: 2 | D31: 6 | E31: Katherine | F31: Bucknell | G31: Leeds Mercury Cycling Club | H31: U12 | I31: 23
C32: 3 | D32: 31 | E32: Iona | F32: Jackson | G32: Albarosa Cycling Club | H32: U12 | I32: 22
C33: 4 | D33: 43 | E33: Chloe | F33: Coldwell | G33: Bramley Wheelers | H33: U12 | I33: 21
A35: 7 | B35: Freewheel U12 Boys 1 Lap Sprint | C35: 1 | D35: 35 | E35: Joshua | F35: Daly | G35: Shibden Cycling Club | H35: U10 | I35: 24
C36: 2 | D36: 22 | E36: Jody | F36: Mills | G36: Huddersfield Star Wheelers | H36: U12 | I36: 23
C37: 3 | D37: 13 | E37: Ryden | F37: Hindle | G37: Shibden Cycling Club | H37: U12 | I37: 22
C38: 4 | D38: 40 | E38: Mark | F38: Ketteringham | G38: Harrogate Nova CC | H38: U12 | I38: 21
A40: 8 | B40: Freewheel U8 Girls 1 Lap Scratch | C40: 1 | D40: 28 | E40: Mary | F40: Venning | G40: Leeds Mercury Cycling Club | H40: U8 | I40: 12
C41: 2 | D41: 5 | E41: Florence | F41: Bell | G41: West Riding Track League | H41: U8 | I41: 11
C42: 3 | D42: 14 | E42: Holly | F42: Hobbs | G42: West Riding Track League | H42: U8 | I42: 10
C43: 4 | D43: 34 | E43: Arpita | F43: Kaulgud | H43: U8 | I43: 9
C44: 5 | D44: 12 | E44: Dori | F44: Hindle | G44: Shibden Cycling Club | H44: U8 | I44: 8
A46: 9 | B46: Freewheel U8 Boys 1 Lap Scratch | C46: 1 | D46: 11 | E46: Thomas | F46: Hetherington | G46: Leeds Mercury Cycling Club | H46: U8 | I46: 12
C47: 2 | D47: 4 | E47: Bertie | F47: Bell | G47: Leeds Mercury Cycling Club | H47: U8 | I47: 11
...

Sheet Week 2 20th May
A1: Race No. | B1: Event Name | C1: Position | D1: Rider No | E1: Name | F1: Surname | G1: Club | H1: Age | I1: Points | J1: Handicap Points
A2: 2 | B2: Group 4 Boys 1 Lap Scratch | C2: 1 | D2: 41 | E2: Elliot | F2: Islip | H2: U8 | I2: 6
C3: 2 | D3: 26 | E3: Oliver | F3: Shimmin | G3: Albarosa Cycling Club | H3: U8 | I3: 5
C4: 3 | D4: 29 | E4: Arthur | F4: Venning | G4: Leeds Mercury Cycling Club | H4: U8 | I4: 4
A6: 3 | B6: Group 2 Girls 1 Lap Scratch | C6: 1 | D6: 37 | E6: Ruth | F6: Friend | H6: U10 | I6: 18
C7: 2 | D7: 14 | E7: Holly | F7: Hobbs | G7: West Riding Track League | H7: U8 | I7: 17
C8: 3 | D8: 44 | E8: Olivia | F8: Coldwell | G8: Bramley Wheelers | H8: U10 | I8: 16
C9: 4 | D9: 34 | E9: Arpita | F9: Kaulgud | H9: U8 | I9: 15
A11: 4 | B11: Group 3 Boys 2 Lap Scratch | C11: 1 | D11: 11 | E11: Thomas | F11: Hetherington | G11: Leeds Mercury Cycling Club | H11: U8 | I11: 12
C12: 2 | D12: 38 | E12: George | F12: Charlton | G12: Otley CC | H12: U8 | I12: 11
C13: 3 | D13: 4 | E13: Bertie | F13: Bell | G13: Leeds Mercury Cycling Club | H13: U8 | I13: 10
C14: 4 | D14: 7 | E14: Ben | F14: Crowther | G14: Leeds Mercury Cycling Club | H14: U10 | I14: 9
C15: 5 | D15: 19 | E15: Flynn | F15: Lambley | G15: Huddersfield Star Wheelers | H15: U10 | I15: 8
C16: 6 | D16: 24 | E16: Ewan | F16: Plumb | G16: Huddersfield Star Wheelers | H16: U8 | I16: 7
A18: 5 | B18: Group 2 Boys 2 Lap Scratch | C18: 1 | D18: 42 | E18: Lennart | F18: Rost | G18: Leeds Mercury Cycling Club | H18: U12 | I18: 18
C19: 2 | D19: 36 | E19: Joseph | F19: Friend | H19: U12 | I19: 17
C20: 3 | D20: 25 | E20: Henry | F20: Shimmin | G20: Albarosa Cycling Club | H20: U10 | I20: 16
C21: 4 | D21: 8 | E21: Vaughn | F21: Fitzgerald | G21: Bronte Tykes Cycling Club | H21: U10 | I21: 15
A23: 6 | B23: Group 1 Boys 2 Lap Scratch | C23: 1 | D23: 40 | E23: Mark | F23: Ketteringham | G23: Harrogate Nova CC | H23: U12 | I23: 24
C24: 2 | D24: 22 | E24: Jody | F24: Mills | G24: Huddersfield Star Wheelers | H24: U12 | I24: 23
C25: 3 | D25: 15 | E25: Alex | F25: Hodgkins | G25: Otley CC | H25: U12 | I25: 22
C26: 4 | D26: 30 | E26: Jack | F26: Wilks | G26: Otley CC | H26: U12 | I26: 21
C27: 5 | D27: 18 | E27: Billy | F27: Ladle | G27: West Riding Track League | H27: U10 | I27: 20
C28: 6 | D28: 9 | E28: Oscar | F28: Hall | G28: Otley CC | H28: U12 | I28: 19
C29: 7 | D29: 35 | E29: Joshua | F29: Daly | G29: Shibden Cycling Club | H29: U10
C30: 8 | D30: 20 | E30: Daniel | F30: Middlebrooke | G30: Otley CC | H30: U10
C31: 9 | D31: 1 | E31: Ruairdh | F31: Aylward | G31: Otley CC | H31: U12
C32: 10 | D32: 17 | E32: Theo | F32: Hutter | G32: Leeds Mercury Cycling Club | H32: U12
C33: 11 | D33: 33 | E33: Jacob | F33: Rook | G33: East Bradford CC | H33: U10
C34: 12 | D34: 46 | E34: Joshua | F34: Turton | G34: East Bradford CC | H34: U10
A36: 7 | B36: Group 1 Girls 2 Lap Scratch | C36: 1 | D36: 21 | E36: Abigail | F36: Miller | G36: Clifton CC | H36: U12 | I36: 24
C37: 2 | D37: 6 | E37: Katherine | F37: Bucknell | G37: Leeds Mercury Cycling Club | H37: U12 | I37: 23
C38: 3 | D38: 2 | E38: Isla | F38: Aylward | G38: Otley CC | H38: U10 | I38: 22
C39: 4 | D39: 31 | E39: Iona | F39: Jackson | G39: Albarosa Cycling Club | H39: U12 | I39: 21
C40: 5 | D40: 3 | E40: Hannah | F40: Back | G40: Leeds Mercury Cycling Club | H40: U12 | I40: 20
C41: 6 | D41: 16 | E41: Amy | F41: Hodgkins | G41: Otley CC | H41: U10 | I41: 19
C42: 7 | D42: 28 | E42: Mary | F42: Venning | G42: Leeds Mercury Cycling Club | H42: U8
C43: 8 | D43: 5 | E43: Florence | F43: Bell | G43: West Riding Track League | H43: U8
A45: 8 | B45: Group 4 Boys 1 Lap Sprint | C45: 1 | D45: 41 | E45: Elliot | F45: Islip | H45: U8 | I45: 6
C46: 2 | D46: 26 | E46: Oliver | F46: Shimmin | G46: Albarosa Cycling Club | H46: U8 | I46: 5
...

Sheet Week 3 3rd June
A1: Race No. | B1: Event Name | C1: Position | D1: Rider No | E1: Name | F1: Surname | G1: Club | H1: Age | I1: Points | J1: Handicap Points
A2: 2 | B2: Group 4 Boys 1 Lap Scratch | C2: 1 | D2: 26 | E2: Oliver | F2: Shimmin | G2: Albarosa Cycling Club | H2: U8 | I2: 6
C3: 2 | D3: 47 | E3: Jack | F3: Wormwell | H3: U8 | I3: 5
C4: 3 | D4: 29 | E4: Arthur | F4: Venning | G4: Leeds Mercury Cycling Club | H4: U8 | I4: 4
A6: 3 | B6: Group 2 Girls 1 Lap Scratch | C6: 1 | D6: 37 | E6: Ruth | F6: Friend | H6: U10 | I6: 18
C7: 2 | D7: 28 | E7: Mary | F7: Venning | G7: Leeds Mercury Cycling Club | H7: U8 | I7: 17
C8: 3 | D8: 5 | E8: Florence | F8: Bell | G8: West Riding Track League | H8: U8 | I8: 16
C9: 4 | D9: 14 | E9: Holly | F9: Hobbs | G9: West Riding Track League | H9: U8 | I9: 15
C10: 5 | D10: 34 | E10: Arpita | F10: Kaulgud | H10: U8 | I10: 14
C11: 6 | D11: 12 | E11: Dori | F11: Hindle | G11: Shibden Cycling Club | H11: U8 | I11: 13
A13: 4 | B13: Group 3 Boys 2 Lap Scratch | C13: 1 | D13: 48 | E13: Arthur | F13: Bairstow | G13: East Bradford CC | H13: U8 | I13: 12
C14: 2 | D14: 49 | E14: Henry | F14: Bairstow | G14: East Bradford CC | H14: U8 | I14: 11
C15: 3 | D15: 11 | E15: Thomas | F15: Hetherington | G15: Leeds Mercury Cycling Club | H15: U8 | I15: 10
C16: 4 | D16: 7 | E16: Ben | F16: Crowther | G16: Leeds Mercury Cycling Club | H16: U10 | I16: 9
C17: 5 | D17: 38 | E17: George | F17: Charlton | G17: Otley CC | H17: U8 | I17: 8
C18: 6 | D18: 19 | E18: Flynn | F18: Lambley | G18: Huddersfield Star Wheelers | H18: U10 | I18: 7
C19: 7 | D19: 24 | E19: Ewan | F19: Plumb | G19: Huddersfield Star Wheelers | H19: U8
C20: 8 | D20: 4 | E20: Bertie | F20: Bell | G20: Leeds Mercury Cycling Club | H20: U8
A22: 5 | B22: Group 2 Boys 2 Lap Scratch | C22: 1 | D22: 20 | E22: Daniel | F22: Middlebrooke | G22: Otley CC | H22: U10 | I22: 18
C23: 2 | D23: 1 | E23: Ruairdh | F23: Aylward | G23: Otley CC | H23: U12 | I23: 17
C24: 3 | D24: 46 | E24: Joshua | F24: Turton | G24: East Bradford CC | H24: U10 | I24: 16
C25: 4 | D25: 33 | E25: Jacob | F25: Rook | G25: East Bradford CC | H25: U10 | I25: 15
C26: 5 | D26: 36 | E26: Joseph | F26: Friend | H26: U12 | I26: 14
C27: 6 | D27: 48 | E27: Arthur | F27: Bairstow | G27: East Bradford CC | H27: U8 | I27: 13
C28: 7 | D28: 17 | E28: Theo | F28: Hutter | G28: Leeds Mercury Cycling Club | H28: U12
C29: 8 | D29: 25 | E29: Henry | F29: Shimmin | G29: Albarosa Cycling Club | H29: U10
C30: 9 | D30: 49 | E30: Henry | F30: Bairstow | G30: East Bradford CC | H30: U8
A32: 6 | B32: Group 1 Boys 2 Lap Scratch | C32: 1 | D32: 40 | E32: Mark | F32: Ketteringham | G32: Harrogate Nova CC | H32: U12 | I32: 24
C33: 2 | D33: 18 | E33: Billy | F33: Ladle | G33: West Riding Track League | H33: U10 | I33: 23
C34: 3 | D34: 15 | E34: Alex | F34: Hodgkins | G34: Otley CC | H34: U12 | I34: 22
C35: 4 | D35: 35 | E35: Joshua | F35: Daly | G35: Shibden Cycling Club | H35: U10 | I35: 21
C36: 5 | D36: 9 | E36: Oscar | F36: Hall | G36: Otley CC | H36: U12 | I36: 20
C37: 6 | D37: 30 | E37: Jack | F37: Wilks | G37: Otley CC | H37: U12 | I37: 19
C38: 7 | D38: 22 | E38: Jody | F38: Mills | G38: Huddersfield Star Wheelers | H38: U12
C39: 8 | D39: 13 | E39: Ryden | F39: Hindle | G39: Shibden Cycling Club | H39: U12
A41: 7 | B41: Group 1 Girls 2 Lap Scratch | C41: 1 | D41: 21 | E41: Abigail | F41: Miller | G41: Clifton CC | H41: U12 | I41: 24
C42: 2 | D42: 6 | E42: Katherine | F42: Bucknell | G42: Leeds Mercury Cycling Club | H42: U12 | I42: 23
C43: 3 | D43: 31 | E43: Iona | F43: Jackson | G43: Albarosa Cycling Club | H43: U12 | I43: 22
C44: 4 | D44: 3 | E44: Hannah | F44: Back | G44: Leeds Mercury Cycling Club | H44: U12 | I44: 21
C45: 5 | D45: 2 | E45: Isla | F45: Aylward | G45: Otley CC | H45: U10 | I45: 20
...

Sheet Standings after 3 weeks
A1: West Riding Track League 2019 Free Wheel
A3: Rider Details | N3: Scratch Race Points | W3: Handicap Race Points
A4: Position | B4: No. | C4: Forename | D4: Name | E4: M/F | F4: Club/Team Name | G4: Cat. | H4: B/G | I4: Group | J4: BC Licence No. | K4: H/Cap | L4: TT Time | N4: Week 1 | O4: Week 2 | P4: Week 3 | Q4: Week 4 | R4: Week 5 | S4: Week 6 | T4: Week 7 | U4: Total Points | W4: Week 1 | X4: Week 2 | Y4: Week 3 | Z4: Week 4 | AA4: Week 5 | AB4: Week 6 | AC4: Week 7 | AD4: Total Points
A5: Under 8 Boys
